Workbook

Sheet Říjen 2021
A1: Ofenzívy klanu CORMA - Říjen 2021
A3: P.č. | B3: Datum | C3: Hodina | D3: Soupeř | E3: Ofenzíva | F3: Výsledek | G3: Výsledek celkem | H3: Mapa | I3: Velitel | J3: Celkem krabiček | K3: ∑ krabiček
A4: 1 | B4: 44471 | C4: 22.00 | D4: CS-EB 6.703 | E4: 6. bitva | G4: Porážka | I4: JohnyFiser
D5: Československý elektronický boj | E5: 5. bitva | F5: porážka | H5: Dubový lesík 2 | J5: 3842 | K5: =SUM(J5) -> 3842
E6: 4. bitva | F6: vítězství | H6: Karelie 1
E7: 3. bitva | F7: porážka | H7: Dubový lesík 2
E8: 2. bitva | F8: porážka | H8: Malinovka 2
E9: 1. bitva | F9: porážka | H9: Pouštní řeka 2
A11: 2 | B11: 44472 | C11: 21.00 | D11: _P1R_ 9.450 | E11: 6. bitva | F11: vítězství | G11: Porážka | H11: Dubový lesík 1 | I11: Kista3 | J11: 8509 | K11: =SUM(J5:J11) -> 12351
D12: Piranhass | E12: 5. bitva | F12: porážka | H12: Malinovka 1
E13: 4. bitva | F13: porážka | H13: Redshire 1
E14: 3. bitva | F14: vítězství | H14: Malinovka 2
E15: 2. bitva | F15: porážka | H15: Redshire 2
E16: 1. bitva | F16: vítězství | H16: Westfield 2
A18: 3 | B18: 44473 | C18: 21.00 | D18: ECDAT 9177 | E18: 6. bitva | G18: Vítězství | I18: JohnyFiser
D19: Kardesler takimi | E19: 5. bitva | F19: porážka | H19: Rybářský přístav 1 | J19: 24778 | K19: =SUM(J5,J11,J19) -> 37129
E20: 4. bitva | F20: vítězství | H20: Step 1
E21: 3. bitva | F21: porážka | H21: Rybářský přístav 1
E22: 2. bitva | F22: vítězství | H22: Step 1
E23: 1. bitva | F23: vítězství | H23: Redshire 2
A25: 4 | B25: 44474 | C25: 20.00 | D25: DAC_R 10.088 | E25: 6. bitva | G25: Remíza | I25: Kista3
D26: Divizia Armatei Carpati Romanniei | E26: 5. bitva | F26: vítězství | H26: Ruinberg 2 | J26: 10324 | K26: =SUM(J5,J11,J19,J26) -> 47453
E27: 4. bitva | F27: porážka | H27: Ruinberg 2
E28: 3. bitva | F28: vítězství | H28: Ruinberg 1
E29: 2. bitva | F29: porážka | H29: Ruinberg 1
E30: 1. bitva | F30: vítězství | H30: Step 2
A32: 5 | B32: 44474 | C32: 21.00 | D32: PHX-B 7.157 | E32: 6. bitva | G32: Porážka | I32: JohnyFiser
D33: Phoenix Bird | E33: 5. bitva | F33: vítězství | H33: Karelie 1 | J33: 5909 | K33: =SUM(J5,J11,J19,J26,J33) -> 53362
E34: 4. bitva | F34: porážka | H34: Redshire 2
E35: 3. bitva | F35: porážka | H35: Ensk 2
E36: 2. bitva | F36: porážka | H36: Prochorovka 1
E37: 1. bitva | F37: vítězství | H37: Rybářský přístav 1
A39: 6 | B39: 44475 | C39: 20.00 | D39: PA_CA 8.029 | E39: 6. bitva | F39: porážka | G39: Vítězství | H39: Prochorovka 2 | I39: Kista3
D40: Paquetes Camperos | E40: 5. bitva | F40: porážka | H40: Westfield 1 | J40: 24982 | K40: =SUM(J5,J11,J19,J26,J33,J40) -> 78344
E41: 4. bitva | F41: vítězství | H41: Prochorovka 1
E42: 3. bitva | F42: vítězství | H42: Step 2
E43: 2. bitva | F43: vítězství | H43: Malinovka 1
E44: 1. bitva | F44: porážka | H44: Prochorovka 2
A46: 7 | B46: 44475 | C46: 21.00 | D46: 4PBP 9.801 | E46: 6. bitva | F46: porážka | G46: Porážka | H46: Redshire 2 | I46: Kista3
D47: 4. Polska Brygada Pancerna | E47: 5. bitva | F47: porážka | H47: Ensk 2 | J47: 5948 | K47: =SUM(J5,J11,J19,J26,J33,J40,J47) -> 84292
...

Sheet Listopad 2021
A1: Ofenzívy klanu CORMA - Listopad 2021
A3: P.č. | B3: Datum | C3: Hodina | D3: Soupeř | E3: Ofenzíva | F3: Výsledek | G3: Výsledek celkem | H3: Mapa | I3: Velitel | J3: Celkem krabiček | K3: ∑ krabiček
A4: 1 | B4: 44501 | C4: 21.00 | D4: 6HOST 12.820 | E4: 6. bitva | F4: porážka | G4: Porážka | H4: Ensk 1 | I4: Kista3 | J4: 2496 | K4: =SUM(J4) -> 2496
D5: Ghosts_Of_The_Balkans | E5: 5. bitva | F5: porážka | H5: Prochorovka 2
E6: 4. bitva | F6: porážka | H6: Útesy 1
E7: 3. bitva | F7: porážka | H7: Murovanka 2
E8: 2. bitva | F8: vítězství | H8: Útesy 1
E9: 1. bitva | F9: porážka | H9: Redshire 1
A11: 2 | B11: 44502 | C11: 20.00 | D11: CSOH_ 10.318 | E11: 6. bitva | F11: porážka | G11: Porážka | H11: Ensk 1 | I11: JohnyFiser | J11: 3206 | K11: =SUM(K4,J11) -> 5702
D12: Českoslovenští ostří hoši_ | E12: 5. bitva | F12: porážka | H12: Malinovka 1
E13: 4. bitva | F13: porážka | H13: Rybářeský přístav 2
E14: 3. bitva | F14: vítězství | H14: Malinovka 1
E15: 2. bitva | F15: porážka | H15: Rybářský přístav 2
E16: 1. bitva | F16: porážka | H16: Prochorovka 2
A18: 3 | B18: 44502 | C18: 21.00 | D18: CRIS 11.148 | E18: 6. bitva | G18: Vítězství | I18: JohnyFiser | J18: 33037 | K18: =SUM(K11,J18) -> 38739
D19: Crystalnoir | E19: 5. bitva | F19: vítězství | H19: Malinovka 2
E20: 4. bitva | F20: porážka | H20: Doly 2
E21: 3. bitva | F21: vítězství | H21: Malinovka 2
E22: 2. bitva | F22: vítězství | H22: Murovanka 1
E23: 1. bitva | F23: vítězství | H23: Westfield 2
A25: 4 | B25: 44508 | C25: 20.00 | D25: PYRZ 10.252 | E25: 6. bitva | G25: Porážka | I25: VisionEn | J25: 2818 | K25: =SUM(K18,J25) -> 41557
D26: ..POYRAZ.. | E26: 5. bitva | F26: porážka | H26: Ensk 2
E27: 4. bitva | F27: porážka | H27: Malinovka 2
E28: 3. bitva | F28: porážka | H28: Rybářský přístav 1
E29: 2. bitva | F29: porážka | H29: Ruinberg 1
E30: 1. bitva | F30: vítězství | H30: Malinovka 2
A32: 5 | B32: 44509 | C32: 21.00 | D32: CROAT 9.122 | E32: 6. bitva | G32: Vítězství | I32: Kista3 | J32: 44876 | K32: =SUM(K25,J32) -> 86433
D33: -Nemá_Predaje- | E33: 5. bitva | F33: vítězství | H33: Murovanka 2
E34: 4. bitva | F34: vítězství | H34: Útesy 1
E35: 3. bitva | F35: vítězství | H35: Pouštní řeka 2
E36: 2. bitva | F36: vítězství | H36: Útesy 2
E37: 1. bitva | F37: remíza | H37: Murovanka 1
A39: 6 | B39: 44511 | C39: 21.00 | D39: FOTD 9.802 | E39: 6. bitva | F39: vítězství | G39: Remíza | H39: Útesy 1 | I39: BossBambus360 | J39: 11815 | K39: =SUM(K32,J39) -> 98248
D40: Fear Of The Dark | E40: 5. bitva | F40: vítězství | H40: Prochorovka 2
E41: 4. bitva | F41: porážka | H41: Útesy 1
E42: 3. bitva | F42: porážka | H42: Útesy 2
E43: 2. bitva | F43: vítězství | H43: Útesy 2
E44: 1. bitva | F44: porážka | H44: Prochorovka 2
A46: 7 | B46: 44512 | C46: 22.00 | D46: -SIS- 11.256 | E46: 6. bitva | G46: Porážka | I46: janysek7 | J46: 6050 | K46: =SUM(K39,J46) -> 104298
D47: Spider´s | E47: 5. bitva
...

Sheet Prosinec 2021
A1: Ofenzívy klanu CORMA - Prosinec 2021
A3: P.č. | B3: Datum | C3: Hodina | D3: Soupeř | E3: Ofenzíva | F3: Výsledek | G3: Výsledek celkem | H3: Mapa | I3: Velitel | J3: Celkem krabiček | K3: ∑ krabiček
A4: 1 | B4: 44531 | C4: 20.00 | D4: LT-W3 12.420 | E4: 6. bitva | G4: Porážka | I4: Kista3 | J4: 6687 | K4: =SUM(J4) -> 6687
D5: Lithuania Overtaking Control | E5: 5. bitva | F5: vítězství | H5: Redshire 1
E6: 4. bitva | F6: porážka | H6: Doly 1
E7: 3. bitva | F7: vítězství | H7: Redshire 1
E8: 2. bitva | F8: porážka | H8: Doly 2
E9: 1. bitva | F9: porážka | H9: Prochorovka 1
A11: 2 | B11: 44531 | C11: 21.00 | D11: L_FOX 10.228 | E11: 6. bitva | F11: porážka | G11: Porážka | H11: Murovanka 2 | I11: JohnyFiser | J11: 7054 | K11: =SUM(K4,J11) -> 13741
D12: Lonely Foxes | E12: 5. bitva | F12: porážka | H12: Útesy 1
E13: 4. bitva | F13: vítězství | H13: Murovanka 2
E14: 3. bitva | F14: vítězství | H14: Prochorovka 1
E15: 2. bitva | F15: porážka | H15: Rybářský přístav 2
E16: 1. bitva | F16: porážka | H16: Ruinberg 1
A18: 3 | B18: 44532 | C18: 21.00 | D18: PEPEK 6.665 | E18: 6. bitva | G18: Porážka | I18: JohnyFiser | J18: 1179 | K18: =SUM(K11,J18) -> 14920
D19: Boží ruka udeří | E19: 5. bitva
E20: 4. bitva | F20: porážka | H20: Dálnice 2
E21: 3. bitva | F21: porážka | H21: Redshire 2
E22: 2. bitva | F22: porážka | H22: Doly 2
E23: 1. bitva | F23: porážka | H23: Westfield 1
A25: 4 | B25: 44533 | C25: 21.00 | D25: NISZA 11.074 | E25: 6. bitva | G25: Porážka | I25: JohnyFiser | J25: 1273 | K25: =SUM(K18,J25) -> 16193
D26: Polska Brygada Pancerna Naszej Niszy | E26: 5. bitva
E27: 4. bitva | F27: porážka | H27: Dálnice 1
E28: 3. bitva | F28: porážka | H28: Prochorovka 2
E29: 2. bitva | F29: porážka | H29: Murovanka 1
E30: 1. bitva | F30: porážka | H30: Ruinberg 1
A32: 5 | B32: 44534 | C32: 21.00 | D32: PODIV 7.843 | E32: 6. bitva | F32: vítězství | G32: Vítězství | H32: Doly 1 | I32: JohnyFiser | J32: 36720 | K32: =SUM(K25,J32) -> 52913
D33: Povstalecká divize | E33: 5. bitva | F33: porážka | H33: Himmelsdorf 2
E34: 4. bitva | F34: vítězství | H34: Doly 2
E35: 3. bitva | F35: vítězství | H35: Malinovka 2
E36: 2. bitva | F36: vítězství | H36: Doly 2
E37: 1. bitva | F37: vítězství | H37: Pouštní řeka 1
A39: 6 | B39: 44534 | C39: 22.00 | D39: A-W-P 10.495 | E39: 6. bitva | G39: Porážka | I39: JohnyFiser | J39: 2881 | K39: =SUM(K32,J39) -> 55794
D40: Armia Wyzvolenia Polskiego | E40: 5. bitva | F40: porážka | H40: Dálnice 2
E41: 4. bitva | F41: porážka | H41: Redshire 1
D42: 15.10.2021 21.00h porážka | E42: 3. bitva | F42: porážka | H42: Doly 1
E43: 2. bitva | F43: porážka | H43: Murovanka 1
E44: 1. bitva | F44: vítězství | H44: Útesy 1
A46: 7 | B46: 44536 | C46: 20.00 | D46: PYRZ 10.252 | E46: 6. bitva | F46: porážka | G46: Porážka | H46: Dálnice 1 | I46: JohnyFiser | J46: 3331 | K46: =SUM(K39,J46) -> 59125
D47: ..POYRAZ.. | E47: 5. bitva | F47: porážka | H47: Prochorovka 1
...

Sheet Leden 2022
A1: Ofenzívy klanu CORMA - Leden 2022
A3: P.č. | B3: Datum | C3: Hodina | D3: Soupeř | E3: Ofenzíva | F3: Výsledek | G3: Výsledek celkem | H3: Mapa | I3: Velitel | J3: Celkem krabiček | K3: ∑ krabiček
A4: 1 | B4: 44562 | C4: 21.00 | D4: VA-HA 9.000 | E4: 6. bitva | G4: Vítězství | I4: JohnyFiser | J4: 24569 | K4: =SUM(J4) -> 24569
D5: Vataha | E5: 5. bitva | F5: porážka | H5: Prochorovka 2
E6: 4. bitva | F6: vítězství | H6: Westfield 2
E7: 3. bitva | F7: porážka | H7: Prochorovka 2
E8: 2. bitva | F8: vítězství | H8: Westfield 1
E9: 1. bitva | F9: vítězství | H9: Doly 1
A11: 2 | B11: 44562 | C11: 23.00 | D11: M-BB 9.742 | E11: 7. bitva | F11: porážka | G11: Remíza | H11: Himmelsdorf 2 | I11: JohnyFiser | J11: 12744 | K11: =SUM(K4,J11) -> 37313
D12: Magyar Békés Brigád | E12: 6. bitva | F12: porážka | H12: Westfield 2
E13: 5. bitva | F13: porážka | H13: Klidné pobřeží 2
E14: 4. bitva | F14: vítězství | H14: Westfield 1
E15: 3. bitva | F15: vítězství | H15: Himmelsdorf 1
E16: 2. bitva | F16: vítězství | H16: Útesy 1
E17: 1. bitva | F17: porážka | H17: Doly 2
A19: 3 | B19: 44563 | C19: 20.00 | D19: SAYG1 9.676 | E19: 6. bitva | G19: Vítězství | I19: Hajime92 | J19: 44087 | K19: =SUM(K11,J19) -> 81400
D20: SAYGI | E20: 5. bitva
E21: 4. bitva | F21: vítězství | H21: Prochorovka 2
E22: 3. bitva | F22: vítězství | H22: Pouštní řeka 1
E23: 2. bitva | F23: vítězství | H23: Westfield 1
E24: 1. bitva | F24: vítězství | H24: Pouštní řeka 2
A27: 4 | B27: 44563 | C27: 21.00 | D27: REDEG 10.139 | E27: 6. bitva | G27: Porážka | I27: Hajime92 | J27: 3067 | K27: =SUM(K19,J27) -> 84467
D28: Red_Eagles | E28: 5. bitva | F28: porážka | H28: Doly 1
E29: 4. bitva | F29: porážka | H29: Klidné pobřeží 1
E30: 3. bitva | F30: porážka | H30: Útesy 1
E31: 2. bitva | F31: porážka | H31: Ensk 1
E32: 1. bitva | F32: vítězství | H32: Doly 2
A34: 5 | B34: 44564 | C34: 20.00 | D34: SOBPL 8.450 | E34: 6. bitva | F34: porážka | G34: Vítězství | H34: Dálnice 2 | I34: Hajime92 | J34: 35783 | K34: =SUM(K27,J34) -> 120250
D35: Sobieski PL | E35: 5. bitva | F35: vítězství | H35: Ensk 1
E36: 4. bitva | F36: vítězství | H36: Redshire 1
E37: 3. bitva | F37: vítězství | H37: Murovanka 2
E38: 2. bitva | F38: porážka | H38: Redshire 2
E39: 1. bitva | F39: vítězství | H39: Doly 2
A41: 6 | B41: 44564 | C41: 21.00 | D41: 3VCZ 8.020 | E41: 6. bitva | G41: Vítězství | I41: JohnyFiser | J41: 44208 | K41: =SUM(K34,J41) -> 164458
D42: Veni Vidi Vici CZ | E42: 5. bitva
E43: 4. bitva | F43: vítězství | H43: Dálnice 2
E44: 3. bitva | F44: vítězství | H44: Redshire 2
E45: 2. bitva | F45: vítězství | H45: Dubový lesík 2
E46: 1. bitva | F46: vítězství | H46: Útesy 1
A48: 7 | B48: 44565 | C48: 19.00 | D48: _MLK_ 7.172 | E48: 6. bitva | F48: porážka | G48: Porážka | H48: Murovanka 2 | I48: Hajime92 | J48: 7106 | K48: =SUM(K41,J48) -> 171564
...

Sheet Únor 2022
A1: Ofenzívy klanu CORMA - Únor 2022
A3: P.č. | B3: Datum | C3: Hodina | D3: Soupeř | E3: Ofenzíva | F3: Výsledek | G3: Výsledek celkem | H3: Mapa | I3: Velitel | J3: Celkem krabiček | K3: ∑ krabiček
A4: 1 | B4: 44593 | C4: 21.00 | D4: WWOLF 9.236 | E4: 6. bitva | G4: Vítězství | I4: JohnyFiser | J4: 44081 | K4: =SUM(J4) -> 44081
D5: Wolf Warrior | E5: 5. bitva | F5: vítězství | H5: Ensk 1
D6: 20.1.2022 21.00h vítězství | E6: 4. bitva | F6: vítězství | H6: Himmelsdorf 1
E7: 3. bitva | F7: vítězství | H7: Dubový lesík 1
E8: 2. bitva | F8: vítězství | H8: Prochorovka 1
E9: 1. bitva | F9: porážka | H9: Murovanka 1
A11: 2 | B11: 44593 | C11: 22.00 | D11: GAMON 9.325 | E11: 7. bitva | F11: vítězství | G11: Porážka | H11: Doly 2 | I11: SVKjohny | J11: 9148 | K11: =SUM(K4,J11) -> 53229
D12: Gamonie | E12: 6. bitva | F12: vítězství | H12: Westfield 2
E13: 5. bitva | F13: porážka | H13: Doly 2
E14: 4. bitva | F14: vítězství | H14: Westfield 2
E15: 3. bitva | F15: porážka | H15: Doly 1
E16: 2. bitva | F16: porážka | H16: Pouštní řeka 1
E17: 1. bitva | F17: porážka | H17: Útesy 1
A19: 3 | B19: 44595 | C19: 21.00 | D19: C-D-L 7.843 | E19: 6. bitva | F19: porážka | G19: Porážka | H19: Prochorovka 1 | I19: Kista1 | J19: 7480 | K19: =SUM(K11,J19) -> 60709
D20: Clanul Dacilor Liberi | E20: 5. bitva | F20: vítězství | H20: Dubový lesík 2
E21: 4. bitva | F21: porážka | H21: Prochorovka 1
E22: 3. bitva | F22: porážka | H22: Doly 1
E23: 2. bitva | F23: vítězství | H23: Prochorovka 2
E24: 1. bitva | F24: porážka | H24: Himmelsdorf 2
A27: 4 | B27: 44596 | C27: 21.00 | D27: VOSY 9.729 | E27: 6. bitva | G27: Remíza | I27: Kista1 | J27: 10263 | K27: =SUM(K19,J27) -> 70972
D28: Vojenský Syndikát | E28: 5. bitva
D29: 19.1.2022 21.00 vítězství | E29: 4. bitva | F29: vítězství | H29: Prochorovka 1
E30: 3. bitva | F30: vítězství | H30: Dubový lesík 2
E31: 2. bitva | F31: porážka | H31: Prochorovka 2
E32: 1. bitva | F32: remíza | H32: Westfield 1
A34: 5 | B34: 44596 | C34: 22.00 | D34: BOT_ 11.822 | E34: 7. bitva | G34: Remíza | I34: Kista1 | J34: 11980 | K34: =SUM(K27,J34) -> 82952
D35: Borbena Obuka Tenkista | E35: 6. bitva
E36: 5. bitva | F36: vítězství | H36: Prochorovka 1
E37: 4. bitva | F37: porážka | H37: Malinovka 2
E38: 3. bitva | F38: vítězství | H38: Prochorovka 2
E39: 2. bitva | F39: porážka | H39: Malinovka 1
E40: 1. bitva | F40: vítězství | H40: Himmelsdorf 2
A42: 6 | B42: 44597 | C42: 20.00 | D42: B_BOY 9.785 | E42: 7. bitva | G42: Remíza | I42: JohnyFiser | J42: 11846 | K42: =SUM(K34,J42) -> 94798
D43: Bad Boys Balkan | E43: 6. bitva
E44: 5. bitva | F44: vítězství | H44: Redshire 2
E45: 4. bitva | F45: porážka | H45: Malinovka 2
E46: 3. bitva | F46: vítězství | H46: Redshire 1
E47: 2. bitva | F47: porážka | H47: Malinovka 2
...

Sheet Březen 2022
A1: Ofenzívy klanu CORMA - Březen 2022
A3: P.č. | B3: Datum | C3: Hodina | D3: Soupeř | E3: Ofenzíva | F3: Výsledek | G3: Výsledek celkem | H3: Mapa | I3: Velitel | J3: Celkem krabiček | K3: ∑ krabiček
A4: 1 | B4: 44621 | C4: 20.00 | D4: HRVJ 12.548 | E4: 7. bitva | G4: Porážka | I4: ruzatulipan | J4: 3352 | K4: =SUM(J4) -> 3352
D5: Hrvatski Jastrebovi | E5: 6. bitva | F5: porážka | H5: Himmelsdorf 2
E6: 5. bitva | F6: porážka | H6: Murovanka 2
E7: 4. bitva | F7: vítězství | H7: Himmelsdorf 1
E8: 3. bitva | F8: porážka | H8: Murovanka 1
E9: 2. bitva | F9: porážka | H9: Doly 1
E10: 1. bitva | F10: porážka | H10: Rybářský přístav 1
A12: 2 | B12: 44623 | C12: 20.00 | D12: EXLEG 10.826 | E12: 7. bitva | G12: Porážka | I12: ruzatulipan | J12: 1098 | K12: =SUM(K4,J12) -> 4450
D13: Exiles Legion | E13: 6. bitva
E14: 5. bitva
E15: 4. bitva | F15: porážka | H15: Himmelsdorf 1
E16: 3. bitva | F16: porážka | H16: Prochorovka 1
E17: 2. bitva | F17: porážka | H17: Malinovka 1
E18: 1. bitva | F18: porážka | H18: El Haluf 2
A20: 3 | B20: 44623 | C20: 21.00 | D20: PIVE 11.912 | E20: 7. bitva | G20: Porážka | I20: JohnyFiser | J20: 6451 | K20: =SUM(K12,J20) -> 10901
D21: Pirates Veteranos | E21: 6. bitva
D22: 14.12.2021 21.00h porážka | E22: 5. bitva | F22: porážka | H22: Pouštní řeka 2
D23: 7.1.2022 20.00h porážka | E23: 4. bitva | F23: porážka | H23: Malinovka 2
D24: 18.1.2022 19.00h remíza | E24: 3. bitva | F24: porážka | H24: Klidné pobřeží 2
D25: 29.1.2022 19.00h remíza | E25: 2. bitva | F25: vítězství | H25: Malinovka 2
E26: 1. bitva | F26: vítězství | H26: Doly 1
A28: 4 | B28: 44624 | C28: 21.00 | D28: -ASI- 12.024 | E28: 7. bitva | G28: Porážka | I28: Kista3 | J28: 6505 | K28: =SUM(K20,J28) -> 17406
D29: ASI TankCilar | E29: 6. bitva
D30: 23.2.2022 21.00h remíza | E30: 5. bitva | F30: porážka | H30: Pouštní řeka 1
E31: 4. bitva | F31: vítězství | H31: Útesy 2
E32: 3. bitva | F32: porážka | H32: Pouštní řeka 2
E33: 2. bitva | F33: porážka | H33: Útesy 2
E34: 1. bitva | F34: vítězství | H34: Pouštní řeka 2
A36: 5 | B36: 44630 | C36: 21.00 | D36: -DPM 7.694 | E36: 7. bitva | G36: Vítězství | I36: JohnyFiser | J36: 36143 | K36: =SUM(K28,J36) -> 53549
D37: Dzwonki Panny Marii | E37: 6. bitva | F37: porážka | H37: Klidné pobřeží 1
E38: 5. bitva | F38: vítězství | H38: Pouštní řeka 1
E39: 4. bitva | F39: vítězství | H39: Prochorovka 2
E40: 3. bitva | F40: vítězství | H40: Pouštní řeka 1
E41: 2. bitva | F41: porážka | H41: Prochorovka 2
E42: 1. bitva | F42: vítězství | H42: Dubový lesík 1
A44: 6 | B44: 44633 | C44: 19.00 | D44: O2G 9.998 | E44: 7. bitva | G44: Remíza | I44: JohnyFiser | J44: 9799 | K44: =SUM(K36,J44) -> 63348
D45: Only Gentlemen | E45: 6. bitva
E46: 5. bitva | F46: porážka | H46: Klidné pobřeží 1
...

Sheet Duben 2022
A1: Ofenzívy klanu CORMA - Duben 2022
A3: P.č. | B3: Datum | C3: Hodina | D3: Soupeř | E3: Ofenzíva | F3: Výsledek | G3: Výsledek celkem | H3: Mapa | I3: Velitel | J3: Celkem krabiček | K3: ∑ krabiček
A4: 1 | B4: 44652 | C4: 20.00 | D4: JO-KE 10.318 | E4: 7. bitva | G4: Remíza | I4: Kista1 | J4: 12175 | K4: =SUM(J4) -> 12175
D5: Bohemian Jokers | E5: 6. bitva | F5: porážka | H5: Murovanka 2
E6: 5. bitva | F6: vítězství | H6: Prochorovka 2
E7: 4. bitva | F7: porážka | H7: Murovanka 2
E8: 3. bitva | F8: vítězství | H8: Prochorovka 1
E9: 2. bitva | F9: porážka | H9: Murovanka 2
E10: 1. bitva | F10: vítězství | H10: Himmelsdorf 2
A12: 2 | B12: 44652 | C12: 21.00 | D12: RO-VF 9.431 | E12: 7. bitva | G12: Porážka | I12: JohnyFiser | J12: 8571 | K12: =SUM(K4,J12) -> 20746
D13: Romanian Veteran Forces | E13: 6. bitva | F13: vítězství | H13: Malinovka 2
E14: 5. bitva | F14: vítězství | H14: Doly 1
E15: 4. bitva | F15: porážka | H15: Malinovka 2
E16: 3. bitva | F16: porážka | H16: Redshire 2
E17: 2. bitva | F17: porážka | H17: Murovanka 1
E18: 1. bitva | F18: vítězství | H18: Rybářský přístav 1
A20: 3 | B20: 44653 | C20: 20.00 | D20: HVDRA 9.573 | E20: 7. bitva | G20: Porážka | I20: ruzatulipan | J20: 6912 | K20: =SUM(K12,J20) -> 27658
D21: HVDRA | E21: 6. bitva | F21: porážka | H21: Redshire 2
D22: 14.12.2021 21.00h porážka | E22: 5. bitva | F22: vítězství | H22: Malinovka 1
D23: 7.1.2022 20.00h porážka | E23: 4. bitva | F23: vítězství | H23: Doly 2
D24: 18.1.2022 19.00h remíza | E24: 3. bitva | F24: porážka | H24: Malinovka 1
D25: 29.1.2022 19.00h remíza | E25: 2. bitva | F25: porážka | H25: Redshire 1
E26: 1. bitva | F26: porážka | H26: Dubový lesík 1
A28: 4 | B28: 44653 | C28: 21.00 | D28: FUFR 6.780 | E28: 7. bitva | G28: Vítězství | I28: JohnyFiser | J28: 46182 | K28: =SUM(K20,J28) -> 73840
D29: Funny Freelancers | E29: 6. bitva | F29: vítězství | H29: Pouštní řeka 1
E30: 5. bitva | F30: vítězství | H30: Prochorovka 1
E31: 4. bitva | F31: vítězství | H31: Westfield 1
E32: 3. bitva | F32: porážka | H32: Prochorovka 2
E33: 2. bitva | F33: vítězství | H33: Westfield 1
E34: 1. bitva | F34: vítězství | H34: Himmelsdorf 1
A36: 5 | B36: 44655 | C36: 20.00 | D36: HRVJ 10.207 | E36: 7. bitva | G36: Porážka | I36: JohnyFiser | J36: 2453 | K36: =SUM(K28,J36) -> 76293
D37: Hrvatski Jastrebovi | E37: 6. bitva
E38: 5. bitva | F38: porážka | H38: Doly 1
E39: 4. bitva | F39: porážka | H39: Malinovka 2
E40: 3. bitva | F40: porážka | H40: Redshire 2
E41: 2. bitva | F41: porážka | H41: Westfield 2
E42: 1. bitva | F42: remíza | H42: Pouštní řeka 1
A44: 6 | B44: 44655 | C44: 21.00 | D44: J23 9.614 | E44: 7. bitva | G44: Remíza | I44: JohnyFiser | J44: 10525 | K44: =SUM(K36,J44) -> 86818
D45: POLSCY STALOWI MORDERCY | E45: 6. bitva
E46: 5. bitva | F46: porážka | H46: Útesy 2
...

Sheet Květen 2022
A1: Ofenzívy klanu CORMA - Květen 2022
A3: P.č. | B3: Datum | C3: Hodina | D3: Soupeř | E3: Ofenzíva | F3: Výsledek | G3: Výsledek celkem | H3: Mapa | I3: Velitel | J3: Celkem krabiček | K3: ∑ krabiček
A4: 1 | B4: 44686 | C4: 20.00 | D4: CS-MD 10.630 | E4: 7. bitva | G4: Remíza | I4: JohnyFiser | J4: 12100 | K4: =SUM(J4) -> 12100
D5: Československá Mechanizovaná Divize | E5: 6. bitva | F5: porážka | H5: Rybářský přístav 1
E6: 5. bitva | F6: porážka | H6: Dubový lesík 1
E7: 4. bitva | F7: porážka | H7: Himmelsdorf 1
E8: 3. bitva | F8: vítězství | H8: Dubový lesík 2
E9: 2. bitva | F9: vítězství | H9: Rybářský přístav 2
E10: 1. bitva | F10: vítězství | H10: Rybářský přístav 2
A12: 2 | B12: 44686 | C12: 21.00 | D12: DAC_R 10.571 | E12: 7. bitva | G12: Porážka | I12: JohnyFiser | J12: 4016 | K12: =SUM(K4,J12) -> 16116
D13: Divizia Armatei Carpatii Romaniei | E13: 6. bitva
E14: 5. bitva | F14: porážka | H14: Pouštní řeka 2
E15: 4. bitva | F15: porážka | H15: Redshire 2
E16: 3. bitva | F16: porážka | H16: Prochorovka 2
E17: 2. bitva | F17: vítězství | H17: Redshire 2
E18: 1. bitva | F18: porážka | H18: Murovanka 2
A20: 3 | B20: 44690 | C20: 21.00 | D20: 1453 10.872 | E20: 7. bitva | G20: Porážka | I20: Kista1 | J20: 3737 | K20: =SUM(K12,J20) -> 19853
D21: Elite Turkish Forces | E21: 6. bitva
E22: 5. bitva | F22: porážka | H22: Prochorovka 2
E23: 4. bitva | F23: porážka | H23: Himmelsdorf 1
E24: 3. bitva | F24: porážka | H24: Studzianky 2
E25: 2. bitva | F25: vítězství | H25: Himmelsdorf 2
E26: 1. bitva | F26: porážka | H26: Westfield 1
A28: 4 | B28: 44691 | C28: 21.00 | D28: CS-LV 7.797 | E28: 7. bitva | G28: Porážka | I28: Kista1 | J28: 8969 | K28: =SUM(K20,J28) -> 28822
D29: Česko-Slovenská Liga Vochlastů | E29: 6. bitva | F29: vítězství | H29: Prochorovka 2
E30: 5. bitva | F30: porážka | H30: Himmelsdorf 1
E31: 4. bitva | F31: porážka | H31: Doly 1
E32: 3. bitva | F32: porážka | H32: Prochorovka 2
E33: 2. bitva | F33: vítězství | H33: Doly 1
E34: 1. bitva | F34: vítězství | H34: Dubový lesík 1
A36: 5 | B36: 44692 | C36: 21.00 | D36: GKOB 12.598 | E36: 7. bitva | F36: vítězství | G36: Vítězství | H36: Dálnice 1 | I36: JohnyFiser | J36: 25533 | K36: =SUM(K28,J36) -> 54355
D37: Glówny Korpus Orla Bialego | E37: 6. bitva | F37: vítězství | H37: Himmelsdorf 1
E38: 5. bitva | F38: porážka | H38: Dálnice 2
E39: 4. bitva | F39: vítězství | H39: Himmelsdorf 1
E40: 3. bitva | F40: porážka | H40: Dálnice 2
E41: 2. bitva | F41: vítězství | H41: Himmelsdorf 1
E42: 1. bitva | F42: porážka | H42: Prochorovka 1
A44: 6 | B44: 44693 | C44: 20.00 | D44: GT_1 10.070 | E44: 7. bitva | G44: Porážka | I44: JohnyFiser | J44: 7007 | K44: =SUM(K36,J44) -> 61362
D45: Golden Tigers | E45: 6. bitva
E46: 5. bitva | F46: porážka | H46: Himmelsdorf 1
...

Sheet Červen 2022
A1: Ofenzívy klanu CORMA - Červen 2022
A3: P.č. | B3: Datum | C3: Hodina | D3: Soupeř | E3: Ofenzíva | F3: Výsledek | G3: Výsledek celkem | H3: Mapa | I3: Velitel | J3: Celkem krabiček | K3: ∑ krabiček
A4: 1 | B4: 44713 | C4: 20.00 | D4: STYK5 12.651 | E4: 7. bitva | F4: vítězství | G4: Porážka | H4: Prochorovka 2 | I4: JD6100 | J4: 7161 | K4: =SUM(J4) -> 7161
D5: Droga Ku Końcowi | E5: 6. bitva | F5: porážka | H5: Studzianki 1
E6: 5. bitva | F6: porážka | H6: Doly 2
E7: 4. bitva | F7: porážka | H7: Himmelsdorf 2
E8: 3. bitva | F8: porážka | H8: Doly 2
E9: 2. bitva | F9: vítězství | H9: Himmelsdorf 1
E10: 1. bitva | F10: vítězství | H10: Útesy 2
A12: 2 | B12: 44713 | C12: 21.00 | D12: 12ATP 7.393 | E12: 7. bitva | G12: Vítězství | I12: JohnyFiser | J12: 39369 | K12: =SUM(K4,J12) -> 46530
D13: 12. Alkoholický Tankový Prapor | E13: 6. bitva
E14: 5. bitva
E15: 4. bitva | F15: vítězství | H15: Dálnice 2
E16: 3. bitva | F16: vítězství | H16: Útesy 1
E17: 2. bitva | F17: vítězství | H17: Rybářský přístav 2
E18: 1. bitva | F18: vítězství | H18: Pouštní řeka 1
A20: 3 | B20: 44714 | C20: 21.00 | D20: DAC_R 10.596 | E20: 7. bitva | G20: Porážka | I20: JohnyFiser | J20: 5279 | K20: =SUM(K12,J20) -> 51809
D21: DIVIZIA ARMATEI CARPATII ROMANIEI | E21: 6. bitva | F21: porážka | H21: Studzianky 2
E22: 5. bitva | F22: porážka | H22: Doly 2
E23: 4. bitva | F23: porážka | H23: Klidné pobřeží 2
E24: 3. bitva | F24: porážka | H24: Prochorovka 1
E25: 2. bitva | F25: vítězství | H25: Klidné pobřeží 1
E26: 1. bitva | F26: vítězství | H26: Westfield 2
A28: 4 | B28: 44715 | C28: 21.00 | D28: B_BOY 10.054 | E28: 7. bitva | F28: vítězství | G28: Porážka | H28: Studzianky 2 | I28: JohnyFiser | J28: 8229 | K28: =SUM(K20,J28) -> 60038
D29: BAD BOYS BALKAN | E29: 6. bitva | F29: porážka | H29: Doly 2
E30: 5. bitva | F30: vítězství | H30: Studzianki 1
E31: 4. bitva | F31: porážka | H31: Doly 1
E32: 3. bitva | F32: porážka | H32: Malinovka 1
E33: 2. bitva | F33: vítězství | H33: Doly 2
E34: 1. bitva | F34: porážka | H34: Himmelsdorf 2
A36: 5 | B36: 44715 | C36: 22.00 | D36: WHPL 10.611 | E36: 7. bitva | G36: Vítězství | I36: JohnyFiser | J36: 40874 | K36: =SUM(K28,J36) -> 100912
D37: Wings of Hussars | E37: 6. bitva
E38: 5. bitva
E39: 4. bitva | F39: vítězství | H39: Murovanka 1
E40: 3. bitva | F40: vítězství | H40: Westfield 2
E41: 2. bitva | F41: vítězství | H41: Himmelsdorf 2
E42: 1. bitva | F42: vítězství | H42: El Haluf 1
A44: 6 | B44: 44718 | C44: 21.00 | D44: LGACY 12.113 | E44: 7. bitva | G44: Vítězství | I44: Kista1 | J44: 20682 | K44: =SUM(K36,J44) -> 121594
D45: The Legacy Continues | E45: 6. bitva
E46: 5. bitva | F46: porážka | H46: Dálnice 1
...

Sheet Červenec 2022
A1: Ofenzívy klanu CORMA - Červenec 2022
A3: P.č. | B3: Datum | C3: Hodina | D3: Soupeř | E3: Ofenzíva | F3: Výsledek | G3: Výsledek celkem | H3: Mapa | I3: Velitel | J3: Celkem krabiček | K3: ∑ krabiček
A4: 1 | B4: 44743 | C4: 20.00 | D4: CRIS 9.413 | E4: 7. bitva | G4: Vítězství | I4: JohnyFiser | J4: 23861 | K4: =SUM(J4) -> 23861
D5: Crystalnoir | E5: 6. bitva
E6: 5. bitva | F6: vítězství | H6: Ensk 1
E7: 4. bitva | F7: porážka | H7: Murovanka 2
E8: 3. bitva | F8: vítězství | H8: Ensk 2
E9: 2. bitva | F9: vítězství | H9: Pouštní řeka 1
E10: 1. bitva | F10: porážka | H10: Útesy 2
A12: 2 | B12: 44743 | C12: 21.00 | D12: HRD- 9.006 | E12: 7. bitva | G12: Vítězství | I12: JohnyFiser | J12: 29800 | K12: =SUM(K4,J12) -> 53661
D13: HORDA- | E13: 6. bitva
E14: 5. bitva
E15: 4. bitva | F15: vítězství | H15: Prochorovka 1
E16: 3. bitva | F16: vítězství | H16: Ensk 2
E17: 2. bitva | F17: vítězství | H17: Útesy 2
E18: 1. bitva | F18: vítězství | H18: Karélie 1
A20: 3 | B20: 44743 | C20: 22.00 | D20: NEMXV 9.333 | E20: 7. bitva | F20: vítězství | G20: Remíza | H20: Útesy 1 | I20: JohnyFiser | J20: 14001 | K20: =SUM(K12,J20) -> 67662
D21: NEMXV | E21: 6. bitva | F21: porážka | H21: Doly 1
E22: 5. bitva | F22: vítězství | H22: Útesy 2
E23: 4. bitva | F23: porážka | H23: Doly 1
E24: 3. bitva | F24: porážka | H24: Redshire 1
E25: 2. bitva | F25: vítězství | H25: Doly 1
E26: 1. bitva | F26: vítězství | H26: Ruinberg 2
A28: 4 | B28: 44746 | C28: 20.00 | D28: PIVE 9.306 | E28: 7. bitva | G28: Porážka | I28: JohnyFiser | J28: 2150 | K28: =SUM(K20,J28) -> 69812
D29: Pirates Veteranos | E29: 6. bitva
E30: 5. bitva | F30: porážka | H30: Himmelsdorf 2
E31: 4. bitva | F31: porážka | H31: Prochorovka 1
E32: 3. bitva | F32: porážka | H32: Pouštní řeka 2
E33: 2. bitva | F33: porážka | H33: Doly 2
E34: 1. bitva | F34: remíza | H34: Rybářský přístav 2
A36: 5 | B36: 44746 | C36: 21.00 | D36: BULL 9.166 | E36: 7. bitva | G36: Vítězství | I36: JohnyFiser | J36: 39195 | K36: =SUM(K28,J36) -> 109007
D37: Bulldogs | E37: 6. bitva
E38: 5. bitva
E39: 4. bitva | F39: vítězství | H39: Dálnice 1
E40: 3. bitva | F40: vítězství | H40: Rybářský přístav 1
E41: 2. bitva | F41: vítězství | H41: Doly 2
E42: 1. bitva | F42: vítězství | H42: Rybářský přístav 2
A44: 6 | B44: 44746 | C44: 22.00 | D44: PCSA 9.261 | E44: 7. bitva | G44: Remíza | I44: JohnyFiser | J44: 10916 | K44: =SUM(K36,J44) -> 119923
D45: PCS-ARMY | E45: 6. bitva | F45: porážka | H45: Rybářský přístav 2
E46: 5. bitva | F46: vítězství | H46: Útesy 2
...

Sheet Srpen 2022
A1: Ofenzívy klanu CORMA - Srpen 2022
A3: P.č. | B3: Datum | C3: Hodina | D3: Soupeř | E3: Ofenzíva | F3: Výsledek | G3: Výsledek celkem | H3: Mapa | I3: Velitel | J3: Celkem krabiček | K3: ∑ krabiček
A4: 1 | B4: 44777 | C4: 22.00 | D4: HRD- 8.951 | E4: 7. bitva | G4: Porážka | I4: JohnyFiser | J4: 5762 | K4: =SUM(J4) -> 5762
D5: HORDA- | E5: 6. bitva
E6: 5. bitva | F6: vítězství | H6: Prochorovka 1
E7: 4. bitva | F7: porážka | H7: Westfield 1
E8: 3. bitva | F8: vítězství | H8: Prochorovka 2
E9: 2. bitva | F9: porážka | H9: Westfield 2
E10: 1. bitva | F10: porážka | H10: Ruinberg
A12: 2 | B12: 44777 | C12: 23.00 | D12: PLRSZ 6.398 | E12: 7. bitva | G12: Porážka | I12: JohnyFiser | J12: 4402 | K12: =SUM(K4,J12) -> 10164
D13: Polskie Rewolucyjne Sily Zbrojne | E13: 6. bitva | F13: porážka | H13: Klidné pobřeží 2
E14: 5. bitva | F14: porážka | H14: Útesy 2
E15: 4. bitva | F15: porážka | H15: Pouštní řeka 2
E16: 3. bitva | F16: vítězství | H16: Útesy 2
E17: 2. bitva | F17: porážka | H17: Pouštní řeka 2
E18: 1. bitva | F18: vítězství | H18: Prochorovka 1
A20: 3 | B20: 44778 | C20: 22.00 | D20: -FFH- 6.455 | E20: 7. bitva | G20: Vítězství | I20: Fine_Ger | J20: 23869 | K20: =SUM(K12,J20) -> 34033
D21: Far From Human | E21: 6. bitva | F21: vítězství | H21: Dubový lesík 1
E22: 5. bitva | F22: porážka | H22: Dálnice 2
E23: 4. bitva | F23: vítězství | H23: Dubový lesík 1
E24: 3. bitva | F24: vítězství | H24: Westfield 1
E25: 2. bitva | F25: porážka | H25: Dubový lesík 1
E26: 1. bitva | F26: vítězství | H26: Malinovka 1
A28: 4 | B28: 44778 | C28: 23.00 | D28: N112 8.912 | E28: 7. bitva | G28: Porážka | I28: Fine_Ger | J28: 5884 | K28: =SUM(K20,J28) -> 39917
D29: NIGHT CLUB 112 | E29: 6. bitva | F29: vítězství | H29: Dálnice 1
E30: 5. bitva | F30: porážka | H30: Doly 1
E31: 4. bitva | F31: vítězství | H31: Dálnice 1
E32: 3. bitva | F32: porážka | H32: Doly 1
E33: 2. bitva | F33: porážka | H33: Karelie 1
E34: 1. bitva | F34: porážka | H34: Himmelsdorf 2
A36: 5 | B36: 44782 | C36: 21.00 | D36: CZMAF 9.074 | E36: 7. bitva | G36: Vítězství | I36: Fine_Ger | J36: 24567 | K36: =SUM(K28,J36) -> 64484
D37: CzechMafia | E37: 6. bitva
E38: 5. bitva | F38: vítězství | H38: Pouštní řeka 1
E39: 4. bitva | F39: vítězství | H39: Westfield 2
E40: 3. bitva | F40: porážka | H40: Pouštní řeka 1
E41: 2. bitva | F41: vítězství | H41: Westfield 1
E42: 1. bitva | F42: porážka | H42: Redshire 2
A44: 6 | B44: 44783 | C44: 20.00 | D44: SOGM 9.233 | E44: 7. bitva | G44: Remíza | I44: JohnyFiser | J44: 12125 | K44: =SUM(K36,J44) -> 76609
D45: Sons of Great Moravia | E45: 6. bitva
E46: 5. bitva | F46: vítězství | H46: Westfield 1
...

Sheet Září 2022
A1: Ofenzívy klanu CORMA - Září 2022
A3: P.č. | B3: Datum | C3: Hodina | D3: Soupeř | E3: Ofenzíva | F3: Výsledek | G3: Výsledek celkem | H3: Mapa | I3: Velitel | J3: Celkem krabiček | K3: ∑ krabiček
A4: 1 | B4: 44805 | C4: 20.00 | D4: PRSN 10.635 | E4: 7. bitva | G4: Porážka | I4: kubajzník | J4: 1089 | K4: =SUM(J4) -> 1089
D5: PRISON | E5: 6. bitva
E6: 5. bitva
E7: 4. bitva | F7: porážka | H7: Klidné pobřeží 1
E8: 3. bitva | F8: porážka | H8: Rybářský přístav 2
E9: 2. bitva | F9: porážka | H9: Útesy 2
E10: 1. bitva | F10: porážka | H10: Ensk 1
A12: 2 | B12: 44805 | C12: 21.00 | D12: DAGS 8.318 | E12: 7. bitva | G12: Porážka | I12: JohnyFiser | J12: 8068 | K12: =SUM(K4,J12) -> 9157
D13: Daggers Squad | E13: 6. bitva | F13: vítězství | H13: Rybářský přístav 1
E14: 5. bitva | F14: porážka | H14: Útesy 2
E15: 4. bitva | F15: porážka | H15: Klidné pobřeží 1
E16: 3. bitva | F16: vítězství | H16: Útesy 1
E17: 2. bitva | F17: porážka | H17: Klidné pobřeží 2
E18: 1. bitva | F18: vítězství | H18: Malinovka 1
A20: 3 | B20: 44806 | C20: 20.00 | D20: K-A-P 7.955 | E20: 7. bitva | G20: Vítězství | I20: kocek1 | J20: 33191 | K20: =SUM(K12,J20) -> 42348
D21: Klid a Pohoda | E21: 6. bitva | F21: porážka | H21: Doly 1
E22: 5. bitva | F22: vítězství | H22: Ensk 1
E23: 4. bitva | F23: vítězství | H23: Klidné pobřeží 2
E24: 3. bitva | F24: porážka | H24: Ensk 1
E25: 2. bitva | F25: vítězství | H25: Klidné pobřeží 2
E26: 1. bitva | F26: vítězství | H26: Klidné pobřeží 2
A28: 4 | B28: 44806 | C28: 21.00 | D28: B-E-A 8.997 | E28: 7. bitva | G28: Remíza | I28: kocek1 | J28: 11513 | K28: =SUM(K20,J28) -> 53861
D29: Brigada Espaňola Acorazada | E29: 6. bitva
E30: 5. bitva | F30: vítězství | H30: Pouštní řeka 2
E31: 4. bitva | F31: porážka | H31: Redshire 2
E32: 3. bitva | F32: vítězství | H32: Pouštní řeka 2
E33: 2. bitva | F33: porážka | H33: Redshire 1
E34: 1. bitva | F34: vítězství | H34: Himmelsdorf 2
A36: 5 | B36: 44806 | C36: 22.00 | D36: ACR11 8.768 | E36: 7. bitva | G36: Vítězství | I36: Fine_Ger | J36: 38927 | K36: =SUM(K28,J36) -> 92788
D37: 11th Armored Cavalry Regiment | E37: 6. bitva | F37: vítězství | H37: Útesy 2
E38: 5. bitva | F38: vítězství | H38: Murovanka 2
E39: 4. bitva | F39: porážka | H39: Útesy 1
E40: 3. bitva | F40: vítězství | H40: Murovanka 1
E41: 2. bitva | F41: vítězství | H41: Dálnice 1
E42: 1. bitva | F42: vítězství | H42: Westfield 1
A44: 6 | B44: 44808 | C44: 21.00 | D44: EXLEG 9.252 | E44: 7. bitva | G44: Porážka | I44: kocek1 | J44: 5727 | K44: =SUM(K36,J44) -> 98515
D45: Exiles Legion | E45: 6. bitva | F45: porážka | H45: Pouštní řeka 1
E46: 5. bitva | F46: vítězství | H46: Westfield 1
...

Sheet Říjen 2022
A1: Ofenzívy klanu CORMA - Říjen 2022
A3: P.č. | B3: Datum | C3: Hodina | D3: Soupeř | E3: Ofenzíva | F3: Výsledek | G3: Výsledek celkem | H3: Mapa | I3: Velitel | J3: Celkem krabiček | K3: ∑ krabiček
A4: 1 | B4: 44836 | C4: 20.00 | D4: SOBPL 10.869 | E4: 7. bitva | G4: Vítězství | I4: Kastynho | J4: 33827 | K4: =SUM(J4) -> 33827
D5: SOBIESKI PL | E5: 6. bitva | F5: porážka | H5: Rybářský přístav 1
E6: 5. bitva | F6: vítězství | H6: Útesy 1
E7: 4. bitva | F7: porážka | H7: Rybářský přístav 1
E8: 3. bitva | F8: vítězství | H8: Útesy 2
E9: 2. bitva | F9: vítězství | H9: Pouštní řeka 1
E10: 1. bitva | F10: vítězství | H10: Himmelsdorf 1
A12: 2 | B12: 44847 | C12: 20.00 | D12: UG_UA 9.384 | E12: 7. bitva | G12: Vítězství | I12: Kastynho | J12: 40059 | K12: =SUM(K4,J12) -> 73886
D13: S_OU_TH | E13: 6. bitva
E14: 5. bitva
E15: 4. bitva | F15: vítězství | H15: Karelie 2
E16: 3. bitva | F16: vítězství | H16: Útesy 2
E17: 2. bitva | F17: vítězství | H17: Redshire 2
E18: 1. bitva | F18: vítězství | H18: Himmelsdorf 1
A20: 3 | B20: 44857 | C20: 20.00 | D20: IMB 9.606 | E20: 7. bitva | G20: Vítězství | I20: JohnyFiser | J20: 43767 | K20: =SUM(K12,J20) -> 117653
D21: infanteria mecanizada brunete 1 | E21: 6. bitva
E22: 5. bitva
E23: 4. bitva | F23: vítězství | H23: Klidné pobřeží 2
E24: 3. bitva | F24: vítězství | H24: Ensk 1
E25: 2. bitva | F25: vítězství | H25: Klidné pobřeží 2
E26: 1. bitva | F26: vítězství | H26: Klidné pobřeží 2
A28: 4 | B28: 44859 | C28: 21.00 | D28: ARHEO 10.732 | E28: 7. bitva | G28: Remíza | I28: Kastynho | J28: 11945 | K28: =SUM(K20,J28) -> 129598
D29: Sekcja ARCHEO | E29: 6. bitva | F29: porážka | H29: Rybářský přístav 2
E30: 5. bitva | F30: vítězství | H30: Pouštní řeka 1
E31: 4. bitva | F31: vítězství | H31: Útesy 1
E32: 3. bitva | F32: porážka | H32: Pouštní řeka 1
E33: 2. bitva | F33: porážka | H33: Rybářský přístav 2
E34: 1. bitva | F34: vítězství | H34: Himmelsdorf 2
A36: 5 | B36: 44860 | C36: 20.00 | D36: 3DBFL 11.984 | E36: 7. bitva | G36: Porážka | I36: Kastynho | J36: 2725 | K36: =SUM(K28,J36) -> 132323
D37: 3e Division Blindée Francaise Leclerc | E37: 6. bitva | F37: porážka | H37: Ensk 1
E38: 5. bitva | F38: porážka | H38: Útesy 1
E39: 4. bitva | F39: porážka | H39: Pouštní řeka 1
E40: 3. bitva | F40: porážka | H40: Rybářský přístav 1
E41: 2. bitva | F41: vítězství | H41: Pouštní řeka 2
E42: 1. bitva | F42: porážka | H42: Himmelsdorf 2
A44: 6 | B44: 44861 | C44: 19.00 | D44: QUENS 13.653 | E44: 7. bitva | G44: Porážka | I44: kocek1 | J44: 936 | K44: =SUM(K36,J44) -> 133259
D45: Queens | E45: 6. bitva
E46: 5. bitva | K46: ='Říjen 2022'!#REF! -> #REF!
...

Sheet Listopad 2022
A1: Ofenzívy klanu CORMA - Listopad 2022
A3: P.č. | B3: Datum | C3: Hodina | D3: Soupeř | E3: Ofenzíva | F3: Výsledek | G3: Výsledek celkem | H3: Mapa | I3: Velitel | J3: Celkem krabiček | K3: ∑ krabiček
A4: 1 | B4: 44868 | C4: 19.00 | D4: VISN 12.936 | G4: Porážka | I4: JohnyFiser | J4: 675 | K4: =SUM(J4) -> 675
D5: We have a Vision
E7: 4. bitva | F7: porážka | H7: Dálnice 2
E8: 3. bitva | F8: porážka | H8: Rybářský přístav 2
E9: 2. bitva | F9: porážka | H9: Útesy 2
E10: 1. bitva | F10: porážka | H10: Himmelsdorf 1
A12: 2 | B12: 44868 | C12: 20.00 | D12: S1NDY 11.551 | E12: 7. bitva | G12: Vítězství | I12: JohnyFiser | J12: 45247 | K12: =SUM(K4,J12) -> 45922
D13: S1NDY | E13: 6. bitva | F13: vítězství | H13: Malinovka 1
E14: 5. bitva | F14: vítězství | H14: Útesy 1
E15: 4. bitva | F15: vítězství | H15: Klidné pobřeží 2
E16: 3. bitva | F16: vítězství | H16: Útesy 1
E17: 2. bitva | F17: porážka | H17: Klidné pobřeží 2
E18: 1. bitva | F18: vítězství | H18: Himmelsdorf 2
A20: 3 | B20: 44868 | C20: 21.00 | D20: _V-M_ 12.968 | E20: 7. bitva | G20: Vítězství | I20: kocek1 | J20: 24847 | K20: =SUM(K12,J20) -> 70769
D21: Ventum Mortis | E21: 6. bitva | F21: porážka | H21: Prochorovka 2
E22: 5. bitva | F22: porážka | H22: Útesy 2
E23: 4. bitva | F23: vítězství | H23: Prochorovka 2
E24: 3. bitva | F24: vítězství | H24: Redshire 2
E25: 2. bitva | F25: vítězství | H25: Redshire 1
E26: 1. bitva | F26: porážka | H26: Himmelsdorf 1
A28: 4 | B28: 44870 | C28: 23.00 | D28: ODLCS 8.564 | E28: 7. bitva | G28: Remíza | I28: Kastynho | J28: 12018 | K28: =SUM(K20,J28) -> 82787
D29: ORLY DEVIATEJ LÉGIE | E29: 6. bitva
E30: 5. bitva | F30: porážka | H30: Himmelsdorf 2
E31: 4. bitva | F31: vítězství | H31: Předsunutá základna 2
E32: 3. bitva | F32: vítězství | H32: Malinovka 2
E33: 2. bitva | F33: porážka | H33: Předsunutá základna 1
E34: 1. bitva | F34: porážka | H34: Himmelsdorf 2
A36: 5 | B36: 44871 | C36: 19.00 | D36: RO-VF 9.457 | E36: 7. bitva | G36: Porážka | I36: Belink | J36: 5760 | K36: =SUM(K28,J36) -> 88547
D37: Romanian Veteran Forces | E37: 6. bitva
E38: 5. bitva | F38: vítězství | H38: Dálnice 1
E39: 4. bitva | F39: porážka | H39: Doly 2
E40: 3. bitva | F40: porážka | H40: Ensk 2
E41: 2. bitva | F41: porážka | H41: Murovanka 1
E42: 1. bitva | F42: vítězství | H42: Himmelsdorf 1
A44: 6 | B44: 44871 | C44: 20.00 | D44: N_3 7.096 | E44: 7. bitva | G44: Remíza | I44: Belink | J44: 10279 | K44: =SUM(K36,J44) -> 98826
D45: Niepokanani 3 | E45: 6. bitva
E46: 5. bitva | F46: porážka | H46: Westfield 2
E47: 4. bitva | F47: vítězství | H47: Ensk 1
...

Sheet Prosinec 2022
A1: Ofenzívy klanu CORMA - Prosinec 2022
A3: P.č. | B3: Datum | C3: Hodina | D3: Soupeř | E3: Ofenzíva | F3: Výsledek | G3: Výsledek celkem | H3: Mapa | I3: Velitel | J3: Celkem krabiček | K3: ∑ krabiček
A4: 1 | B4: 44896 | C4: 19.00 | D4: SAYG1 9.183 | G4: Vítězství | I4: Belink | J4: 35498 | K4: =SUM(J4) -> 35498
D5: SAYG1 | E5: 6. bitva | F5: porážka | H5: Karélie 1
E6: 5. bitva | F6: vítězství | H6: Prochorovka 1
E7: 4. bitva | F7: vítězství | H7: Doly 1
E8: 3. bitva | F8: vítězství | H8: Klidné pobřeží 1
E9: 2. bitva | F9: porážka | H9: Doly 1
E10: 1. bitva | F10: vítězství | H10: Himmelsdorf 1
A12: 2 | B12: 44896 | C12: 20.00 | D12: UG_UA 10.384 | E12: 7. bitva | G12: Vítězství | I12: Kastynho | J12: 33961 | K12: =SUM(K4,J12) -> 69459
D13: S_OU_TH | E13: 6. bitva | F13: vítězství | H13: Redshire 2
E14: 5. bitva | F14: vítězství | H14: Ensk 1
E15: 4. bitva | F15: vítězství | H15: Prochorovka 1
E16: 3. bitva | F16: porážka | H16: Ensk 1
E17: 2. bitva | F17: vítězství | H17: Prochorovka 1
E18: 1. bitva | F18: porážka | H18: Himmelsdorf 1
A20: 3 | B20: 44896 | C20: 21.00 | D20: -FMG- 8.806 | E20: 7. bitva | G20: Porážka | I20: Kastynho | J20: 2943 | K20: =SUM(K12,J20) -> 72402
D21: FUMAR MATA | E21: 6. bitva | F21: porážka | H21: Předsunutá základna 1
E22: 5. bitva | F22: porážka | H22: Rybářský přístav 2
E23: 4. bitva | F23: vítězství | H23: Ensk 2
E24: 3. bitva | F24: vítězství | H24: Rybářský přístav 1
E25: 2. bitva | F25: vítězství | H25: Ensk 2
E26: 1. bitva | F26: porážka | H26: Himmelsdorf 2
A28: 4 | B28: 44897 | C28: 19.00 | D28: DESFA 9.577 | E28: 7. bitva | G28: Porážka | I28: Kastynho | J28: 5876 | K28: =SUM(K20,J28) -> 78278
D29: Des Fantomes | E29: 6. bitva | F29: vítězství | H29: Předsunutá základna 1
E30: 5. bitva | F30: porážka | H30: Rybářský přístav 2
E31: 4. bitva | F31: porážka | H31: Ensk 2
E32: 3. bitva | F32: vítězství | H32: Rybářský přístav 2
E33: 2. bitva | F33: porážka | H33: Ensk 2
E34: 1. bitva | F34: porážka | H34: Himmelsdorf 1
A36: 5 | B36: 44897 | C36: 20.00 | D36: ACR11 8.491 | E36: 7. bitva | G36: Vítězství | I36: Belink | J36: 24365 | K36: =SUM(K28,J36) -> 102643
D37: 11th Armored Cavalry Regiment | E37: 6. bitva | F37: porážka | H37: Doly 1
E38: 5. bitva | F38: vítězství | H38: Rybářský přístav 2
E39: 4. bitva | F39: porážka | H39: Doly 2
E40: 3. bitva | F40: vítězství | H40: Rybářský přístav 2
E41: 2. bitva | F41: vítězství | H41: Ensk 1
E42: 1. bitva | F42: porážka | H42: Himmelsdorf 1
A44: 6 | B44: 44897 | C44: 21.00 | D44: VA-HA 12.245 | E44: 7. bitva | G44: Remíza | I44: Belink | J44: 12191 | K44: =SUM(K36,J44) -> 114834
D45: VATAHA | E45: 6. bitva | F45: vítězství | H45: Klidné pobřeží 2
E46: 5. bitva | F46: porážka | H46: Útesy 1
...

Sheet Leden 2023
A1: Ofenzívy klanu CORMA - Leden 2023
A3: P.č. | B3: Datum | C3: Hodina | D3: Soupeř | E3: Ofenzíva | F3: Výsledek | G3: Výsledek celkem | H3: Mapa | I3: Velitel | J3: Celkem krabiček | K3: ∑ krabiček
A4: 1 | B4: 44927 | C4: 19.00 | D4: UG_UA 10.523 | G4: Vítězství | I4: __Rainbow__ | J4: 34456 | K4: =SUM(J4) -> 34456
D5: S_OU_TH | E5: 6. bitva | F5: vítězství | H5: Útesy 1
E6: 5. bitva | F6: vítězství | H6: Pouštní řeka 1
E7: 4. bitva | F7: vítězství | H7: Dubový lesík 1
E8: 3. bitva | F8: porážka | H8: Pouštní řeka 2
E9: 2. bitva | F9: vítězství | H9: Dubový lesík 1
E10: 1. bitva | F10: porážka | H10: Himmelsdorf 1
A12: 2 | B12: 44927 | C12: 20.00 | D12: F4RM 7.243 | E12: 7. bitva | G12: Porážka | I12: __Rainbow__ | J12: 2925 | K12: =SUM(K4,J12) -> 37381
D13: F4rm from redLine - Oue speciality… | E13: 6. bitva
E14: 5. bitva | F14: porážka | H14: Prochorovka 1
E15: 4. bitva | F15: porážka | H15: Karélie 1
E16: 3. bitva | F16: porážka | H16: Murovanka 1
E17: 2. bitva | F17: porážka | H17: Malinovka 2
E18: 1. bitva | F18: vítězství | H18: Himmelsdorf 1
A20: 3 | B20: 44927 | C20: 21.00 | D20: UTPXD 10.443 | E20: 7. bitva | G20: Porážka | I20: Kastynho | J20: 2880 | K20: =SUM(K12,J20) -> 40261
D21: ULTIMATE PRO | E21: 6. bitva
E22: 5. bitva | F22: porážka | H22: Prochorovka 2
E23: 4. bitva | F23: porážka | H23: Karélie 1
E24: 3. bitva | F24: porážka | H24: Murovanka 2
E25: 2. bitva | F25: porážka | H25: Prochorovka 1
E26: 1. bitva | F26: vítězství | H26: Himmelsdorf 2
A28: 4 | B28: 44928 | C28: 19.00 | D28: WI5H 10.766 | E28: 7. bitva | G28: Remíza | I28: Belink | J28: 11968 | K28: =SUM(K20,J28) -> 52229
D29: Death Wish! | E29: 6. bitva | F29: vítězství | H29: Murovanka 1
E30: 5. bitva | F30: porážka | H30: Útesy 2
E31: 4. bitva | F31: porážka | H31: Doly 2
E32: 3. bitva | F32: vítězství | H32: Útesy 1
E33: 2. bitva | F33: vítězství | H33: Murovanka 1
E34: 1. bitva | F34: porážka | H34: Himmelsdorf 2
A36: 5 | B36: 44928 | C36: 20.00 | D36: EL_G 10.003 | E36: 7. bitva | F36: porážka | G36: Porážka | H36: Útesy 1 | I36: __Rainbow__ | J36: 6162 | K36: =SUM(K28,J36) -> 58391
D37: ELDING | E37: 6. bitva | F37: porážka | H37: Dubový lesík 1
E38: 5. bitva | F38: porážka | H38: Pouštní řeka 1
E39: 4. bitva | F39: vítězství | H39: Dubový lesík 2
E40: 3. bitva | F40: porážka | H40: Pouštní řeka 1
E41: 2. bitva | F41: vítězství | H41: Dubový lesík 1
E42: 1. bitva | F42: porážka | H42: Himmelsdorf 1
A44: 6 | B44: 44928 | C44: 21.00 | D44: PIVE 9.658 | E44: 7. bitva | G44: Vítězství | I44: KabronCZE | J44: 22955 | K44: =SUM(K36,J44) -> 81346
D45: PIRATES VETERANOS | E45: 6. bitva
E46: 5. bitva | F46: vítězství | H46: Pouštní řeka 1
...

Sheet Únor 2023
A1: Ofenzívy klanu CORMA - Únor 2023
A3: P.č. | B3: Datum | C3: Hodina | D3: Soupeř | E3: Ofenzíva | F3: Výsledek | G3: Výsledek celkem | H3: Mapa | I3: Velitel | J3: Celkem krabiček | K3: ∑ krabiček
A4: 1 | B4: 44958 | C4: 19.00 | D4: S1NDY 10.318 | G4: Vítězství | I4: _Kista_ | J4: 43863 | K4: =SUM(J4) -> 43863
D5: S1NDY | E5: 6. bitva
E6: 5. bitva
E7: 4. bitva | F7: vítězství | H7: Útesy 1
E8: 3. bitva | F8: vítězství | H8: Himmelsdorf 1
E9: 2. bitva | F9: vítězství | H9: Dálnice 1
E10: 1. bitva | F10: vítězství | H10: Himmelsdorf 1
A12: 2 | B12: 44927 | C12: 20.00 | D12: BOSZ 7.958 | E12: 7. bitva | G12: Vítězství | I12: Kastynho | J12: 29838 | K12: =SUM(K4,J12) -> 73701
D13: BOJOWY ODZIAL SZTURMOWY | E13: 6. bitva
E14: 5. bitva
E15: 4. bitva | F15: vítězství | H15: Útesy 1
E16: 3. bitva | F16: vítězství | H16: Westfield 2
E17: 2. bitva | F17: vítězství | H17: Doly 2
E18: 1. bitva | F18: vítězství | H18: Himmelsdorf 2
A20: 3 | B20: 44927 | C20: 21.00 | D20: CW-RO 9.803 | E20: 7. bitva | G20: Vítězství | I20: Kastynho | J20: 24716 | K20: =SUM(K12,J20) -> 98417
D21: ROMANIAN CARPATHIAN WOLVES | E21: 6. bitva
E22: 5. bitva | F22: vítězství | H22: Murovanka 1
E23: 4. bitva | F23: porážka | H23: Dubový lesík 2
E24: 3. bitva | F24: vítězství | H24: Murovanka 2
E25: 2. bitva | F25: vítězství | H25: Pouštní řeka 2
E26: 1. bitva | F26: porážka | H26: Himmelsdorf 2
A28: 4 | B28: 44959 | C28: 19.00 | D28: N112 9.954 | E28: 7. bitva | G28: Vítězství | I28: __RainBow__ | J28: 32297 | K28: =SUM(K20,J28) -> 130714
D29: NIGHT CLUB 112 | E29: 6. bitva
E30: 5. bitva
E31: 4. bitva | F31: porážka | H31: Westfield 2
E32: 3. bitva | F32: vítězství | H32: Redshire 1
E33: 2. bitva | F33: vítězství | H33: Himmelsdorf 2
E34: 1. bitva | F34: vítězství | H34: Himmelsdorf 2
A36: 5 | B36: 44959 | C36: 20.00 | D36: KIN5S 10.014 | E36: 7. bitva | G36: Vítězství | I36: Kastynho | J36: 42748 | K36: =SUM(K28,J36) -> 173462
D37: KINGS CZ/SK | E37: 6. bitva
E38: 5. bitva | F38: vítězství | H38: Klidné pobřeží 1
E39: 4. bitva | F39: vítězství | H39: Prochorovka 1
E40: 3. bitva | F40: vítězství | H40: Dubový lesík 2
E41: 2. bitva | F41: vítězství | H41: Pouštní řeka 2
E42: 1. bitva | F42: porážka | H42: Himmelsdorf 1
A44: 6 | B44: 44959 | C44: 20.00 | D44: -HDS 9.351 | E44: 7. bitva | G44: Porážka | I44: _Kista_ | J44: 6623 | K44: =SUM(K36,J44) -> 180085
D45: The Hungarian Destroyer Squad | E45: 6. bitva
E46: 5. bitva | F46: porážka | H46: Prochorovka 2
...

Sheet Březen 2023
A1: Ofenzívy klanu CORMA - Březen 2023
A3: P.č. | B3: Datum | C3: Hodina | D3: Soupeř | E3: Ofenzíva | F3: Výsledek | G3: Výsledek celkem | H3: Mapa | I3: Velitel | J3: Celkem krabiček | K3: ∑ krabiček
A4: 1 | B4: 44994 | C4: 19.00 | D4: SAYG1 11.223 | G4: Vítězství | I4: Kastynho | J4: 34298 | K4: =SUM(J4) -> 34298
D5: SAYGI | E5: 6. bitva
E6: 5. bitva | F6: vítězství | H6: Himmelsdorf 2
E7: 4. bitva | F7: vítězství | H7: Murovanka 2
E8: 3. bitva | F8: vítězství | H8: Prochorovka 1
E9: 2. bitva | F9: porážka | H9: Murovanka 1
E10: 1. bitva | F10: vítězství | H10: Himmelsdorf 1
A12: 2 | B12: 44994 | C12: 20.00 | D12: UA-CT 11.228 | E12: 7. bitva | G12: Vítězství | I12: JohnyFiser | J12: 39139 | K12: =SUM(K4,J12) -> 73437
D13: Crown Team | E13: 6. bitva
E14: 5. bitva
E15: 4. bitva
E16: 3. bitva | F16: vítězství | H16: Dálnice 2
E17: 2. bitva | F17: vítězství | H17: Himmelsdorf 2
E18: 1. bitva | F18: vítězství | H18: Himmelsdorf 2
A20: 3 | B20: 44994 | C20: 21.00 | D20: GT_1 12.351 | E20: 7. bitva | F20: vítězství | G20: Vítězství | H20: Rybářský přístav 1 | I20: Kastynho | J20: 32238 | K20: =SUM(K12,J20) -> 105675
D21: Golden Tigers | E21: 6. bitva | F21: vítězství | H21: Doly 1
E22: 5. bitva | F22: porážka | H22: Rybářský přístav 1
E23: 4. bitva | F23: vítězství | H23: Doly 1
E24: 3. bitva | F24: vítězství | H24: Pouštní řeka 1
E25: 2. bitva | F25: porážka | H25: Doly 1
E26: 1. bitva | F26: vítězství | H26: Himmelsdorf 1
A28: 4 | B28: 44994 | C28: 22.00 | D28: NISZA 10.546 | E28: 7. bitva | G28: Vítězství | I28: Kastynho | J28: 36370 | K28: =SUM(K20,J28) -> 142045
D29: Polska Brygada Pancerna Naszej Niszy | E29: 6. bitva
E30: 5. bitva
E31: 4. bitva | F31: vítězství | H31: Dubový lesík 2
E32: 3. bitva | F32: vítězství | H32: Himmelsdorf 1
E33: 2. bitva | F33: vítězství | H33: Rybářský přístav 2
E34: 1. bitva | F34: vítězství | H34: Himmelsdorf 1
A36: 5 | B36: 44995 | C36: 19.00 | D36: WTU09 11.028 | E36: 7. bitva | G36: Vítězství | I36: _RainBow_ | J36: 44239 | K36: =SUM(K28,J36) -> 186284
D37: WELKOME TO UKRAINE | E37: 6. bitva
E38: 5. bitva
E39: 4. bitva | F39: vítězství | H39: Doly 1
E40: 3. bitva | F40: vítězství | H40: Himmelsdorf 1
E41: 2. bitva | F41: vítězství | H41: Westfield 2
E42: 1. bitva | F42: vítězství | H42: Himmelsdorf 2
A44: 6 | B44: 44995 | C44: 20.00 | D44: PANK 12.729 | E44: 7. bitva | G44: Porážka | I44: _RainBow_ | J44: 959 | K44: =SUM(K36,J44) -> 187243
D45: Pancerni Krzyžowcy | E45: 6. bitva
E46: 5. bitva
...

Sheet Duben 2023
A1: Ofenzívy klanu CORMA - Duben 2023
A3: P.č. | B3: Datum | C3: Hodina | D3: Soupeř | E3: Ofenzíva | F3: Výsledek | G3: Výsledek celkem | H3: Mapa | I3: Velitel | J3: Celkem krabiček | K3: ∑ krabiček
A4: 1 | B4: 45017 | C4: 22.00 | D4: PETO 11.790 | G4: Vítězství | I4: JohnyFiser | J4: 26436 | K4: =SUM(J4) -> 26436
D5: Pelikenttien Eeppinen Taisteluosasto | E5: 6. bitva | F5: vítězství | H5: Prochorovka 2
E6: 5. bitva | F6: porážka | H6: Dálnice 2
E7: 4. bitva | F7: vítězství | H7: Prochorovka 1
E8: 3. bitva | F8: porážka | H8: Dálnice 1
E9: 2. bitva | F9: vítězství | H9: Prochorovka 1
E10: 1. bitva | F10: vítězství | H10: Himmelsdorf 2
A12: 2 | B12: 45017 | C12: 23.00 | D12: UA-14 11.610 | E12: 7. bitva | G12: Remíza | I12: JohnyFiser | J12: 11576 | K12: =SUM(K4,J12) -> 38012
D13: ULA LVIV | E13: 6. bitva | F13: porážka | H13: Útesy 2
E14: 5. bitva | F14: vítězství | H14: Murovanka 2
E15: 4. bitva | F15: porážka | H15: Útesy 2
E16: 3. bitva | F16: porážka | H16: Dálnice 2
E17: 2. bitva | F17: vítězství | H17: Útesy 2
E18: 1. bitva | F18: vítězství | H18: Himmelsdorf 2
A20: 3 | B20: 45018 | C20: 19.00 | D20: A_A_D 13.323 | E20: 7. bitva | G20: Porážka | I20: Kastynho | J20: 2496 | K20: =SUM(K12,J20) -> 40508
D21: Analiza Atak Domonacja | E21: 6. bitva
E22: 5. bitva | F22: porážka | H22: Pouštní řeka 2
E23: 4. bitva | F23: porážka | H23: Westfield 2
E24: 3. bitva | F24: porážka | H24: Rybářský přístav 2
E25: 2. bitva | F25: porážka | H25: Dubový lesík 1
E26: 1. bitva | F26: vítězství | H26: Himmelsdorf 1
A28: 4 | B28: 45018 | C28: 20.00 | D28: _O-W_ 9.358 | E28: 7. bitva | G28: Porážka | I28: jhonaz2017 | J28: 7738 | K28: =SUM(K20,J28) -> 48246
D29: Old_Wolves_ | E29: 6. bitva | F29: vítězství | H29: Dubový lesík 2
E30: 5. bitva | F30: porážka | H30: Prochorovka 2
E31: 4. bitva | F31: vítězství | H31: Dubový lesík 2
E32: 3. bitva | F32: porážka | H32: Prochorovka 1
E33: 2. bitva | F33: porážka | H33: Himmelsdorf 1
E34: 1. bitva | F34: vítězství | H34: Himmelsdorf 2
A36: 5 | B36: 45018 | C36: 21.00 | D36: GK_UA 7.689 | E36: 7. bitva | G36: Porážka | I36: Kastynho | J36: 4198 | K36: =SUM(K28,J36) -> 52444
D37: UKRAJINSKY KIBORGI | E37: 6. bitva
E38: 5. bitva
E39: 4. bitva | F39: porážka | H39: Murovanka 2
E40: 3. bitva | F40: porážka | H40: Dálnice 2
E41: 2. bitva | F41: vítězství | H41: Murovanka 1
E42: 1. bitva | F42: porážka | H42: Himmelsdorf 1
A44: 6 | B44: 45018 | C44: 22.00 | D44: ASPRE 9.548 | E44: 7. bitva | G44: Vítězství | I44: Kastynho | J44: 36741 | K44: =SUM(K36,J44) -> 89185
D45: ASPIRE EXTENDED | E45: 6. bitva
E46: 5. bitva
...

Sheet Květen 2023
A1: Ofenzívy klanu CORMA - Květen 2023
A3: P.č. | B3: Datum | C3: Hodina | D3: Soupeř | E3: Ofenzíva | F3: Výsledek | G3: Výsledek celkem | H3: Mapa | I3: Velitel | J3: Celkem krabiček | K3: ∑ krabiček
A4: 1 | B4: 45049 | C4: 19.00 | D4: DONI 11.099 | G4: Vítězství | I4: JohnyFiser | J4: 40123 | K4: =SUM(J4) -> 40123
D5: Domino | E5: 6. bitva | F5: vítězství | H5: Malinovka 2
E6: 5. bitva | F6: vítězství | H6: Doly 2
E7: 4. bitva | F7: vítězství | H7: Pouštní řeka 2
E8: 3. bitva | F8: vítězství | H8: Murovanka 2
E9: 2. bitva | F9: porážka | H9: Pouštní řeka 2
E10: 1. bitva | F10: vítězství | H10: Himmelsdorf 1
A12: 2 | B12: 45049 | C12: 20.00 | D12: NUPGD 11.741 | E12: 7. bitva | G12: Remíza | I12: JohnyFiser | J12: 9715 | K12: =SUM(K4,J12) -> 49838
D13: Nu pogodi! | E13: 6. bitva
E14: 5. bitva | F14: vítězství | H14: Malinovka 2
E15: 4. bitva | F15: porážka | H15: Rybářský přístav 1
E16: 3. bitva | F16: porážka | H16: Himmelsdorf 1
E17: 2. bitva | F17: vítězství | H17: Rybářský přístav 2
E18: 1. bitva | F18: vítězství | H18: Himmelsdorf 1
A20: 3 | B20: 45051 | C20: 20.00 | D20: A_A_D 11.206 | E20: 7. bitva | G20: Porážka | I20: Kastynho | J20: 2747 | K20: =SUM(K12,J20) -> 52585
D21: Analiza Atak Domonacja | E21: 6. bitva | F21: porážka | H21: Dálnice 2
E22: 5. bitva | F22: porážka | H22: Prochorovka 2
E23: 4. bitva | F23: vítězství | H23: Dálnice 2
E24: 3. bitva | F24: porážka | H24: Prochorovka 2
E25: 2. bitva | F25: porážka | H25: Dubový lesík 2
E26: 1. bitva | F26: porážka | H26: Himmelsdorf 2
E27: 8. bitva | F27: vítězství | H27: Doly 1
A28: 4 | B28: 45052 | C28: 23.00 | D28: BLBS 10.384 | E28: 7. bitva | F28: vítězství | G28: Remíza | H28: Himmelsdorf 1 | I28: Johny_Forever | J28: 12339 | K28: =SUM(K20,J28) -> 64924
D29: BALKAN BIRDS | E29: 6. bitva | F29: porážka | H29: Doly 1
E30: 5. bitva | F30: vítězství | H30: Himmelsdorf 2
E31: 4. bitva | F31: porážka | H31: Doly 1
E32: 3. bitva | F32: vítězství | H32: Himmelsdorf 2
E33: 2. bitva | F33: porážka | H33: Doly 1
E34: 1. bitva | F34: porážka | H34: Himmelsdorf 1
A36: 5 | B36: 45057 | C36: 20.00 | D36: KAPES 13.666 | E36: 7. bitva | G36: Porážka | I36: Kastynho | J36: 2263 | K36: =SUM(K28,J36) -> 67187
D37: King Apes | E37: 6. bitva
E38: 5. bitva | F38: porážka | H38: Dálnice 1
E39: 4. bitva | F39: porážka | H39: Prochorovka 1
E40: 3. bitva | F40: porážka | H40: Dubový lesík 1
E41: 2. bitva | F41: porážka | H41: Malinovka 1
E42: 1. bitva | F42: vítězství | H42: Himmelsdorf 1
A44: 6 | B44: 45060 | C44: 19.00 | D44: GIMP_ 11.035 | E44: 7. bitva | G44: Porážka | I44: Kastynho | J44: 1119 | K44: =SUM(K36,J44) -> 68306
D45: PAINT YOUR WORLD | E45: 6. bitva
...

Sheet Červen 2023
A1: Ofenzívy klanu CORMA - Červen 2023
A3: P.č. | B3: Datum | C3: Hodina | D3: Soupeř | E3: Ofenzíva | F3: Výsledek | G3: Výsledek celkem | H3: Mapa | I3: Velitel | J3: Celkem krabiček | K3: ∑ krabiček
A4: 1 | B4: 45078 | C4: 20.00 | D4: _TRY 10.138 | G4: Vítězství | I4: Kastynho | J4: 24649 | K4: =SUM(J4) -> 24649
D5: NOT UNICUMS JUST TRYHARDS | E5: 6. bitva | F5: porážka | H5: Murovanka 1
E6: 5. bitva | F6: porážka | H6: Doly 2
E7: 4. bitva | F7: vítězství | H7: Murovanka 2
E8: 3. bitva | F8: vítězství | H8: Dubový lesík 2
E9: 2. bitva | F9: vítězství | H9: Klidné pobřeží 2
E10: 1. bitva | F10: porážka | H10: Himmelsdorf 2
A12: 2 | B12: 45078 | C12: 21.00 | D12: EVA- 10.854 | E12: 7. bitva | G12: Porážka | I12: Kastynho | J12: 8856 | K12: =SUM(K4,J12) -> 33505
D13: Team EVA | E13: 6. bitva | F13: vítězství | H13: Westfield 2
E14: 5. bitva | F14: vítězství | H14: Pouštní řeka 2
E15: 4. bitva | F15: porážka | H15: Westfield 2
E16: 3. bitva | F16: porážka | H16: Rybářský přístav 2
E17: 2. bitva | F17: porážka | H17: Dubový lesík 2
E18: 1. bitva | F18: vítězství | H18: Himmelsdorf 2
A20: 3 | B20: 45079 | C20: 20.00 | D20: PODIV 10.242 | E20: 7. bitva | G20: Vítězství | I20: Kastynho | J20: 45922 | K20: =SUM(K12,J20) -> 79427
D21: POVSTALECKÁ DIVIZE | E21: 6. bitva | F21: vítězství | H21: Himmelsdorf 2
E22: 5. bitva | F22: vítězství | H22: Malinovka 2
E23: 4. bitva | F23: vítězství | H23: Rybářský přístav 2
E24: 3. bitva | F24: vítězství | H24: Rybářský přístav 2
E25: 2. bitva | F25: porážka | H25: Rybářský přístav 1
E26: 1. bitva | F26: vítězství | H26: Himmelsdorf 2
A28: 4 | B28: 45079 | C28: 21.00 | D28: CRIS 12.281 | E28: 7. bitva | G28: porážka | I28: Kastynho | J28: 855 | K28: =SUM(K20,J28) -> 80282
D29: Crystalnoir | E29: 6. bitva | F29: vítězství | H29: Redshire 2
E30: 5. bitva | F30: porážka | H30: Dálnice 1
E31: 4. bitva | F31: vítězství | H31: Redshire 1
E32: 3. bitva | F32: porážka | H32: Dálnice 2
E33: 2. bitva | F33: porážka | H33: Dubový lesík 1
E34: 1. bitva | F34: vítězství | H34: Himmelsdorf 2
A36: 5 | B36: 45081 | C36: 19.00 | D36: SEKTA 8.026 | E36: 7. bitva | G36: Vítězství | I36: Johny_Forever | J36: 36566 | K36: =SUM(K28,J36) -> 116848
D37: SEKTA | E37: 6. bitva
E38: 5. bitva
E39: 4. bitva | F39: vítězství | H39: Útesy 1
E40: 3. bitva | F40: vítězství | H40: Ensk 1
E41: 2. bitva | F41: vítězství | H41: Dubový lesík 1
E42: 1. bitva | F42: vítězství | H42: Himmelsdorf 2
A44: 6 | B44: 45081 | C44: 20.00 | D44: PODIV 10.318 | E44: 7. bitva | G44: Vítězství | I44: Johny_Forever | J44: 21913 | K44: =SUM(K36,J44) -> 138761
D45: POVSTALECKÁ DIVIZE | E45: 6. bitva
E46: 5. bitva | F46: vítězství | H46: Rybářský přístav 2
...

Sheet Červenec 2023
A1: Ofenzívy klanu CORMA - Červenec 2023
A3: P.č. | B3: Datum | C3: Hodina | D3: Soupeř | E3: Ofenzíva | F3: Výsledek | G3: Výsledek celkem | H3: Mapa | I3: Velitel | J3: Celkem krabiček | K3: ∑ krabiček
A4: 1 | B4: 45109 | C4: 19.00 | D4: A131 7.008 | G4: Vítězství | I4: Johny_Forever | J4: 40150 | K4: =SUM(J4) -> 40150
D5: A_SESINOS131 | E5: 6. bitva
E6: 5. bitva
E7: 4. bitva | F7: vítězství | H7: Murovanka 2
E8: 3. bitva | F8: vítězství | H8: Klidné pobřeží 1
E9: 2. bitva | F9: vítězství | H9: Doly 1
E10: 1. bitva | F10: vítězství | H10: Himmelsdorf 2
A12: 2 | B12: 45109 | C12: 20.00 | D12: MJW 10.091 | E12: 7. bitva | G12: Porážka | I12: Johny_Forever | J12: 5357 | K12: =SUM(K4,J12) -> 45507
D13: Elitarna Polska | E13: 6. bitva | F13: vítězství | H13: Westfield 2
E14: 5. bitva | F14: porážka | H14: Klidné pobřeží 2
E15: 4. bitva | F15: porážka | H15: Prochorovka 1
E16: 3. bitva | F16: porážka | H16: Redshire 2
E17: 2. bitva | F17: vítězství | H17: Prochorovka 1
E18: 1. bitva | F18: porážka | H18: Himmelsdorf 1
A20: 3 | B20: 45110 | C20: 19.00 | D20: HEIST 9.966 | E20: 7. bitva | G20: Porážka | I20: Johny_Forever | J20: 918 | K20: =SUM(K12,J20) -> 46425
D21: HEIST | E21: 6. bitva
E22: 5. bitva
E23: 4. bitva | F23: porážka | H23: Westfield 1
E24: 3. bitva | F24: porážka | H24: Ensk 2
E25: 2. bitva | F25: porážka | H25: Rybářský přístav 2
E26: 1. bitva | F26: porážka | H26: Himmelsdorf 2
A28: 4 | B28: 45110 | C28: 20.00 | D28: _TRY 10.159 | E28: 7. bitva | G28: porážka | I28: NEPSTER_sk | J28: 6274 | K28: =SUM(K20,J28) -> 52699
D29: NOT UNICUMS JUST TRYHARDS | E29: 6. bitva | F29: porážka | H29: Dubový lesík 1
E30: 5. bitva | F30: porážka | H30: Malinovka 1
E31: 4. bitva | F31: porážka | H31: Rybářský přístav 2
E32: 3. bitva | F32: vítězství | H32: Malinovka 2
E33: 2. bitva | F33: vítězství | H33: Dubový lesík 1
E34: 1. bitva | F34: porážka | H34: Himmelsdorf 1
A36: 5 | B36: 45111 | C36: 19.00 | D36: CBIT 10.680 | E36: 7. bitva | G36: porážka | I36: Johny_Forever | J36: 1252 | K36: =SUM(K28,J36) -> 53951
D37: Ukrajina zminjúe Svit! | E37: 6. bitva
E38: 5. bitva
E39: 4. bitva | F39: porážka | H39: Westfield 2
E40: 3. bitva | F40: porážka | H40: Útesy 1
E41: 2. bitva | F41: porážka | H41: Malinovka 2
E42: 1. bitva | F42: porážka | H42: Himmelsdorf 1
A44: 6 | B44: 45111 | C44: 20.00 | D44: GIMP_ 9.795 | E44: 7. bitva | G44: porážka | I44: Mkentaur | J44: 2925 | K44: =SUM(K36,J44) -> 56876
D45: PAINT YOUR WORLD | E45: 6. bitva | F45: porážka | H45: Westfield 2
E46: 5. bitva | F46: porážka | H46: Útesy 1
...

Sheet Srpen 2023
A1: Ofenzívy klanu CORMA - Srpen 2023
A3: P.č. | B3: Datum | C3: Hodina | D3: Soupeř | E3: Ofenzíva | F3: Výsledek | G3: Výsledek celkem | H3: Mapa | I3: Velitel | J3: Celkem krabiček | K3: ∑ krabiček
