Workbook

Sheet Říjen 2021
A1: Ofenzívy klanu CORMA - Říjen 2021
A3: P.č. | B3: Datum | C3: Hodina | D3: Soupeř | E3: Ofenzíva | F3: Výsledek | G3: Výsledek celkem | H3: Mapa | I3: Velitel | J3: Celkem krabiček | K3: ∑ krabiček
A4: 1 | B4: 44471 | C4: 22.00 | D4: CS-EB 6.703 | E4: 6. bitva | G4: Porážka | I4: JohnyFiser
D5: Československý elektronický boj | E5: 5. bitva | F5: porážka | H5: Dubový lesík 2 | J5: 3842 | K5: =SUM(J5) -> 3842
E6: 4. bitva | F6: vítězství | H6: Karelie 1
E7: 3. bitva | F7: porážka | H7: Dubový lesík 2
E8: 2. bitva | F8: porážka | H8: Malinovka 2
E9: 1. bitva | F9: porážka | H9: Pouštní řeka 2
A11: 2 | B11: 44472 | C11: 21.00 | D11: _P1R_ 9.450 | E11: 6. bitva | F11: vítězství | G11: Porážka | H11: Dubový lesík 1 | I11: Kista3 | J11: 8509 | K11: =SUM(J5:J11) -> 12351
D12: Piranhass | E12: 5. bitva | F12: porážka | H12: Malinovka 1
E13: 4. bitva | F13: porážka | H13: Redshire 1
E14: 3. bitva | F14: vítězství | H14: Malinovka 2
E15: 2. bitva | F15: porážka | H15: Redshire 2
E16: 1. bitva | F16: vítězství | H16: Westfield 2
A18: 3 | B18: 44473 | C18: 21.00 | D18: ECDAT 9177 | E18: 6. bitva | G18: Vítězství | I18: JohnyFiser
D19: Kardesler takimi | E19: 5. bitva | F19: porážka | H19: Rybářský přístav 1 | J19: 24778 | K19: =SUM(J5,J11,J19) -> 37129
E20: 4. bitva | F20: vítězství | H20: Step 1
E21: 3. bitva | F21: porážka | H21: Rybářský přístav 1
E22: 2. bitva | F22: vítězství | H22: Step 1
E23: 1. bitva | F23: vítězství | H23: Redshire 2
A25: 4 | B25: 44474 | C25: 20.00 | D25: DAC_R 10.088 | E25: 6. bitva | G25: Remíza | I25: Kista3
D26: Divizia Armatei Carpati Romanniei | E26: 5. bitva | F26: vítězství | H26: Ruinberg 2 | J26: 10324 | K26: =SUM(J5,J11,J19,J26) -> 47453
E27: 4. bitva | F27: porážka | H27: Ruinberg 2
E28: 3. bitva | F28: vítězství | H28: Ruinberg 1
E29: 2. bitva | F29: porážka | H29: Ruinberg 1
E30: 1. bitva | F30: vítězství | H30: Step 2
A32: 5 | B32: 44474 | C32: 21.00 | D32: PHX-B 7.157 | E32: 6. bitva | G32: Porážka | I32: JohnyFiser
D33: Phoenix Bird | E33: 5. bitva | F33: vítězství | H33: Karelie 1 | J33: 5909 | K33: =SUM(J5,J11,J19,J26,J33) -> 53362
E34: 4. bitva | F34: porážka | H34: Redshire 2
E35: 3. bitva | F35: porážka | H35: Ensk 2
E36: 2. bitva | F36: porážka | H36: Prochorovka 1
E37: 1. bitva | F37: vítězství | H37: Rybářský přístav 1
A39: 6 | B39: 44475 | C39: 20.00 | D39: PA_CA 8.029 | E39: 6. bitva | F39: porážka | G39: Vítězství | H39: Prochorovka 2 | I39: Kista3
D40: Paquetes Camperos | E40: 5. bitva | F40: porážka | H40: Westfield 1 | J40: 24982 | K40: =SUM(J5,J11,J19,J26,J33,J40) -> 78344
E41: 4. bitva | F41: vítězství | H41: Prochorovka 1
E42: 3. bitva | F42: vítězství | H42: Step 2
E43: 2. bitva | F43: vítězství | H43: Malinovka 1
E44: 1. bitva | F44: porážka | H44: Prochorovka 2
A46: 7 | B46: 44475 | C46: 21.00 | D46: 4PBP 9.801 | E46: 6. bitva | F46: porážka | G46: Porážka | H46: Redshire 2 | I46: Kista3
D47: 4. Polska Brygada Pancerna | E47: 5. bitva | F47: porážka | H47: Ensk 2 | J47: 5948 | K47: =SUM(J5,J11,J19,J26,J33,J40,J47) -> 84292
E48: 4. bitva | F48: porážka | H48: Prochorovka 1
E49: 3. bitva | F49: porážka | H49: Klidné pobřeží 2
E50: 2. bitva | F50: vítězství | H50: Prochorovka 2
E51: 1. bitva | F51: vítězství | H51: Murovanka 2
A53: 8 | B53: 44476 | C53: 20.00 | D53: JOKE_ 10.258 | E53: 6. bitva | F53: vítězství | G53: Porážka | H53: Karelie 2 | I53: JohnyFiser
D54: JusT_a_JoKe | E54: 5. bitva | F54: porážka | H54: Himmelsdorf 1 | J54: 5551 | K54: =SUM(K47,J54) -> 89843
E55: 4. bitva | F55: vítězství | H55: Karelie 2
E56: 3. bitva | F56: porážka | H56: Himmelsdorf 1
E57: 2. bitva | F57: porážka | H57: Doly 2
E58: 1. bitva | F58: porážka | H58: Ensk 1
A60: 9 | B60: 44476 | C60: 20.00 | D60: 3DBFL 11.036 | E60: 6. bitva | G60: Porážka | I60: JohnyFiser
D61: 3e Division Blindée Francaise Leclerc | E61: 5. bitva | F61: vítězství | H61: Karelie 2 | J61: 5948 | K61: =SUM(K54,J61) -> 95791
E62: 4. bitva | F62: porážka | H62: Dubový lesík 2
E63: 3. bitva | F63: vítězství | H63: Dubový lesík 2
E64: 2. bitva | F64: porážka | H64: Malinovka 2
E65: 1. bitva | F65: porážka | H65: Malinovka 2
A67: 10 | B67: 44477 | C67: 20.00 | D67: -YEN- 12.638 | E67: 6. bitva | F67: vítězství | G67: Porážka | H67: Karelie 2 | I67: VisionEn
D68: You"rE Next! | E68: 5. bitva | F68: porážka | H68: Redshire 1 | J68: 5798 | K68: =SUM(K61,J68) -> 101589
E69: 4. bitva | F69: porážka | H69: Ensk 1
E70: 3. bitva | F70: vítězství | H70: Redshire 2
E71: 2. bitva | F71: porážka | H71: Ensk 2
E72: 1. bitva | F72: porážka | H72: Westfield 2
A74: 11 | B74: 44477 | C74: 21.00 | D74: ACON 12.410 | E74: 6. bitva | G74: Porážka | I74: VisionEn
D75: AppleCrown | E75: 5. bitva | J75: 1066 | K75: =SUM(K68,J75) -> 102655
E76: 4. bitva | F76: porážka | H76: Karelie 2
E77: 3. bitva | F77: porážka | H77: Dubový lesík 2
E78: 2. bitva | F78: porážka | H78: Malinovka 1
E79: 1. bitva | F79: porážka | H79: Doly 1
A81: 12 | B81: 44477 | C81: 22.00 | D81: OMGII 12.253 | E81: 6. bitva | G81: Remíza | I81: VisionEn
D82: Brain ON start-UP | E82: 5. bitva | F82: porážka | H82: Murovanka 2 | J82: 8821 | K82: =SUM(K75,J82) -> 111476
E83: 4. bitva | F83: vítězství | H83: Malinovka 2
E84: 3. bitva | F84: vítězství | H84: Dubový lesík 1
E85: 2. bitva | F85: porážka | H85: Malinovka 2
E86: 1. bitva | F86: porážka | H86: Útesy 2
A88: 13 | B88: 44477 | C88: 23.00 | D88: GDCRO 7.761 | E88: 6. bitva | F88: vítězství | G88: Vítězství | H88: Pouštní řeka 2 | I88: VisionEn
D89: Ghost Division CRO | E89: 5. bitva | F89: vítězství | H89: Himmelsdorf 2 | J89: 43999 | K89: =SUM(K82,J89) -> 155475
E90: 4. bitva | F90: vítězství | H90: Westfield 2
E91: 3. bitva | F91: vítězství | H91: Malinovka 2
E92: 2. bitva | F92: porážka | H92: Westfield 2
E93: 1. bitva | F93: vítězství | H93: Murovanka 2
A95: 14 | B95: 44478 | C95: 20.00 | D95: DAC_R 10.088 | E95: 6. bitva | F95: porážka | G95: Porážka | H95: Karelie 1 | I95: JohnyFiser
D96: Divizia Armatei Carpati Romanniei | E96: 5. bitva | F96: porážka | H96: Dubový lesík 2 | J96: 3199 | K96: =SUM(K89,J96) -> 158674
E97: 4. bitva | F97: porážka | H97: Malinovka 2
D98: 5.10.2021 20.00h Remíza | E98: 3. bitva | F98: vítězství | H98: Dubový lesík 1
E99: 2. bitva | F99: porážka | H99: Malinovka 1
E100: 1. bitva | F100: porážka | H100: Malinovka 1
A102: 15 | B102: 44478 | C102: 21.00 | D102: CSJL 7171 | E102: 6. bitva | F102: porážka | G102: Porážka | H102: Karelie 1 | I102: Kista3
D103: Československá jednotka legionářů | E103: 5. bitva | F103: porážka | H103: Dubový lesík 1 | J103: 3457 | K103: =SUM(K96,J103) -> 162131
E104: 4. bitva | F104: porážka | H104: Malinovka 2
E105: 3. bitva | F105: vítězství | H105: Dubový lesík 1
E106: 2. bitva | F106: porážka | H106: Malinovka 2
E107: 1. bitva | F107: porážka | H107: Doly 2
A109: 16 | B109: 44478 | C109: 22.00 | D109: LGACY 9.341 | E109: 6. bitva | F109: porážka | G109: Porážka | H109: Karelie 1 | I109: Kista3
D110: The Legacy Continues | E110: 5. bitva | F110: porážka | H110: Dubový lesík 1 | J110: 3457 | K110: =SUM(K103,J110) -> 165588
E111: 4. bitva | F111: porážka | H111: Malinovka 2
E112: 3. bitva | F112: vítězství | H112: Dubový lesík 1
E113: 2. bitva | F113: porážka | H113: Malinovka 2
E114: 1. bitva | F114: porážka | H114: Doly 2
A116: 17 | B116: 44479 | C116: 20.00 | D116: WEA 10.705 | E116: 6. bitva | G116: Porážka | I116: Kista3
D117: -White Eagles- | E117: 5. bitva | J117: 1012 | K117: =SUM(K110,J117) -> 166600
...

Sheet Listopad 2021
A1: Ofenzívy klanu CORMA - Listopad 2021
A3: P.č. | B3: Datum | C3: Hodina | D3: Soupeř | E3: Ofenzíva | F3: Výsledek | G3: Výsledek celkem | H3: Mapa | I3: Velitel | J3: Celkem krabiček | K3: ∑ krabiček
A4: 1 | B4: 44501 | C4: 21.00 | D4: 6HOST 12.820 | E4: 6. bitva | F4: porážka | G4: Porážka | H4: Ensk 1 | I4: Kista3 | J4: 2496 | K4: =SUM(J4) -> 2496
D5: Ghosts_Of_The_Balkans | E5: 5. bitva | F5: porážka | H5: Prochorovka 2
E6: 4. bitva | F6: porážka | H6: Útesy 1
E7: 3. bitva | F7: porážka | H7: Murovanka 2
E8: 2. bitva | F8: vítězství | H8: Útesy 1
E9: 1. bitva | F9: porážka | H9: Redshire 1
A11: 2 | B11: 44502 | C11: 20.00 | D11: CSOH_ 10.318 | E11: 6. bitva | F11: porážka | G11: Porážka | H11: Ensk 1 | I11: JohnyFiser | J11: 3206 | K11: =SUM(K4,J11) -> 5702
D12: Českoslovenští ostří hoši_ | E12: 5. bitva | F12: porážka | H12: Malinovka 1
E13: 4. bitva | F13: porážka | H13: Rybářeský přístav 2
E14: 3. bitva | F14: vítězství | H14: Malinovka 1
E15: 2. bitva | F15: porážka | H15: Rybářský přístav 2
E16: 1. bitva | F16: porážka | H16: Prochorovka 2
A18: 3 | B18: 44502 | C18: 21.00 | D18: CRIS 11.148 | E18: 6. bitva | G18: Vítězství | I18: JohnyFiser | J18: 33037 | K18: =SUM(K11,J18) -> 38739
D19: Crystalnoir | E19: 5. bitva | F19: vítězství | H19: Malinovka 2
E20: 4. bitva | F20: porážka | H20: Doly 2
E21: 3. bitva | F21: vítězství | H21: Malinovka 2
E22: 2. bitva | F22: vítězství | H22: Murovanka 1
E23: 1. bitva | F23: vítězství | H23: Westfield 2
A25: 4 | B25: 44508 | C25: 20.00 | D25: PYRZ 10.252 | E25: 6. bitva | G25: Porážka | I25: VisionEn | J25: 2818 | K25: =SUM(K18,J25) -> 41557
D26: ..POYRAZ.. | E26: 5. bitva | F26: porážka | H26: Ensk 2
E27: 4. bitva | F27: porážka | H27: Malinovka 2
E28: 3. bitva | F28: porážka | H28: Rybářský přístav 1
E29: 2. bitva | F29: porážka | H29: Ruinberg 1
E30: 1. bitva | F30: vítězství | H30: Malinovka 2
A32: 5 | B32: 44509 | C32: 21.00 | D32: CROAT 9.122 | E32: 6. bitva | G32: Vítězství | I32: Kista3 | J32: 44876 | K32: =SUM(K25,J32) -> 86433
D33: -Nemá_Predaje- | E33: 5. bitva | F33: vítězství | H33: Murovanka 2
E34: 4. bitva | F34: vítězství | H34: Útesy 1
E35: 3. bitva | F35: vítězství | H35: Pouštní řeka 2
E36: 2. bitva | F36: vítězství | H36: Útesy 2
E37: 1. bitva | F37: remíza | H37: Murovanka 1
A39: 6 | B39: 44511 | C39: 21.00 | D39: FOTD 9.802 | E39: 6. bitva | F39: vítězství | G39: Remíza | H39: Útesy 1 | I39: BossBambus360 | J39: 11815 | K39: =SUM(K32,J39) -> 98248
D40: Fear Of The Dark | E40: 5. bitva | F40: vítězství | H40: Prochorovka 2
E41: 4. bitva | F41: porážka | H41: Útesy 1
E42: 3. bitva | F42: porážka | H42: Útesy 2
E43: 2. bitva | F43: vítězství | H43: Útesy 2
E44: 1. bitva | F44: porážka | H44: Prochorovka 2
A46: 7 | B46: 44512 | C46: 22.00 | D46: -SIS- 11.256 | E46: 6. bitva | G46: Porážka | I46: janysek7 | J46: 6050 | K46: =SUM(K39,J46) -> 104298
D47: Spider´s | E47: 5. bitva
E48: 4. bitva | F48: vítězství | H48: Malinovka 1
E49: 3. bitva | F49: porážka | H49: Rybářský přístav 1
E50: 2. bitva | F50: porážka | H50: Rybářský přístav 1
E51: 1. bitva | F51: vítězství | H51: Malinovka 2
A53: 8 | B53: 44513 | C53: 20.00 | D53: O2G 9.814 | E53: 6. bitva | F53: porážka | G53: Remíza | H53: Malinovka 2 | I53: BossBambus360 | J53: 12402 | K53: =SUM(K46,J53) -> 116700
D54: Only Gentlemen´s | E54: 5. bitva | F54: porážka | H54: Pouštní řeka 1
E55: 4. bitva | F55: vítězství | H55: Malinovka 2
E56: 3. bitva | F56: vítězství | H56: Útesy 2
E57: 2. bitva | F57: porážka | H57: Malinovka 1
E58: 1. bitva | F58: vítězství | H58: Westfield 2
A60: 9 | B60: 44513 | C60: 21.00 | D60: _DST_ 12.613 | E60: 6. bitva | G60: Porážka | I60: BossBambus360 | J60: 7004 | K60: =SUM(K53,J60) -> 123704
D61: Diversantai [SABOTEURS] | E61: 5. bitva | F61: vítězství | H61: Prochorovka 1
E62: 4. bitva | F62: porážka | H62: Útesy 1
E63: 3. bitva | F63: porážka | H63: Karelie 2
E64: 2. bitva | F64: vítězství | H64: Útesy 1
E65: 1. bitva | F65: porážka | H65: Doly 1
A67: 10 | B67: 44514 | C67: 20.00 | D67: CZPTP 8.532 | E67: 6. bitva | G67: Porážka | I67: JohnyFiser + BossBambus360 | J67: 3914 | K67: =SUM(K60,J67) -> 127618
D68: Československý pomocný tankový prapor | E68: 5. bitva | F68: porážka | H68: Prochorovka 1
E69: 4. bitva | F69: porážka | H69: Útesy 2
E70: 3. bitva | F70: porážka | H70: Malinovka 2
E71: 2. bitva | F71: vítězství | H71: Útesy 1
E72: 1. bitva | F72: porážka | H72: Murovanka 2
A74: 11 | B74: 44514 | C74: 21.00 | D74: WTH_ 9.201 | E74: 6. bitva | F74: porážka | G74: Porážka | H74: Ensk 1 | I74: JohnyFiser | J74: 3363 | K74: =SUM(K67,J74) -> 130981
D75: Welcome to hell in Czechoslovakia | E75: 5. bitva | F75: porážka | H75: Prochorovka 2
E76: 4. bitva | F76: porážka | H76: Útesy 1
E77: 3. bitva | F77: porážka | H77: Karelie 1
E78: 2. bitva | F78: vítězství | H78: Útesy 2
E79: 1. bitva | F79: porážka | H79: Doly 1
A81: 12 | B81: 44516 | C81: 19.00 | D81: GVN_ 8.242 | E81: 6. bitva | G81: Porážka | I81: Kista3 | J81: 6832 | K81: =SUM(K74,J81) -> 137813
D82: Garda Veche | E82: 5. bitva | F82: porážka | H82: Prochorovka 1
E83: 4. bitva | F83: porážka | H83: Malinovka 2
E84: 3. bitva | F84: porážka | H84: Prochorovka 2
E85: 2. bitva | F85: vítězství | H85: Malinovka 1
E86: 1. bitva | F86: vítězství | H86: Himmelsdorf 1
A88: 13 | B88: 44518 | C88: 21.00 | D88: VOLK 9.813 | E88: 6. bitva | F88: vítězství | G88: Porážka | H88: Karelie 1 | I88: JohnyFiser | J88: 9020 | K88: =SUM(K81,J88) -> 146833
D89: -vukovi- | E89: 5. bitva | F89: porážka | H89: Ensk 1
E90: 4. bitva | F90: vítězství | H90: Karelie 2
E91: 3. bitva | F91: porážka | H91: Ensk 1
E92: 2. bitva | F92: porážka | H92: Ruinberg 1
E93: 1. bitva | F93: vítězství | H93: Rybářský přístav 2
A95: 14 | B95: 44520 | C95: 21.00 | D95: RSB-R 9.531 | E95: 6. bitva | F95: vítězství | G95: Remíza | H95: Prochorovka 2 | I95: JohnyFiser | J95: 12456 | K95: =SUM(K88,J95) -> 159289
D96: Rai si Buni | E96: 5. bitva | F96: porážka | H96: Ensk 1
E97: 4. bitva | F97: vítězství | H97: Prochorovka 2
E98: 3. bitva | F98: porážka | H98: Ensk 2
E99: 2. bitva | F99: vítězství | H99: Prochorovka 1
E100: 1. bitva | F100: vítězství | H100: Doly 1
A102: 15 | B102: 44521 | C102: 21.00 | D102: ATAI 10.820 | E102: 6. bitva | G102: Remíza | I102: Kista3 | J102: 12288 | K102: =SUM(K95,J102) -> 171577
D103: Bushido | E103: 5. bitva | F103: porážka | H103: Prochorovka 1
E104: 4. bitva | F104: vítězství | H104: Karelie 1
E105: 3. bitva | F105: porážka | H105: Prochorovka 2
E106: 2. bitva | F106: vítězství | H106: Karelie 2
E107: 1. bitva | F107: vítězství | H107: Westfield 1
A109: 16 | B109: 44522 | C109: 21.00 | D109: VHT 8.904 | E109: 6. bitva | F109: porážka | G109: Vítězství | H109: Himmelsdorf 1 | I109: JohnyFiser | J109: 24994 | K109: =SUM(K102,J109) -> 196571
D110: Villám Had Test | E110: 5. bitva | F110: vítězství | H110: Karelie 2
E111: 4. bitva | F111: porážka | H111: Himmelsdorf 1
E112: 3. bitva | F112: vítězství | H112: Karelie 2
E113: 2. bitva | F113: vítězství | H113: Ensk 1
E114: 1. bitva | F114: porážka | H114: Himmelsdorf 2
A116: 17 | B116: 44523 | C116: 21.00 | D116: REDEG 10.364 | E116: 6. bitva | F116: porážka | G116: Porážka | H116: Westfield 1 | I116: JohnyFiser | J116: 3333 | K116: =SUM(K109,J116) -> 199904
D117: Red_Eagles | E117: 5. bitva | F117: porážka | H117: Karelie 1
...

Sheet Prosinec 2021
A1: Ofenzívy klanu CORMA - Prosinec 2021
A3: P.č. | B3: Datum | C3: Hodina | D3: Soupeř | E3: Ofenzíva | F3: Výsledek | G3: Výsledek celkem | H3: Mapa | I3: Velitel | J3: Celkem krabiček | K3: ∑ krabiček
A4: 1 | B4: 44531 | C4: 20.00 | D4: LT-W3 12.420 | E4: 6. bitva | G4: Porážka | I4: Kista3 | J4: 6687 | K4: =SUM(J4) -> 6687
D5: Lithuania Overtaking Control | E5: 5. bitva | F5: vítězství | H5: Redshire 1
E6: 4. bitva | F6: porážka | H6: Doly 1
E7: 3. bitva | F7: vítězství | H7: Redshire 1
E8: 2. bitva | F8: porážka | H8: Doly 2
E9: 1. bitva | F9: porážka | H9: Prochorovka 1
A11: 2 | B11: 44531 | C11: 21.00 | D11: L_FOX 10.228 | E11: 6. bitva | F11: porážka | G11: Porážka | H11: Murovanka 2 | I11: JohnyFiser | J11: 7054 | K11: =SUM(K4,J11) -> 13741
D12: Lonely Foxes | E12: 5. bitva | F12: porážka | H12: Útesy 1
E13: 4. bitva | F13: vítězství | H13: Murovanka 2
E14: 3. bitva | F14: vítězství | H14: Prochorovka 1
E15: 2. bitva | F15: porážka | H15: Rybářský přístav 2
E16: 1. bitva | F16: porážka | H16: Ruinberg 1
A18: 3 | B18: 44532 | C18: 21.00 | D18: PEPEK 6.665 | E18: 6. bitva | G18: Porážka | I18: JohnyFiser | J18: 1179 | K18: =SUM(K11,J18) -> 14920
D19: Boží ruka udeří | E19: 5. bitva
E20: 4. bitva | F20: porážka | H20: Dálnice 2
E21: 3. bitva | F21: porážka | H21: Redshire 2
E22: 2. bitva | F22: porážka | H22: Doly 2
E23: 1. bitva | F23: porážka | H23: Westfield 1
A25: 4 | B25: 44533 | C25: 21.00 | D25: NISZA 11.074 | E25: 6. bitva | G25: Porážka | I25: JohnyFiser | J25: 1273 | K25: =SUM(K18,J25) -> 16193
D26: Polska Brygada Pancerna Naszej Niszy | E26: 5. bitva
E27: 4. bitva | F27: porážka | H27: Dálnice 1
E28: 3. bitva | F28: porážka | H28: Prochorovka 2
E29: 2. bitva | F29: porážka | H29: Murovanka 1
E30: 1. bitva | F30: porážka | H30: Ruinberg 1
A32: 5 | B32: 44534 | C32: 21.00 | D32: PODIV 7.843 | E32: 6. bitva | F32: vítězství | G32: Vítězství | H32: Doly 1 | I32: JohnyFiser | J32: 36720 | K32: =SUM(K25,J32) -> 52913
D33: Povstalecká divize | E33: 5. bitva | F33: porážka | H33: Himmelsdorf 2
E34: 4. bitva | F34: vítězství | H34: Doly 2
E35: 3. bitva | F35: vítězství | H35: Malinovka 2
E36: 2. bitva | F36: vítězství | H36: Doly 2
E37: 1. bitva | F37: vítězství | H37: Pouštní řeka 1
A39: 6 | B39: 44534 | C39: 22.00 | D39: A-W-P 10.495 | E39: 6. bitva | G39: Porážka | I39: JohnyFiser | J39: 2881 | K39: =SUM(K32,J39) -> 55794
D40: Armia Wyzvolenia Polskiego | E40: 5. bitva | F40: porážka | H40: Dálnice 2
E41: 4. bitva | F41: porážka | H41: Redshire 1
D42: 15.10.2021 21.00h porážka | E42: 3. bitva | F42: porážka | H42: Doly 1
E43: 2. bitva | F43: porážka | H43: Murovanka 1
E44: 1. bitva | F44: vítězství | H44: Útesy 1
A46: 7 | B46: 44536 | C46: 20.00 | D46: PYRZ 10.252 | E46: 6. bitva | F46: porážka | G46: Porážka | H46: Dálnice 1 | I46: JohnyFiser | J46: 3331 | K46: =SUM(K39,J46) -> 59125
D47: ..POYRAZ.. | E47: 5. bitva | F47: porážka | H47: Prochorovka 1
E48: 4. bitva | F48: vítězství | H48: Dálnice 2
D49: 8.11.2021 20.00h porážka | E49: 3. bitva | F49: porážka | H49: Prochorovka 1
E50: 2. bitva | F50: porážka | H50: Murovanka 2
E51: 1. bitva | F51: porážka | H51: Rybářský přístav 1
A53: 8 | B53: 44536 | C53: 21.00 | D53: KARPL 8.126 | E53: 6. bitva | G53: Vítězství | I53: Kista3 | J53: 44339 | K53: =SUM(K46,J53) -> 103464
D54: KaczorkiPL | E54: 5. bitva
E55: 4. bitva | F55: vítězství | H55: Westfield 1
E56: 3. bitva | F56: vítězství | H56: Ensk 1
E57: 2. bitva | F57: vítězství | H57: Redshire 1
E58: 1. bitva | F58: vítězství | H58: Westfield 1
A60: 9 | B60: 44538 | C60: 21.00 | D60: 3DBFL 11.036, 10.949 | E60: 6. bitva | G60: Remíza | I60: Kista3 | J60: 11365 | K60: =SUM(K53,J60) -> 114829
D61: 3e Division Blindée Francaise Leclerc | E61: 5. bitva | F61: vítězství | H61: Útesy 1
E62: 4. bitva | F62: porážka | H62: Prochorovka 2
D63: 7.10.2021 20.00h porážka | E63: 3. bitva | F63: porážka | H63: Klidné pobřeží 1
D64: 22.10.2021 22.00 porážka | E64: 2. bitva | F64: vítězství | H64: Prochorovka 1
E65: 1. bitva | F65: vítězství | H65: Murovanka 2
A67: 10 | B67: 44539 | C67: 20.00 | D67: SOUND 11.455 | E67: 6. bitva | G67: Vítězství | I67: JohnyFiser | J67: 24895 | K67: =SUM(K60,J67) -> 139724
D68: Sound of Silence | E68: 5. bitva | F68: vítězství | H68: Murovanka 1
E69: 4. bitva | F69: porážka | H69: Studzianky 2
E70: 3. bitva | F70: vítězství | H70: Murovanka 2
E71: 2. bitva | F71: vítězství | H71: Doly 1
E72: 1. bitva | F72: remíza | H72: Rybářský přístav 2
A74: 11 | B74: 44539 | C74: 21.00 | D74: 1NRGY 10.642 | E74: 6. bitva | G74: Porážka | I74: Kista3 | J74: 4314 | K74: =SUM(K67,J74) -> 144038
D75: Energy1 | E75: 5. bitva | F75: porážka | H75: Ensk 1
E76: 4. bitva | F76: porážka | H76: Útesy 2
E77: 3. bitva | F77: porážka | H77: Dálnice 2
E78: 2. bitva | F78: vítězství | H78: Útesy 1
E79: 1. bitva | F79: porážka | H79: Útesy 1
A81: 12 | B81: 44540 | C81: 21.00 | D81: BN-HS 10.697 | E81: 6. bitva | F81: vítězství | G81: Remíza | H81: Doly 1 | I81: JohnyFiser | J81: 11939 | K81: =SUM(K74,J81) -> 155977
D82: Balkan Hooligans | E82: 5. bitva | F82: vítězství | H82: Redshire 2
E83: 4. bitva | F83: porážka | H83: Doly 2
E84: 3. bitva | F84: porážka | H84: Himmelsdorf 1
E85: 2. bitva | F85: vítězství | H85: Doly 2
E86: 1. bitva | F86: porážka | H86: Murovanka 2
A88: 13 | B88: 44540 | C88: 21.00 | D88: 47EDP 7.371 | E88: 6. bitva | G88: Vítězství | I88: JohnyFiser + Kista3 | J88: 24127 | K88: =SUM(K81,J88) -> 180104
D89: 47 Elitarna Dywizja Pancerna | E89: 5. bitva | F89: vítězství | H89: Útesy 2
E90: 4. bitva | F90: porážka | H90: Klidné pobřeží 2
E91: 3. bitva | F91: vítězství | H91: Útesy 1
E92: 2. bitva | F92: vítězství | H92: Murovanka 2
E93: 1. bitva | F93: porážka | H93: Westfield 1
A95: 14 | B95: 44541 | C95: 23.00 | D95: PT_CS 6.038 | E95: 6. bitva | F95: vítězství | G95: Vítězství | H95: Murovanka 2 | I95: JohnyFiser | J95: 46327 | K95: =SUM(K88,J95) -> 226431
D96: Potetovaný tučňák | E96: 5. bitva | F96: vítězství | H96: Dubový lesík 1
E97: 4. bitva | F97: porážka | H97: Murovanka 1
E98: 3. bitva | F98: vítězství | H98: Dubový lesík 1
E99: 2. bitva | F99: vítězství | H99: Redshire 1
E100: 1. bitva | F100: vítězství | H100: Westfield 1
A102: 15 | B102: 44543 | C102: 20.00 | D102: B-E-A 8.379 | E102: 6. bitva | G102: Vítězství | I102: Kista3 | J102: 33686 | K102: =SUM(K95,J102) -> 260117
D103: Brigada Espaňola Acorazada | E103: 5. bitva
E104: 4. bitva | F104: vítězství | H104: Murovanka 2
E105: 3. bitva | F105: porážka | H105: Murovanka 2
E106: 2. bitva | F106: vítězství | H106: Pouštní řeka 2
E107: 1. bitva | F107: vítězství | H107: Ruinberg 1
A109: 16 | B109: 44543 | C109: 21.00 | D109: SHLD 4.303 | E109: 6. bitva | F109: porážka | G109: Porážka | H109: Doly 2 | I109: Kista3 | J109: 7032 | K109: =SUM(K102,J109) -> 267149
D110: S.H.I.E.L.D | E110: 5. bitva | F110: vítězství | H110: Redshire 2
E111: 4. bitva | F111: vítězství | H111: Dalnice 2
E112: 3. bitva | F112: porážka | H112: Redshire 2
E113: 2. bitva | F113: porážka | H113: Doly 1
E114: 1. bitva | F114: porážka | H114: Himmelsdorf 2
A116: 17 | B116: 44544 | C116: 20.00 | D116: DESTD 11.202 | E116: 6. bitva | G116: Porážka | I116: JohnyFiser | J116: 2949 | K116: =SUM(K109,J116) -> 270098
D117: ********* | E117: 5. bitva | F117: porážka | H117: Dalnice 1
...

Sheet Leden 2022
A1: Ofenzívy klanu CORMA - Leden 2022
A3: P.č. | B3: Datum | C3: Hodina | D3: Soupeř | E3: Ofenzíva | F3: Výsledek | G3: Výsledek celkem | H3: Mapa | I3: Velitel | J3: Celkem krabiček | K3: ∑ krabiček
A4: 1 | B4: 44562 | C4: 21.00 | D4: VA-HA 9.000 | E4: 6. bitva | G4: Vítězství | I4: JohnyFiser | J4: 24569 | K4: =SUM(J4) -> 24569
D5: Vataha | E5: 5. bitva | F5: porážka | H5: Prochorovka 2
E6: 4. bitva | F6: vítězství | H6: Westfield 2
E7: 3. bitva | F7: porážka | H7: Prochorovka 2
E8: 2. bitva | F8: vítězství | H8: Westfield 1
E9: 1. bitva | F9: vítězství | H9: Doly 1
A11: 2 | B11: 44562 | C11: 23.00 | D11: M-BB 9.742 | E11: 7. bitva | F11: porážka | G11: Remíza | H11: Himmelsdorf 2 | I11: JohnyFiser | J11: 12744 | K11: =SUM(K4,J11) -> 37313
D12: Magyar Békés Brigád | E12: 6. bitva | F12: porážka | H12: Westfield 2
E13: 5. bitva | F13: porážka | H13: Klidné pobřeží 2
E14: 4. bitva | F14: vítězství | H14: Westfield 1
E15: 3. bitva | F15: vítězství | H15: Himmelsdorf 1
E16: 2. bitva | F16: vítězství | H16: Útesy 1
E17: 1. bitva | F17: porážka | H17: Doly 2
A19: 3 | B19: 44563 | C19: 20.00 | D19: SAYG1 9.676 | E19: 6. bitva | G19: Vítězství | I19: Hajime92 | J19: 44087 | K19: =SUM(K11,J19) -> 81400
D20: SAYGI | E20: 5. bitva
E21: 4. bitva | F21: vítězství | H21: Prochorovka 2
E22: 3. bitva | F22: vítězství | H22: Pouštní řeka 1
E23: 2. bitva | F23: vítězství | H23: Westfield 1
E24: 1. bitva | F24: vítězství | H24: Pouštní řeka 2
A27: 4 | B27: 44563 | C27: 21.00 | D27: REDEG 10.139 | E27: 6. bitva | G27: Porážka | I27: Hajime92 | J27: 3067 | K27: =SUM(K19,J27) -> 84467
D28: Red_Eagles | E28: 5. bitva | F28: porážka | H28: Doly 1
E29: 4. bitva | F29: porážka | H29: Klidné pobřeží 1
E30: 3. bitva | F30: porážka | H30: Útesy 1
E31: 2. bitva | F31: porážka | H31: Ensk 1
E32: 1. bitva | F32: vítězství | H32: Doly 2
A34: 5 | B34: 44564 | C34: 20.00 | D34: SOBPL 8.450 | E34: 6. bitva | F34: porážka | G34: Vítězství | H34: Dálnice 2 | I34: Hajime92 | J34: 35783 | K34: =SUM(K27,J34) -> 120250
D35: Sobieski PL | E35: 5. bitva | F35: vítězství | H35: Ensk 1
E36: 4. bitva | F36: vítězství | H36: Redshire 1
E37: 3. bitva | F37: vítězství | H37: Murovanka 2
E38: 2. bitva | F38: porážka | H38: Redshire 2
E39: 1. bitva | F39: vítězství | H39: Doly 2
A41: 6 | B41: 44564 | C41: 21.00 | D41: 3VCZ 8.020 | E41: 6. bitva | G41: Vítězství | I41: JohnyFiser | J41: 44208 | K41: =SUM(K34,J41) -> 164458
D42: Veni Vidi Vici CZ | E42: 5. bitva
E43: 4. bitva | F43: vítězství | H43: Dálnice 2
E44: 3. bitva | F44: vítězství | H44: Redshire 2
E45: 2. bitva | F45: vítězství | H45: Dubový lesík 2
E46: 1. bitva | F46: vítězství | H46: Útesy 1
A48: 7 | B48: 44565 | C48: 19.00 | D48: _MLK_ 7.172 | E48: 6. bitva | F48: porážka | G48: Porážka | H48: Murovanka 2 | I48: Hajime92 | J48: 7106 | K48: =SUM(K41,J48) -> 171564
D49: My Little Kampf | E49: 5. bitva | F49: vítězství | H49: Pouštní řeka 1
E50: 4. bitva | F50: vítězství | H50: Doly 1
E51: 3. bitva | F51: porážka | H51: Pouštní řeka 2
E52: 2. bitva | F52: porážka | H52: Murovanka 2
E53: 1. bitva | F53: porážka | H53: Westfield 2
A55: 8 | B55: 44565 | C55: 20.00 | D55: -LCP- 9.762 | E55: 6. bitva | G55: Vítězství | I55: JohnyFiser | J55: 44433 | K55: =SUM(K48,J55) -> 215997
D56: Legie černých panterů | E56: 5. bitva
E57: 4. bitva | F57: vítězství | H57: Doly 2
E58: 3. bitva | F58: vítězství | H58: Himmelsdorf 2
E59: 2. bitva | F59: vítězství | H59: Prochorovka 2
E60: 1. bitva | F60: vítězství | H60: Prochorovka 1
A62: 9 | B62: 44565 | C62: 21.00 | D62: NR-SK 8.667 | E62: 6. bitva | F62: vítězství | G62: Remíza | H62: Murovanka 1 | I62: Hajime92 | J62: 12499 | K62: =SUM(K55,J62) -> 228496
D63: NR-SK Slovenskí tankisti | E63: 5. bitva | F63: porážka | H63: Doly 1
E64: 4. bitva | F64: porážka | H64: Ensk 2
E65: 3. bitva | F65: vítězství | H65: Doly 1
E66: 2. bitva | F66: vítězství | H66: Murovanka 2
E67: 1. bitva | F67: porážka | H67: Murovanka 2
A69: 10 | B69: 44566 | C69: 20.00 | D69: DR-L3 7.264 | E69: 6. bitva | G69: Vítězství | I69: Hajime92 | J69: 44221 | K69: =SUM(K62,J69) -> 272717
D70: Dread League | E70: 5. bitva
E71: 4. bitva | F71: vítězství | H71: Malinovka 1
E72: 3. bitva | F72: vítězství | H72: Dálnice 2
E73: 2. bitva | F73: vítězství | H73: Studzianki 2
E74: 1. bitva | F74: vítězství | H74: Doly 2
A76: 11 | B76: 44566 | C76: 21.00 | D76: FOXES 6.580 | E76: 6. bitva | F76: vítězství | G76: Porážka | H76: Klidné pobřeží 1 | I76: Hajime92 | J76: 8947 | K76: =SUM(K69,J76) -> 281664
D77: First of X | E77: 5. bitva | F77: porážka | H77: Útesy 1
E78: 4. bitva | F78: porážka | H78: Doly 2
E79: 3. bitva | F79: vítězství | H79: Útesy 2
E80: 2. bitva | F80: porážka | H80: Doly 2
E81: 1. bitva | F81: vítězství | H81: Prochorovka 2
A83: 12 | B83: 44567 | C83: 20.00 | D83: IMB 9.763 | E83: 6. bitva | G83: Vítězství | I83: Hajime92 | J83: 43588 | K83: =SUM(K76,J83) -> 325252
D84: infanteria mecanizada brunete 1 | E84: 5. bitva
E85: 4. bitva | F85: vítězství | H85: Himmelsdorf 1
E86: 3. bitva | F86: vítězství | H86: Prochorovka 2
E87: 2. bitva | F87: vítězství | H87: Útesy 2
E88: 1. bitva | F88: vítězství | H88: ElHalluf 2
A90: 13 | B90: 44567 | C90: 21.00 | D90: THUD 8.355 | E90: 6. bitva | G90: Vítězství | I90: Hajime92 | J90: 44088 | K90: =SUM(K83,J90) -> 369340
D91: Thunderer | E91: 5. bitva
E92: 4. bitva | F92: vítězství | H92: Prochorovka 1
E93: 3. bitva | F93: vítězství | H93: Dubový lesík 1
E94: 2. bitva | F94: vítězství | H94: Malinovka 2
E95: 1. bitva | F95: vítězství | H95: Murovanka 1
A97: 14 | B97: 44568 | C97: 19.00 | D97: -ODP- 9.844 | E97: 6. bitva | F97: vítězství | G97: Vítězství | H97: Rybářský přístav 1 | I97: Hajime92 | J97: 46447 | K97: =SUM(K90,J97) -> 415787
D98: Odpadlíci | E98: 5. bitva | F98: vítězství | H98: Westfield 2
E99: 4. bitva | F99: vítězství | H99: Prochorovka 1
E100: 3. bitva | F100: porážka | H100: Westfield 2
E101: 2. bitva | F101: vítězství | H101: Prochorovka 2
E102: 1. bitva | F102: vítězství | H102: Redshire 2
A104: 15 | B104: 44568 | C104: 20.00 | D104: PIVE 9.910 | E104: 7. bitva | F104: porážka | G104: Porážka | H104: Doly 2 | I104: JohnyFiser | J104: 5138 | K104: =SUM(K97,J104) -> 420925
D105: Pirates Veteranos | E105: 6. bitva | F105: porážka | H105: Klidné pobřeží 1
E106: 5. bitva | F106: porážka | H106: Útesy 2
E107: 4. bitva | F107: porážka | H107: Murovanka 1
E108: 3. bitva | F108: vítězství | H108: Útesy 1
E109: 2. bitva | F109: porážka | H109: Murovanka 2
E110: 1. bitva | F110: vítězství | H110: Himmelsdorf 2
A112: 16 | B112: 44568 | C112: 21.00 | D112: LV-CS 9.432 | E112: 7. bitva | G112: Vítězství | I112: Hajime92 | J112: 42481 | K112: =SUM(K104,J112) -> 463406
D113: Legie vyvrhelů Československa | E113: 6. bitva
E114: 5. bitva
E115: 4. bitva | F115: vítězství | H115: Redshire 2
E116: 3. bitva | F116: vítězství | H116: Dálnice 1
E117: 2. bitva | F117: vítězství | H117: Pouštní řeka 2
...

Sheet Únor 2022
A1: Ofenzívy klanu CORMA - Únor 2022
A3: P.č. | B3: Datum | C3: Hodina | D3: Soupeř | E3: Ofenzíva | F3: Výsledek | G3: Výsledek celkem | H3: Mapa | I3: Velitel | J3: Celkem krabiček | K3: ∑ krabiček
A4: 1 | B4: 44593 | C4: 21.00 | D4: WWOLF 9.236 | E4: 6. bitva | G4: Vítězství | I4: JohnyFiser | J4: 44081 | K4: =SUM(J4) -> 44081
D5: Wolf Warrior | E5: 5. bitva | F5: vítězství | H5: Ensk 1
D6: 20.1.2022 21.00h vítězství | E6: 4. bitva | F6: vítězství | H6: Himmelsdorf 1
E7: 3. bitva | F7: vítězství | H7: Dubový lesík 1
E8: 2. bitva | F8: vítězství | H8: Prochorovka 1
E9: 1. bitva | F9: porážka | H9: Murovanka 1
A11: 2 | B11: 44593 | C11: 22.00 | D11: GAMON 9.325 | E11: 7. bitva | F11: vítězství | G11: Porážka | H11: Doly 2 | I11: SVKjohny | J11: 9148 | K11: =SUM(K4,J11) -> 53229
D12: Gamonie | E12: 6. bitva | F12: vítězství | H12: Westfield 2
E13: 5. bitva | F13: porážka | H13: Doly 2
E14: 4. bitva | F14: vítězství | H14: Westfield 2
E15: 3. bitva | F15: porážka | H15: Doly 1
E16: 2. bitva | F16: porážka | H16: Pouštní řeka 1
E17: 1. bitva | F17: porážka | H17: Útesy 1
A19: 3 | B19: 44595 | C19: 21.00 | D19: C-D-L 7.843 | E19: 6. bitva | F19: porážka | G19: Porážka | H19: Prochorovka 1 | I19: Kista1 | J19: 7480 | K19: =SUM(K11,J19) -> 60709
D20: Clanul Dacilor Liberi | E20: 5. bitva | F20: vítězství | H20: Dubový lesík 2
E21: 4. bitva | F21: porážka | H21: Prochorovka 1
E22: 3. bitva | F22: porážka | H22: Doly 1
E23: 2. bitva | F23: vítězství | H23: Prochorovka 2
E24: 1. bitva | F24: porážka | H24: Himmelsdorf 2
A27: 4 | B27: 44596 | C27: 21.00 | D27: VOSY 9.729 | E27: 6. bitva | G27: Remíza | I27: Kista1 | J27: 10263 | K27: =SUM(K19,J27) -> 70972
D28: Vojenský Syndikát | E28: 5. bitva
D29: 19.1.2022 21.00 vítězství | E29: 4. bitva | F29: vítězství | H29: Prochorovka 1
E30: 3. bitva | F30: vítězství | H30: Dubový lesík 2
E31: 2. bitva | F31: porážka | H31: Prochorovka 2
E32: 1. bitva | F32: remíza | H32: Westfield 1
A34: 5 | B34: 44596 | C34: 22.00 | D34: BOT_ 11.822 | E34: 7. bitva | G34: Remíza | I34: Kista1 | J34: 11980 | K34: =SUM(K27,J34) -> 82952
D35: Borbena Obuka Tenkista | E35: 6. bitva
E36: 5. bitva | F36: vítězství | H36: Prochorovka 1
E37: 4. bitva | F37: porážka | H37: Malinovka 2
E38: 3. bitva | F38: vítězství | H38: Prochorovka 2
E39: 2. bitva | F39: porážka | H39: Malinovka 1
E40: 1. bitva | F40: vítězství | H40: Himmelsdorf 2
A42: 6 | B42: 44597 | C42: 20.00 | D42: B_BOY 9.785 | E42: 7. bitva | G42: Remíza | I42: JohnyFiser | J42: 11846 | K42: =SUM(K34,J42) -> 94798
D43: Bad Boys Balkan | E43: 6. bitva
E44: 5. bitva | F44: vítězství | H44: Redshire 2
E45: 4. bitva | F45: porážka | H45: Malinovka 2
E46: 3. bitva | F46: vítězství | H46: Redshire 1
E47: 2. bitva | F47: porážka | H47: Malinovka 2
E48: 1. bitva | F48: vítězství | H48: Ensk 1
A50: 7 | B50: 44603 | C50: 23.00 | D50: _PW 8.037 | E50: 7. bitva | G50: Porážka | I50: JohnyFiser | J50: 5598 | K50: =SUM(K42,J50) -> 100396
D51: _Pancerne Wilki | E51: 6. bitva | F51: porážka | H51: Dubový lesík 2
E52: 5. bitva | F52: porážka | H52: Prochorovka 2
E53: 4. bitva | F53: porážka | H53: Dubový lesík 2
E54: 3. bitva | F54: porážka | H54: Himmelsdorf 1
E55: 2. bitva | F55: vítězství | H55: Dubový lesík 2
E56: 1. bitva | F56: vítězství | H56: Ensk 1
A58: 8 | B58: 44615 | C58: 21.00 | D58: -ASI- 12.024 | E58: 7. bitva | G58: Remíza | I58: JohnyFiser | J58: 11279 | K58: =SUM(K50,J58) -> 111675
D59: ASI TankCilar | E59: 6. bitva
E60: 5. bitva | F60: vítězství | H60: Malinovka 1
E61: 4. bitva | F61: vítězství | H61: Westfield 1
E62: 3. bitva | F62: porážka | H62: Malinovka 2
E63: 2. bitva | F63: porážka | H63: Pouštní řeka 2
E64: 1. bitva | F64: vítězství | H64: Pouštní řeka 2
A66: 9 | B66: 44617 | C66: 20.00 | D66: LV-CS 11.890 | E66: 7. bitva | G66: Porážka | I66: JohnyFiser | J66: 6544 | K66: =SUM(K58,J66) -> 118219
D67: Legie vyvrhelů Československa | E67: 6. bitva
D68: 7.1.2022 21.00h vítězství | E68: 5. bitva | F68: vítězství | H68: Westfield 2
E69: 4. bitva | F69: vítězství | H69: Ensk 1
E70: 3. bitva | F70: porážka | H70: Westfield 1
E71: 2. bitva | F71: porážka | H71: Malinovka 1
E72: 1. bitva | F72: remíza | H72: Pouštní řeka 1
A74: 10 | B74: 44618 | C74: 21.00 | D74: SH-A 10.561 | E74: 7. bitva | G74: Vítězství | I74: JohnyFiser | J74: 21896 | K74: =SUM(K66,J74) -> 140115
D75: Steelhearted Army | E75: 6. bitva
E76: 5. bitva | F76: porážka | H76: Prochorovka 2
E77: 4. bitva | F77: porážka | H77: Ensk 2
E78: 3. bitva | F78: vítězství | H78: Prochorovka 2
E79: 2. bitva | F79: vítězství | H79: Útesy 1
E80: 1. bitva | F80: vítězství | H80: Himmelsdorf 1
A82: 11 | B82: 44620 | C82: 19.00 | D82: D_3_D 11.282 | E82: 7. bitva | F82: porážka | G82: Remíza | H82: Himmelsdorf 1 | I82: JohnyFiser | J82: 12076 | K82: =SUM(K74,J82) -> 152191
D83: Deathenders Mercenaries | E83: 6. bitva | F83: vítězství | H83: Útesy 1
E84: 5. bitva | F84: vítězství | H84: Doly 1
E85: 4. bitva | F85: vítězství | H85: Ensk 1
E86: 3. bitva | F86: porážka | H86: Doly 1
E87: 2. bitva | F87: porážka | H87: Útesy 1
E88: 1. bitva | F88: porážka | H88: Murovanka 2
A91: BILANCE po 11 ofenzív | D91: 2 x Vítězství 4 x Porážka 5x Remíza ∑ krabiček 152 191
F95: Velící ofenzívy | G95: Výhra | H95: Prohra | I95: Remíza | J95: Celkem odveleno
F96: JohnyFiser | G96: 2 | H96: 2 | I96: 3 | J96: =SUM(G96:I96) -> 7
F97: Kista_1 | G97: 0 | H97: 1 | I97: 2 | J97: =SUM(G97:I97) -> 3
F98: SVKjohny | G98: 0 | H98: 1 | I98: 0 | J98: =SUM(G98:I98) -> 1
F100: Celkem ofenzív | G100: =SUM(G96:G99) -> 2 | H100: =SUM(H96:H99) -> 4 | I100: =SUM(I96:I99) -> 5 | J100: =SUM(J96:J99) -> 11
A103: SUMA OFENZÍV ZA MĚSÍC | D103: Počet ofenzív Únor 2022 | E103: 11 | F103: 1
D104: Vítězné ofenzívy Únor 2022 | E104: 2 | F104: =AVERAGE(E104*F103)/E103 -> 0.18181818
D105: Prohrané ofenzívy Únor 2022 | E105: 4 | F105: =AVERAGE(E105*F104)/E104 -> 0.36363636
D106: Remizované ofenzívy Únor 2022 | E106: 5 | F106: =AVERAGE(E106*F105)/E105 -> 0.45454545

Sheet Březen 2022
A1: Ofenzívy klanu CORMA - Březen 2022
A3: P.č. | B3: Datum | C3: Hodina | D3: Soupeř | E3: Ofenzíva | F3: Výsledek | G3: Výsledek celkem | H3: Mapa | I3: Velitel | J3: Celkem krabiček | K3: ∑ krabiček
A4: 1 | B4: 44621 | C4: 20.00 | D4: HRVJ 12.548 | E4: 7. bitva | G4: Porážka | I4: ruzatulipan | J4: 3352 | K4: =SUM(J4) -> 3352
D5: Hrvatski Jastrebovi | E5: 6. bitva | F5: porážka | H5: Himmelsdorf 2
E6: 5. bitva | F6: porážka | H6: Murovanka 2
E7: 4. bitva | F7: vítězství | H7: Himmelsdorf 1
E8: 3. bitva | F8: porážka | H8: Murovanka 1
E9: 2. bitva | F9: porážka | H9: Doly 1
E10: 1. bitva | F10: porážka | H10: Rybářský přístav 1
A12: 2 | B12: 44623 | C12: 20.00 | D12: EXLEG 10.826 | E12: 7. bitva | G12: Porážka | I12: ruzatulipan | J12: 1098 | K12: =SUM(K4,J12) -> 4450
D13: Exiles Legion | E13: 6. bitva
E14: 5. bitva
E15: 4. bitva | F15: porážka | H15: Himmelsdorf 1
E16: 3. bitva | F16: porážka | H16: Prochorovka 1
E17: 2. bitva | F17: porážka | H17: Malinovka 1
E18: 1. bitva | F18: porážka | H18: El Haluf 2
A20: 3 | B20: 44623 | C20: 21.00 | D20: PIVE 11.912 | E20: 7. bitva | G20: Porážka | I20: JohnyFiser | J20: 6451 | K20: =SUM(K12,J20) -> 10901
D21: Pirates Veteranos | E21: 6. bitva
D22: 14.12.2021 21.00h porážka | E22: 5. bitva | F22: porážka | H22: Pouštní řeka 2
D23: 7.1.2022 20.00h porážka | E23: 4. bitva | F23: porážka | H23: Malinovka 2
D24: 18.1.2022 19.00h remíza | E24: 3. bitva | F24: porážka | H24: Klidné pobřeží 2
D25: 29.1.2022 19.00h remíza | E25: 2. bitva | F25: vítězství | H25: Malinovka 2
E26: 1. bitva | F26: vítězství | H26: Doly 1
A28: 4 | B28: 44624 | C28: 21.00 | D28: -ASI- 12.024 | E28: 7. bitva | G28: Porážka | I28: Kista3 | J28: 6505 | K28: =SUM(K20,J28) -> 17406
D29: ASI TankCilar | E29: 6. bitva
D30: 23.2.2022 21.00h remíza | E30: 5. bitva | F30: porážka | H30: Pouštní řeka 1
E31: 4. bitva | F31: vítězství | H31: Útesy 2
E32: 3. bitva | F32: porážka | H32: Pouštní řeka 2
E33: 2. bitva | F33: porážka | H33: Útesy 2
E34: 1. bitva | F34: vítězství | H34: Pouštní řeka 2
A36: 5 | B36: 44630 | C36: 21.00 | D36: -DPM 7.694 | E36: 7. bitva | G36: Vítězství | I36: JohnyFiser | J36: 36143 | K36: =SUM(K28,J36) -> 53549
D37: Dzwonki Panny Marii | E37: 6. bitva | F37: porážka | H37: Klidné pobřeží 1
E38: 5. bitva | F38: vítězství | H38: Pouštní řeka 1
E39: 4. bitva | F39: vítězství | H39: Prochorovka 2
E40: 3. bitva | F40: vítězství | H40: Pouštní řeka 1
E41: 2. bitva | F41: porážka | H41: Prochorovka 2
E42: 1. bitva | F42: vítězství | H42: Dubový lesík 1
A44: 6 | B44: 44633 | C44: 19.00 | D44: O2G 9.998 | E44: 7. bitva | G44: Remíza | I44: JohnyFiser | J44: 9799 | K44: =SUM(K36,J44) -> 63348
D45: Only Gentlemen | E45: 6. bitva
E46: 5. bitva | F46: porážka | H46: Klidné pobřeží 1
E47: 4. bitva | F47: porážka | H47: Pouštní řeka 2
E48: 3. bitva | F48: vítězství | H48: Klidné pobřeží 1
E49: 2. bitva | F49: vítězství | H49: Pouštní řeka 2
E50: 1. bitva | F50: porážka | H50: Útesy 1
A52: 7 | B52: 44634 | C52: 19.00 | D52: SZEX 8.035 | E52: 7. bitva | G52: Porážka | I52: JohnyFiser | J52: 7657 | K52: =SUM(K44,J52) -> 71005
D53: Szovjet Zsiguli Exportorok | E53: 6. bitva
E54: 5. bitva | F54: vítězství | H54: Prochorovka 2
E55: 4. bitva | F55: porážka | H55: Malinovka 2
E56: 3. bitva | F56: vítězství | H56: Prochorovka 2
E57: 2. bitva | F57: porážka | H57: Malinovka 2
E58: 1. bitva | F58: remíza | H58: Pouštní řeka 1
A60: 8 | B60: 44634 | C60: 20.00 | D60: CS_N 8.114 | E60: 7. bitva | G60: Vítězství | I60: JohnyFiser | J60: 25982 | K60: =SUM(K52,J60) -> 96987
D61: Českoslovenští Nakopávači | E61: 6. bitva | F61: vítězství | H61: Murovanka 1
E62: 5. bitva | F62: vítězství | H62: Doly 2
E63: 4. bitva | F63: porážka | H63: Murovanka 2
E64: 3. bitva | F64: vítězství | H64: Doly 1
E65: 2. bitva | F65: porážka | H65: Murovanka 2
E66: 1. bitva | F66: vítězství | H66: Ruinberg 2
A68: 9 | B68: 44637 | C68: 20.00 | D68: F_URY 9.127 | E68: 7. bitva | F68: porážka | G68: Porážka | H68: Studzianky 2 | I68: KentaurM | J68: 5675 | K68: =SUM(K60,J68) -> 102662
D69: Furia romana | E69: 6. bitva | F69: porážka | H69: Útesy 2
E70: 5. bitva | F70: porážka | H70: Westfield 1
E71: 4. bitva | F71: vítězství | H71: Útesy 1
E72: 3. bitva | F72: porážka | H72: Westfield 1
E73: 2. bitva | F73: vítězství | H73: Útesy 1
E74: 1. bitva | F74: porážka | H74: Útesy 1
A76: 10 | B76: 44637 | C76: 21.00 | D76: BALEC 10.210 | E76: 7. bitva | G76: Vítězství | I76: JohnyFiser | J76: 23871 | K76: =SUM(K68,J76) -> 126533
D77: bataillon anti-char leclerc | E77: 6. bitva
E78: 5. bitva | F78: porážka | H78: Westfield 1
E79: 4. bitva | F79: vítězství | H79: Ensk 1
E80: 3. bitva | F80: porážka | H80: Redshire 1
E81: 2. bitva | F81: vítězství | H81: Ensk 2
E82: 1. bitva | F82: porážka | H82: Rybářský přístav 1
A84: 11 | B84: 44639 | C84: 21.00 | D84: NYKE 7.136 | E84: 7. bitva | G84: Vítězství | I84: JohnyFiser | J84: 33188 | K84: =SUM(K76,J84) -> 159721
D85: No ybich Klan Ementále | E85: 6. bitva
E86: 5. bitva | F86: vítězství | H86: Rybářský přístav 2
E87: 4. bitva | F87: porážka | H87: Útesy 2
E88: 3. bitva | F88: vítězství | H88: Rybářský přístav 2
E89: 2. bitva | F89: vítězství | H89: Ensk 1
E90: 1. bitva | F90: vítězství | H90: Pouštní řeka 2
A92: 12 | B92: 44641 | C92: 21.00 | D92: CS-EB 8.833 | E92: 7. bitva | G92: Porážka | I92: JohnyFiser | J92: 8253 | K92: =SUM(K84,J92) -> 167974
D93: Československý Elektronický Boj | E93: 6. bitva | F93: vítězství | H93: Himmelsdorf 2
E94: 5. bitva | F94: porážka | H94: Redshire 2
E95: 4. bitva | F95: porážka | H95: Prochorovka 2
E96: 3. bitva | F96: porážka | H96: Pouštní řeka 2
E97: 2. bitva | F97: vítězství | H97: Prochorovka 2
E98: 1. bitva | F98: vítězství | H98: Útesy 1
A100: 13 | B100: 44643 | C100: 20.00 | D100: GT_1 9.933 | E100: 7. bitva | G100: Porážka | I100: ruzatulipan | J100: 6197 | K100: =SUM(K92,J100) -> 174171
D101: Golden Tigers | E101: 6. bitva | F101: vítězství | H101: Murovanka 1
E102: 5. bitva | F102: porážka | H102: Malinovka 1
E103: 4. bitva | F103: porážka | H103: Murovanka 2
E104: 3. bitva | F104: porážka | H104: Malinovka 2
E105: 2. bitva | F105: vítězství | H105: Murovanka 1
E106: 1. bitva | F106: vítězství | H106: Doly 2
A108: 14 | B108: 44648 | C108: 21.00 | D108: BG_FR 9.556 | E108: 7. bitva | G108: Vítězství | I108: Kista1 | J108: 42619 | K108: =SUM(K100,J108) -> 216790
D109: BG_FRENDS_BG | E109: 6. bitva
E110: 5. bitva
E111: 4. bitva | F111: vítězství | H111: Himmelsdorf 2
E112: 3. bitva | F112: vítězství | H112: Murovanka 1
E113: 2. bitva | F113: vítězství | H113: Doly 2
E114: 1. bitva | F114: vítězství | H114: Doly 1
...

Sheet Duben 2022
A1: Ofenzívy klanu CORMA - Duben 2022
A3: P.č. | B3: Datum | C3: Hodina | D3: Soupeř | E3: Ofenzíva | F3: Výsledek | G3: Výsledek celkem | H3: Mapa | I3: Velitel | J3: Celkem krabiček | K3: ∑ krabiček
A4: 1 | B4: 44652 | C4: 20.00 | D4: JO-KE 10.318 | E4: 7. bitva | G4: Remíza | I4: Kista1 | J4: 12175 | K4: =SUM(J4) -> 12175
D5: Bohemian Jokers | E5: 6. bitva | F5: porážka | H5: Murovanka 2
E6: 5. bitva | F6: vítězství | H6: Prochorovka 2
E7: 4. bitva | F7: porážka | H7: Murovanka 2
E8: 3. bitva | F8: vítězství | H8: Prochorovka 1
E9: 2. bitva | F9: porážka | H9: Murovanka 2
E10: 1. bitva | F10: vítězství | H10: Himmelsdorf 2
A12: 2 | B12: 44652 | C12: 21.00 | D12: RO-VF 9.431 | E12: 7. bitva | G12: Porážka | I12: JohnyFiser | J12: 8571 | K12: =SUM(K4,J12) -> 20746
D13: Romanian Veteran Forces | E13: 6. bitva | F13: vítězství | H13: Malinovka 2
E14: 5. bitva | F14: vítězství | H14: Doly 1
E15: 4. bitva | F15: porážka | H15: Malinovka 2
E16: 3. bitva | F16: porážka | H16: Redshire 2
E17: 2. bitva | F17: porážka | H17: Murovanka 1
E18: 1. bitva | F18: vítězství | H18: Rybářský přístav 1
A20: 3 | B20: 44653 | C20: 20.00 | D20: HVDRA 9.573 | E20: 7. bitva | G20: Porážka | I20: ruzatulipan | J20: 6912 | K20: =SUM(K12,J20) -> 27658
D21: HVDRA | E21: 6. bitva | F21: porážka | H21: Redshire 2
D22: 14.12.2021 21.00h porážka | E22: 5. bitva | F22: vítězství | H22: Malinovka 1
D23: 7.1.2022 20.00h porážka | E23: 4. bitva | F23: vítězství | H23: Doly 2
D24: 18.1.2022 19.00h remíza | E24: 3. bitva | F24: porážka | H24: Malinovka 1
D25: 29.1.2022 19.00h remíza | E25: 2. bitva | F25: porážka | H25: Redshire 1
E26: 1. bitva | F26: porážka | H26: Dubový lesík 1
A28: 4 | B28: 44653 | C28: 21.00 | D28: FUFR 6.780 | E28: 7. bitva | G28: Vítězství | I28: JohnyFiser | J28: 46182 | K28: =SUM(K20,J28) -> 73840
D29: Funny Freelancers | E29: 6. bitva | F29: vítězství | H29: Pouštní řeka 1
E30: 5. bitva | F30: vítězství | H30: Prochorovka 1
E31: 4. bitva | F31: vítězství | H31: Westfield 1
E32: 3. bitva | F32: porážka | H32: Prochorovka 2
E33: 2. bitva | F33: vítězství | H33: Westfield 1
E34: 1. bitva | F34: vítězství | H34: Himmelsdorf 1
A36: 5 | B36: 44655 | C36: 20.00 | D36: HRVJ 10.207 | E36: 7. bitva | G36: Porážka | I36: JohnyFiser | J36: 2453 | K36: =SUM(K28,J36) -> 76293
D37: Hrvatski Jastrebovi | E37: 6. bitva
E38: 5. bitva | F38: porážka | H38: Doly 1
E39: 4. bitva | F39: porážka | H39: Malinovka 2
E40: 3. bitva | F40: porážka | H40: Redshire 2
E41: 2. bitva | F41: porážka | H41: Westfield 2
E42: 1. bitva | F42: remíza | H42: Pouštní řeka 1
A44: 6 | B44: 44655 | C44: 21.00 | D44: J23 9.614 | E44: 7. bitva | G44: Remíza | I44: JohnyFiser | J44: 10525 | K44: =SUM(K36,J44) -> 86818
D45: POLSCY STALOWI MORDERCY | E45: 6. bitva
E46: 5. bitva | F46: porážka | H46: Útesy 2
E47: 4. bitva | F47: porážka | H47: Himmelsdorf 2
E48: 3. bitva | F48: vítězství | H48: Útesy 2
E49: 2. bitva | F49: vítězství | H49: Prochorovka 2
E50: 1. bitva | F50: remíza | H50: Dubový lesík 2
A52: 7 | B52: 44656 | C52: 20.00 | D52: R1K_O 9.541 | E52: 7. bitva | G52: Vítězství | I52: Kista1 | J52: 44042 | K52: =SUM(K44,J52) -> 130860
D53: Ruckzug ist keine Option | E53: 6. bitva
E54: 5. bitva
E55: 4. bitva | F55: vítězství | H55: Ensk 1
E56: 3. bitva | F56: vítězství | H56: Redshire 1
E57: 2. bitva | F57: vítězství | H57: Prochorovka 1
E58: 1. bitva | F58: vítězství | H58: Westfield 1
A60: 8 | B60: 44656 | C60: 21.00 | D60: PANK 9.984 | E60: 7. bitva | G60: Porážka | I60: Kista1 | J60: 1140 | K60: =SUM(K52,J60) -> 132000
D61: Pancerni Krzyžowcy | E61: 6. bitva
E62: 5. bitva
E63: 4. bitva | F63: porážka | H63: Doly 2
E64: 3. bitva | F64: porážka | H64: Himmelsdorf 1
E65: 2. bitva | F65: porážka | H65: Murovanka 1
E66: 1. bitva | F66: porážka | H66: Westfield 2
A68: 9 | B68: 44660 | C68: 21.00 | D68: COACH 7.888 | E68: 7. bitva | G68: Porážka | I68: JohnyFiser | J68: 2913 | K68: =SUM(K60,J68) -> 134913
D69: Clan of Coaches | E69: 6. bitva
E70: 5. bitva | F70: porážka | H70: Doly 2
E71: 4. bitva | F71: porážka | H71: Pouštní řeka 2
E72: 3. bitva | F72: porážka | H72: Prochorovka 2
E73: 2. bitva | F73: porážka | H73: Murovanka 2
E74: 1. bitva | F74: vítězství | H74: Ruinberg 2
A76: 10 | B76: 44660 | C76: 22.00 | D76: CZPTP 8.670 | E76: 7. bitva | G76: Vítězství | I76: JohnyFiser | J76: 23871 | K76: =SUM(K68,J76) -> 158784
D77: Československý pomocný tankový prapor | E77: 6. bitva
E78: 5. bitva | F78: vítězství | H78: Malinovka 2
E79: 4. bitva | F79: vítězství | H79: Studzianky 2
E80: 3. bitva | F80: vítězství | H80: Redshire 1
E81: 2. bitva | F81: porážka | H81: Studzianky 1
E82: 1. bitva | F82: vítězství | H82: Prochorovka 1
A84: 11 | B84: 44662 | C84: 21.00 | D84: FATER 9.200 | E84: 7. bitva | G84: Remíza | I84: Kista1 | J84: 9775 | K84: =SUM(K76,J84) -> 168559
D85: Féktelen Acél TengER | E85: 6. bitva
E86: 5. bitva
E87: 4. bitva | F87: porážka | H87: Rybářský přístav 2
E88: 3. bitva | F88: vítězství | H88: Prochorovka 2
E89: 2. bitva | F89: porážka | H89: Rybářský přístav 2
E90: 1. bitva | F90: vítězství | H90: Redshire 2
A92: 12 | B92: 44663 | C92: 20.00 | D92: -SIS- 9.776 | E92: 7. bitva | F92: porážka | G92: Porážka | H92: Doly 2 | I92: JohnyFiser | J92: 5701 | K92: =SUM(K84,J92) -> 174260
D93: Spider´s | E93: 6. bitva | F93: porážka | H93: Malinovka 1
E94: 5. bitva | F94: porážka | H94: Redshire 1
E95: 4. bitva | F95: porážka | H95: Ensk 1
E96: 3. bitva | F96: vítězství | H96: Redshire 1
E97: 2. bitva | F97: porážka | H97: Ensk 1
E98: 1. bitva | F98: vítězství | H98: Prochorovka 2
A100: 13 | B100: 44664 | C100: 21.00 | D100: SOGM 9.767 | E100: 7. bitva | G100: Vítězství | I100: Kista1 | J100: 22778 | K100: =SUM(K92,J100) -> 197038
D101: Sons of Great Moravia | E101: 6. bitva
E102: 5. bitva | F102: vítězství | H102: Pouštní řeka 1
E103: 4. bitva | F103: porážka | H103: Rybářský přístav 1
E104: 3. bitva | F104: vítězství | H104: Pouštní řeka 1
E105: 2. bitva | F105: vítězství | H105: Prochorovka 2
E106: 1. bitva | F106: porážka | H106: Ensk 1
A108: 14 | B108: 44666 | C108: 20.00 | D108: 9-TDH 10.084 | E108: 7. bitva | G108: Vítězství | I108: JohnyFiser | J108: 23194 | K108: =SUM(K100,J108) -> 220232
D109: Totál Duhos Hadsereg | E109: 6. bitva
E110: 5. bitva | F110: porážka | H110: Redshire 2
E111: 4. bitva | F111: vítězství | H111: Malinovka 2
E112: 3. bitva | F112: porážka | H112: Redshire 1
E113: 2. bitva | F113: vítězství | H113: Malinovka 2
E114: 1. bitva | F114: vítězství | H114: Ruinberg 2
...

Sheet Květen 2022
A1: Ofenzívy klanu CORMA - Květen 2022
A3: P.č. | B3: Datum | C3: Hodina | D3: Soupeř | E3: Ofenzíva | F3: Výsledek | G3: Výsledek celkem | H3: Mapa | I3: Velitel | J3: Celkem krabiček | K3: ∑ krabiček
A4: 1 | B4: 44686 | C4: 20.00 | D4: CS-MD 10.630 | E4: 7. bitva | G4: Remíza | I4: JohnyFiser | J4: 12100 | K4: =SUM(J4) -> 12100
D5: Československá Mechanizovaná Divize | E5: 6. bitva | F5: porážka | H5: Rybářský přístav 1
E6: 5. bitva | F6: porážka | H6: Dubový lesík 1
E7: 4. bitva | F7: porážka | H7: Himmelsdorf 1
E8: 3. bitva | F8: vítězství | H8: Dubový lesík 2
E9: 2. bitva | F9: vítězství | H9: Rybářský přístav 2
E10: 1. bitva | F10: vítězství | H10: Rybářský přístav 2
A12: 2 | B12: 44686 | C12: 21.00 | D12: DAC_R 10.571 | E12: 7. bitva | G12: Porážka | I12: JohnyFiser | J12: 4016 | K12: =SUM(K4,J12) -> 16116
D13: Divizia Armatei Carpatii Romaniei | E13: 6. bitva
E14: 5. bitva | F14: porážka | H14: Pouštní řeka 2
E15: 4. bitva | F15: porážka | H15: Redshire 2
E16: 3. bitva | F16: porážka | H16: Prochorovka 2
E17: 2. bitva | F17: vítězství | H17: Redshire 2
E18: 1. bitva | F18: porážka | H18: Murovanka 2
A20: 3 | B20: 44690 | C20: 21.00 | D20: 1453 10.872 | E20: 7. bitva | G20: Porážka | I20: Kista1 | J20: 3737 | K20: =SUM(K12,J20) -> 19853
D21: Elite Turkish Forces | E21: 6. bitva
E22: 5. bitva | F22: porážka | H22: Prochorovka 2
E23: 4. bitva | F23: porážka | H23: Himmelsdorf 1
E24: 3. bitva | F24: porážka | H24: Studzianky 2
E25: 2. bitva | F25: vítězství | H25: Himmelsdorf 2
E26: 1. bitva | F26: porážka | H26: Westfield 1
A28: 4 | B28: 44691 | C28: 21.00 | D28: CS-LV 7.797 | E28: 7. bitva | G28: Porážka | I28: Kista1 | J28: 8969 | K28: =SUM(K20,J28) -> 28822
D29: Česko-Slovenská Liga Vochlastů | E29: 6. bitva | F29: vítězství | H29: Prochorovka 2
E30: 5. bitva | F30: porážka | H30: Himmelsdorf 1
E31: 4. bitva | F31: porážka | H31: Doly 1
E32: 3. bitva | F32: porážka | H32: Prochorovka 2
E33: 2. bitva | F33: vítězství | H33: Doly 1
E34: 1. bitva | F34: vítězství | H34: Dubový lesík 1
A36: 5 | B36: 44692 | C36: 21.00 | D36: GKOB 12.598 | E36: 7. bitva | F36: vítězství | G36: Vítězství | H36: Dálnice 1 | I36: JohnyFiser | J36: 25533 | K36: =SUM(K28,J36) -> 54355
D37: Glówny Korpus Orla Bialego | E37: 6. bitva | F37: vítězství | H37: Himmelsdorf 1
E38: 5. bitva | F38: porážka | H38: Dálnice 2
E39: 4. bitva | F39: vítězství | H39: Himmelsdorf 1
E40: 3. bitva | F40: porážka | H40: Dálnice 2
E41: 2. bitva | F41: vítězství | H41: Himmelsdorf 1
E42: 1. bitva | F42: porážka | H42: Prochorovka 1
A44: 6 | B44: 44693 | C44: 20.00 | D44: GT_1 10.070 | E44: 7. bitva | G44: Porážka | I44: JohnyFiser | J44: 7007 | K44: =SUM(K36,J44) -> 61362
D45: Golden Tigers | E45: 6. bitva
E46: 5. bitva | F46: porážka | H46: Himmelsdorf 1
E47: 4. bitva | F47: vítězství | H47: Prochorovka 2
E48: 3. bitva | F48: porážka | H48: Himmelsdorf 1
E49: 2. bitva | F49: porážka | H49: Westfield 1
E50: 1. bitva | F50: vítězství | H50: Pouštní řeka 1
A52: 7 | B52: 44693 | C52: 21.00 | D52: CR1T 9.617 | E52: 7. bitva | G52: Porážka | I52: JohnyFiser | J52: 5279 | K52: =SUM(K44,J52) -> 66641
D53: CRITICAL H1T | E53: 6. bitva | F53: vítězství | H53: Doly 2
E54: 5. bitva | F54: porážka | H54: Prochorovka 2
E55: 4. bitva | F55: porážka | H55: Himmelsdorf 2
E56: 3. bitva | F56: vítězství | H56: Prochorovka 2
E57: 2. bitva | F57: porážka | H57: Himmelsdorf 1
E58: 1. bitva | F58: porážka | H58: Ruinberg 1
A60: 8 | B60: 44712 | C60: 21.00 | D60: FEST 10.644 | E60: 7. bitva | G60: Porážka | I60: JohnyFiser | J60: 2823 | K60: =SUM(K52,J60) -> 69464
D61: No Fear Just Rush | E61: 6. bitva | F61: porážka | H61: Westfield 2
E62: 5. bitva | F62: porážka | H62: Murovanka 1
E63: 4. bitva | F63: porážka | H63: Útesy 2
E64: 3. bitva | F64: vítězství | H64: Murovanka 2
E65: 2. bitva | F65: porážka | H65: Útesy 1
E66: 1. bitva | F66: porážka | H66: Pouštní řeka 2
A70: BILANCE po 8 ofenzív | D70: 1 x Vítězství 6 x Porážka 1 x Remíza ∑ krabiček 69 464
F74: Velící ofenzívy | G74: Výhra | H74: Prohra | I74: Remíza | J74: Celkem odveleno
F75: JohnyFiser | G75: 1 | H75: 4 | I75: 1 | J75: =SUM(G75:I75) -> 6
F76: Kista_1 | G76: 0 | H76: 2 | I76: 0 | J76: =SUM(G76:I76) -> 2
F78: Celkem ofenzív | G78: =SUM(G75:G77) -> 1 | H78: =SUM(H75:H77) -> 6 | I78: =SUM(I75:I77) -> 1 | J78: =SUM(J75:J77) -> 8
A81: SUMA OFENZÍV ZA MĚSÍC | D81: Počet ofenzív Květen 2022 | E81: 8 | F81: 1
D82: Vítězné ofenzívy Květen 2022 | E82: 1 | F82: =AVERAGE(E82*F81)/E81 -> 0.125
D83: Prohrané ofenzívy Květen 2022 | E83: 6 | F83: =AVERAGE(E83*F82)/E82 -> 0.75
D84: Remizované ofenzívy Květen 2022 | E84: 1 | F84: =AVERAGE(E84*F83)/E83 -> 0.125

Sheet Červen 2022
A1: Ofenzívy klanu CORMA - Červen 2022
A3: P.č. | B3: Datum | C3: Hodina | D3: Soupeř | E3: Ofenzíva | F3: Výsledek | G3: Výsledek celkem | H3: Mapa | I3: Velitel | J3: Celkem krabiček | K3: ∑ krabiček
A4: 1 | B4: 44713 | C4: 20.00 | D4: STYK5 12.651 | E4: 7. bitva | F4: vítězství | G4: Porážka | H4: Prochorovka 2 | I4: JD6100 | J4: 7161 | K4: =SUM(J4) -> 7161
D5: Droga Ku Końcowi | E5: 6. bitva | F5: porážka | H5: Studzianki 1
E6: 5. bitva | F6: porážka | H6: Doly 2
E7: 4. bitva | F7: porážka | H7: Himmelsdorf 2
E8: 3. bitva | F8: porážka | H8: Doly 2
E9: 2. bitva | F9: vítězství | H9: Himmelsdorf 1
E10: 1. bitva | F10: vítězství | H10: Útesy 2
A12: 2 | B12: 44713 | C12: 21.00 | D12: 12ATP 7.393 | E12: 7. bitva | G12: Vítězství | I12: JohnyFiser | J12: 39369 | K12: =SUM(K4,J12) -> 46530
D13: 12. Alkoholický Tankový Prapor | E13: 6. bitva
E14: 5. bitva
E15: 4. bitva | F15: vítězství | H15: Dálnice 2
E16: 3. bitva | F16: vítězství | H16: Útesy 1
E17: 2. bitva | F17: vítězství | H17: Rybářský přístav 2
E18: 1. bitva | F18: vítězství | H18: Pouštní řeka 1
A20: 3 | B20: 44714 | C20: 21.00 | D20: DAC_R 10.596 | E20: 7. bitva | G20: Porážka | I20: JohnyFiser | J20: 5279 | K20: =SUM(K12,J20) -> 51809
D21: DIVIZIA ARMATEI CARPATII ROMANIEI | E21: 6. bitva | F21: porážka | H21: Studzianky 2
E22: 5. bitva | F22: porážka | H22: Doly 2
E23: 4. bitva | F23: porážka | H23: Klidné pobřeží 2
E24: 3. bitva | F24: porážka | H24: Prochorovka 1
E25: 2. bitva | F25: vítězství | H25: Klidné pobřeží 1
E26: 1. bitva | F26: vítězství | H26: Westfield 2
A28: 4 | B28: 44715 | C28: 21.00 | D28: B_BOY 10.054 | E28: 7. bitva | F28: vítězství | G28: Porážka | H28: Studzianky 2 | I28: JohnyFiser | J28: 8229 | K28: =SUM(K20,J28) -> 60038
D29: BAD BOYS BALKAN | E29: 6. bitva | F29: porážka | H29: Doly 2
E30: 5. bitva | F30: vítězství | H30: Studzianki 1
E31: 4. bitva | F31: porážka | H31: Doly 1
E32: 3. bitva | F32: porážka | H32: Malinovka 1
E33: 2. bitva | F33: vítězství | H33: Doly 2
E34: 1. bitva | F34: porážka | H34: Himmelsdorf 2
A36: 5 | B36: 44715 | C36: 22.00 | D36: WHPL 10.611 | E36: 7. bitva | G36: Vítězství | I36: JohnyFiser | J36: 40874 | K36: =SUM(K28,J36) -> 100912
D37: Wings of Hussars | E37: 6. bitva
E38: 5. bitva
E39: 4. bitva | F39: vítězství | H39: Murovanka 1
E40: 3. bitva | F40: vítězství | H40: Westfield 2
E41: 2. bitva | F41: vítězství | H41: Himmelsdorf 2
E42: 1. bitva | F42: vítězství | H42: El Haluf 1
A44: 6 | B44: 44718 | C44: 21.00 | D44: LGACY 12.113 | E44: 7. bitva | G44: Vítězství | I44: Kista1 | J44: 20682 | K44: =SUM(K36,J44) -> 121594
D45: The Legacy Continues | E45: 6. bitva
E46: 5. bitva | F46: porážka | H46: Dálnice 1
E47: 4. bitva | F47: vítězství | H47: Prochorovka 2
E48: 3. bitva | F48: vítězství | H48: Doly 2
E49: 2. bitva | F49: porážka | H49: Prochorovka 1
E50: 1. bitva | F50: vítězství | H50: Pouštní řeka 2
A52: 7 | B52: 44719 | C52: 21.00 | D52: SAYG1 9.786 | E52: 7. bitva | G52: Vítězství | I52: JohnyFiser | J52: 37771 | K52: =SUM(K44,J52) -> 159365
D53: SAYG1 | E53: 6. bitva
E54: 5. bitva
E55: 4. bitva | F55: vítězství | H55: Ensk 2
E56: 3. bitva | F56: vítězství | H56: Pouštní řeka 2
E57: 2. bitva | F57: vítězství | H57: Prochorovka 2
E58: 1. bitva | F58: vítězství | H58: Himmelsdorf 1
A60: 8 | B60: 44720 | C60: 20.00 | D60: -HTT 10.393 | E60: 7. bitva | G60: Vítězství | I60: JohnyFiser | J60: 23411 | K60: =SUM(K52,J60) -> 182776
D61: Húszon Túliak Társasága | E61: 6. bitva
E62: 5. bitva | F62: vítězství | H62: Dubový lesík 1
E63: 4. bitva | F63: vítězství | H63: Ensk 1
E64: 3. bitva | F64: porážka | H64: Dubový lesík 2
E65: 2. bitva | F65: vítězství | H65: Ensk 2
E66: 1. bitva | F66: porážka | H66: Himmelsdorf 2
A68: 9 | B68: 44720 | C68: 21.00 | D68: PCSA 10.338 | E68: 7. bitva | G68: Porážka | I68: JohnyFiser | J68: 6653 | K68: =SUM(K60,J68) -> 189429
D69: PCS-ARMY | E69: 6. bitva | F69: porážka | H69: Ensk 2
E70: 5. bitva | F70: vítězství | H70: Rybářský přístav 2
E71: 4. bitva | F71: porážka | H71: Ensk 1
E72: 3. bitva | F72: vítězství | H72: Rybářský přístav 1
E73: 2. bitva | F73: porážka | H73: Ensk 1
E74: 1. bitva | F74: porážka | H74: Útesy 1
A76: 10 | B76: 44725 | C76: 20.00 | D76: HRVJ 10.013 | E76: 7. bitva | G76: Porážka | I76: JohnyFiser | J76: 6713 | K76: =SUM(K68,J76) -> 196142
D77: Hrvatski Jastrebovi | E77: 6. bitva | F77: porážka | H77: Ensk 1
E78: 5. bitva | F78: vítězství | H78: Rybářský přístav 1
E79: 4. bitva | F79: vítězství | H79: Prochorovka 1
E80: 3. bitva | F80: porážka | H80: Rybářský přístav 2
E81: 2. bitva | F81: porážka | H81: Ensk 1
E82: 1. bitva | F82: porážka | H82: Redshire 1
A84: 11 | B84: 44725 | C84: 21.00 | D84: UNSTO 8.186 | E84: 7. bitva | G84: Porážka | I84: Kista1 | J84: 1147 | K84: =SUM(K76,J84) -> 197289
D85: _UNSTOPPABLE_ | E85: 6. bitva
E86: 5. bitva
E87: 4. bitva | F87: porážka | H87: Prochorovka 1
E88: 3. bitva | F88: porážka | H88: Studzianki 2
E89: 2. bitva | F89: porážka | H89: Doly 2
E90: 1. bitva | F90: porážka | H90: Redshire 1
A92: 12 | B92: 44726 | C92: 20.00 | D92: EBOSS 11.560 | E92: 7. bitva | G92: Porážka | I92: Kista1 | J92: 4293 | K92: =SUM(K84,J92) -> 201582
D93: 3. Panzerdivison ENDBOSS | E93: 6. bitva
E94: 5. bitva | F94: porážka | H94: Rybářský přístav 1
E95: 4. bitva | F95: porážka | H95: Ensk 1
E96: 3. bitva | F96: vítězství | H96: Rybářský přístav 1
E97: 2. bitva | F97: porážka | H97: Ensk 1
E98: 1. bitva | F98: remíza | H98: Ruinberg 1
A100: 13 | B100: 44727 | C100: 20.00 | D100: SK-NB 11.875 | E100: 7. bitva | G100: Porážka | I100: JohnyFiser | J100: 6924 | K100: =SUM(K92,J100) -> 208506
D101: Noví bojovníci (SK/CZ) | E101: 6. bitva | F101: porážka | H101: Rybářský přístav 2
E102: 5. bitva | F102: porážka | H102: Ensk 2
E103: 4. bitva | F103: porážka | H103: Himmelsdorf 1
E104: 3. bitva | F104: vítězství | H104: Ensk 2
E105: 2. bitva | F105: vítězství | H105: Rybářský přístav 2
E106: 1. bitva | F106: porážka | H106: Murovanka 2
A108: 14 | B108: 44727 | C108: 21.00 | D108: KARPL 8.282 | E108: 7. bitva | G108: Vítězství | I108: JohnyFiser | J108: 34508 | K108: =SUM(K100,J108) -> 243014
D109: KaczorkiPL | E109: 6. bitva | F109: porážka | H109: Ensk 1
E110: 5. bitva | F110: vítězství | H110: Dálnice 1
E111: 4. bitva | F111: porážka | H111: Ensk 2
E112: 3. bitva | F112: vítězství | H112: Dálnice 1
E113: 2. bitva | F113: vítězství | H113: Himmelsdorf 1
E114: 1. bitva | F114: vítězství | H114: Murovanka 2
...

Sheet Červenec 2022
A1: Ofenzívy klanu CORMA - Červenec 2022
A3: P.č. | B3: Datum | C3: Hodina | D3: Soupeř | E3: Ofenzíva | F3: Výsledek | G3: Výsledek celkem | H3: Mapa | I3: Velitel | J3: Celkem krabiček | K3: ∑ krabiček
A4: 1 | B4: 44743 | C4: 20.00 | D4: CRIS 9.413 | E4: 7. bitva | G4: Vítězství | I4: JohnyFiser | J4: 23861 | K4: =SUM(J4) -> 23861
D5: Crystalnoir | E5: 6. bitva
E6: 5. bitva | F6: vítězství | H6: Ensk 1
E7: 4. bitva | F7: porážka | H7: Murovanka 2
E8: 3. bitva | F8: vítězství | H8: Ensk 2
E9: 2. bitva | F9: vítězství | H9: Pouštní řeka 1
E10: 1. bitva | F10: porážka | H10: Útesy 2
A12: 2 | B12: 44743 | C12: 21.00 | D12: HRD- 9.006 | E12: 7. bitva | G12: Vítězství | I12: JohnyFiser | J12: 29800 | K12: =SUM(K4,J12) -> 53661
D13: HORDA- | E13: 6. bitva
E14: 5. bitva
E15: 4. bitva | F15: vítězství | H15: Prochorovka 1
E16: 3. bitva | F16: vítězství | H16: Ensk 2
E17: 2. bitva | F17: vítězství | H17: Útesy 2
E18: 1. bitva | F18: vítězství | H18: Karélie 1
A20: 3 | B20: 44743 | C20: 22.00 | D20: NEMXV 9.333 | E20: 7. bitva | F20: vítězství | G20: Remíza | H20: Útesy 1 | I20: JohnyFiser | J20: 14001 | K20: =SUM(K12,J20) -> 67662
D21: NEMXV | E21: 6. bitva | F21: porážka | H21: Doly 1
E22: 5. bitva | F22: vítězství | H22: Útesy 2
E23: 4. bitva | F23: porážka | H23: Doly 1
E24: 3. bitva | F24: porážka | H24: Redshire 1
E25: 2. bitva | F25: vítězství | H25: Doly 1
E26: 1. bitva | F26: vítězství | H26: Ruinberg 2
A28: 4 | B28: 44746 | C28: 20.00 | D28: PIVE 9.306 | E28: 7. bitva | G28: Porážka | I28: JohnyFiser | J28: 2150 | K28: =SUM(K20,J28) -> 69812
D29: Pirates Veteranos | E29: 6. bitva
E30: 5. bitva | F30: porážka | H30: Himmelsdorf 2
E31: 4. bitva | F31: porážka | H31: Prochorovka 1
E32: 3. bitva | F32: porážka | H32: Pouštní řeka 2
E33: 2. bitva | F33: porážka | H33: Doly 2
E34: 1. bitva | F34: remíza | H34: Rybářský přístav 2
A36: 5 | B36: 44746 | C36: 21.00 | D36: BULL 9.166 | E36: 7. bitva | G36: Vítězství | I36: JohnyFiser | J36: 39195 | K36: =SUM(K28,J36) -> 109007
D37: Bulldogs | E37: 6. bitva
E38: 5. bitva
E39: 4. bitva | F39: vítězství | H39: Dálnice 1
E40: 3. bitva | F40: vítězství | H40: Rybářský přístav 1
E41: 2. bitva | F41: vítězství | H41: Doly 2
E42: 1. bitva | F42: vítězství | H42: Rybářský přístav 2
A44: 6 | B44: 44746 | C44: 22.00 | D44: PCSA 9.261 | E44: 7. bitva | G44: Remíza | I44: JohnyFiser | J44: 10916 | K44: =SUM(K36,J44) -> 119923
D45: PCS-ARMY | E45: 6. bitva | F45: porážka | H45: Rybářský přístav 2
E46: 5. bitva | F46: vítězství | H46: Útesy 2
E47: 4. bitva | F47: porážka | H47: Rybářský přístav 1
E48: 3. bitva | F48: vítězství | H48: Útesy 1
E49: 2. bitva | F49: porážka | H49: Rybářský přístav 2
E50: 1. bitva | F50: vítězství | H50: Ensk 2
A52: 7 | B52: 44747 | C52: 21.00 | D52: 12ATP 5.481 | E52: 7. bitva | G52: Porážka | I52: JohnyFiser | J52: 6301 | K52: =SUM(K44,J52) -> 126224
D53: 12. Alkoholický Tankový Prapor | E53: 6. bitva
E54: 5. bitva | F54: porážka | H54: Pouštní řeka 2
E55: 4. bitva | F55: porážka | H55: Rybářský přístav 1
E56: 3. bitva | F56: vítězství | H56: Pouštní řeka 2
E57: 2. bitva | F57: porážka | H57: Rybářský přístav 2
E58: 1. bitva | F58: vítězství | H58: Útesy 1
A60: 8 | B60: 44749 | C60: 21.00 | D60: MOHJO 5.833 | E60: 7. bitva | G60: Vítězství | I60: JD6100 | J60: 38026 | K60: =SUM(K52,J60) -> 164250
D61: Mohjo´s Hunde | E61: 6. bitva
E62: 5. bitva
E63: 4. bitva | F63: vítězství | H63: Doly 1
E64: 3. bitva | F64: vítězství | H64: Himmelsdorf 2
E65: 2. bitva | F65: vítězství | H65: Ensk 2
E66: 1. bitva | F66: vítězství | H66: Karélie 2
A68: 9 | B68: 44753 | C68: 21.00 | D68: VA-HA 8.623 | E68: 7. bitva | G68: Vítězství | I68: Kista1_ | J68: 23400 | K68: =SUM(K60,J68) -> 187650
D69: VATAHA | E69: 6. bitva | F69: vítězství | H69: Malinovka 1
E70: 5. bitva | F70: porážka | H70: Útesy 2
E71: 4. bitva | F71: vítězství | H71: Malinovka 2
E72: 3. bitva | F72: porážka | H72: Útesy 2
E73: 2. bitva | F73: vítězství | H73: Malinovka 2
E74: 1. bitva | F74: vítězství | H74: Prochorovka 2
A76: 10 | B76: 44754 | C76: 21.00 | D76: P-ZBP 5.811 | E76: 7. bitva | G76: Vítězství | I76: JohnyFiser | J76: 24382 | K76: =SUM(K68,J76) -> 212032
D77: Polska - Zmechanizowana Brygada Pan.. | E77: 6. bitva | F77: vítězství | H77: Malinovka 1
E78: 5. bitva | F78: porážka | H78: Útesy 1
E79: 4. bitva | F79: vítězství | H79: Malinovka 1
E80: 3. bitva | F80: porážka | H80: Útesy 2
E81: 2. bitva | F81: vítězství | H81: Malinovka 1
E82: 1. bitva | F82: vítězství | H82: Ruinberg 2
A84: 11 | B84: 44756 | C84: 20.00 | D84: HRVJ 9.609 | E84: 7. bitva | G84: Porážka | I84: JohnyFiser | J84: 5922 | K84: =SUM(K76,J84) -> 217954
D85: Hrvatski Jastrebovi | E85: 6. bitva
E86: 5. bitva | F86: porážka | H86: Pouštní řeka 2
E87: 4. bitva | F87: porážka | H87: Útesy 2
E88: 3. bitva | F88: porážka | H88: Doly 1
E89: 2. bitva | F89: vítězství | H89: Útesy 1
E90: 1. bitva | F90: remíza | H90: Dubový lesík 1
A92: 12 | B92: 44756 | C92: 21.00 | D92: YILKI 9.292 | E92: 8. bitva | F92: porážka | G92: Remíza | H92: Doly 1 | I92: JohnyFiser | J92: 12950 | K92: =SUM(K84,J92) -> 230904
D93: YILKI NEFERLERI | E93: 7. bitva | F93: vítězství | H93: Útesy 2
E94: 6. bitva | F94: porážka | H94: Doly 1
E95: 5. bitva | F95: porážka | H95: Malinovka 1
E96: 4. bitva | F96: vítězství | H96: Doly 1
E97: 3. bitva | F97: vítězství | H97: Útesy 1
E98: 2. bitva | F98: porážka | H98: Doly 1
E99: 1. bitva | F99: vítězství | H99: Doly 2
A101: 13 | B101: 44756 | C101: 22.00 | D101: PCSA 9.261 | E101: 7. bitva | G101: Porážka | I101: JohnyFiser | J101: 2184 | K101: =SUM(K92,J101) -> 233088
D102: PCS-ARMY | E102: 6. bitva | F102: porážka | H102: Himmelsdorf 1
E103: 5. bitva | F103: porážka | H103: Prochorovka 1
E104: 4. bitva | F104: porážka | H104: Pouštní řeka 2
E105: 3. bitva | F105: porážka | H105: Redshire 2
E106: 2. bitva | F106: vítězství | H106: Pouštní řeka 1
E107: 1. bitva | F107: porážka | H107: Karélie 1
A109: 14 | B109: 44757 | C109: 20.00 | D109: FONIX 9.431 | E109: 7. bitva | G109: Porážka | I109: JohnyFiser | J109: 5175 | K109: =SUM(K101,J109) -> 238263
D110: FöNIX | E110: 6. bitva | F110: porážka | H110: Pouštní řeka 2
E111: 5. bitva | F111: porážka | H111: Redshire 1
E112: 4. bitva | F112: vítězství | H112: Pouštní řeka 1
E113: 3. bitva | F113: porážka | H113: Redshire 1
E114: 2. bitva | F114: porážka | H114: Útesy 2
...

Sheet Srpen 2022
A1: Ofenzívy klanu CORMA - Srpen 2022
A3: P.č. | B3: Datum | C3: Hodina | D3: Soupeř | E3: Ofenzíva | F3: Výsledek | G3: Výsledek celkem | H3: Mapa | I3: Velitel | J3: Celkem krabiček | K3: ∑ krabiček
A4: 1 | B4: 44777 | C4: 22.00 | D4: HRD- 8.951 | E4: 7. bitva | G4: Porážka | I4: JohnyFiser | J4: 5762 | K4: =SUM(J4) -> 5762
D5: HORDA- | E5: 6. bitva
E6: 5. bitva | F6: vítězství | H6: Prochorovka 1
E7: 4. bitva | F7: porážka | H7: Westfield 1
E8: 3. bitva | F8: vítězství | H8: Prochorovka 2
E9: 2. bitva | F9: porážka | H9: Westfield 2
E10: 1. bitva | F10: porážka | H10: Ruinberg
A12: 2 | B12: 44777 | C12: 23.00 | D12: PLRSZ 6.398 | E12: 7. bitva | G12: Porážka | I12: JohnyFiser | J12: 4402 | K12: =SUM(K4,J12) -> 10164
D13: Polskie Rewolucyjne Sily Zbrojne | E13: 6. bitva | F13: porážka | H13: Klidné pobřeží 2
E14: 5. bitva | F14: porážka | H14: Útesy 2
E15: 4. bitva | F15: porážka | H15: Pouštní řeka 2
E16: 3. bitva | F16: vítězství | H16: Útesy 2
E17: 2. bitva | F17: porážka | H17: Pouštní řeka 2
E18: 1. bitva | F18: vítězství | H18: Prochorovka 1
A20: 3 | B20: 44778 | C20: 22.00 | D20: -FFH- 6.455 | E20: 7. bitva | G20: Vítězství | I20: Fine_Ger | J20: 23869 | K20: =SUM(K12,J20) -> 34033
D21: Far From Human | E21: 6. bitva | F21: vítězství | H21: Dubový lesík 1
E22: 5. bitva | F22: porážka | H22: Dálnice 2
E23: 4. bitva | F23: vítězství | H23: Dubový lesík 1
E24: 3. bitva | F24: vítězství | H24: Westfield 1
E25: 2. bitva | F25: porážka | H25: Dubový lesík 1
E26: 1. bitva | F26: vítězství | H26: Malinovka 1
A28: 4 | B28: 44778 | C28: 23.00 | D28: N112 8.912 | E28: 7. bitva | G28: Porážka | I28: Fine_Ger | J28: 5884 | K28: =SUM(K20,J28) -> 39917
D29: NIGHT CLUB 112 | E29: 6. bitva | F29: vítězství | H29: Dálnice 1
E30: 5. bitva | F30: porážka | H30: Doly 1
E31: 4. bitva | F31: vítězství | H31: Dálnice 1
E32: 3. bitva | F32: porážka | H32: Doly 1
E33: 2. bitva | F33: porážka | H33: Karelie 1
E34: 1. bitva | F34: porážka | H34: Himmelsdorf 2
A36: 5 | B36: 44782 | C36: 21.00 | D36: CZMAF 9.074 | E36: 7. bitva | G36: Vítězství | I36: Fine_Ger | J36: 24567 | K36: =SUM(K28,J36) -> 64484
D37: CzechMafia | E37: 6. bitva
E38: 5. bitva | F38: vítězství | H38: Pouštní řeka 1
E39: 4. bitva | F39: vítězství | H39: Westfield 2
E40: 3. bitva | F40: porážka | H40: Pouštní řeka 1
E41: 2. bitva | F41: vítězství | H41: Westfield 1
E42: 1. bitva | F42: porážka | H42: Redshire 2
A44: 6 | B44: 44783 | C44: 20.00 | D44: SOGM 9.233 | E44: 7. bitva | G44: Remíza | I44: JohnyFiser | J44: 12125 | K44: =SUM(K36,J44) -> 76609
D45: Sons of Great Moravia | E45: 6. bitva
E46: 5. bitva | F46: vítězství | H46: Westfield 1
E47: 4. bitva | F47: vítězství | H47: Prochorovka 1
E48: 3. bitva | F48: porážka | H48: Westfield 1
E49: 2. bitva | F49: porážka | H49: Himmelsdorf 2
E50: 1. bitva | F50: vítězství | H50: Rybářský přístav 1
A52: 7 | B52: 44783 | C52: 21.00 | D52: CS-MD 8.925 | E52: 7. bitva | G52: Porážka | I52: Fine_Ger | J52: 827 | K52: =SUM(K44,J52) -> 77436
D53: Československá mechanizovaná divize | E53: 6. bitva
E54: 5. bitva
E55: 4. bitva | F55: porážka | H55: Dálnice 1
E56: 3. bitva | F56: porážka | H56: Prochorovka 1
E57: 2. bitva | F57: porážka | H57: Westfield 1
E58: 1. bitva | F58: porážka | H58: Himmelsdorf 1
A60: 8 | B60: 44784 | C60: 21.00 | D60: -RIO- 9.703 | E60: 7. bitva | G60: Porážka | I60: JohnyFiser | J60: 1054 | K60: =SUM(K52,J60) -> 78490
D61: -Report is Out | E61: 6. bitva
E62: 5. bitva
E63: 4. bitva | F63: porážka | H63: Dálnice 1
E64: 3. bitva | F64: porážka | H64: Prochorovka 1
E65: 2. bitva | F65: porážka | H65: Westfield 2
E66: 1. bitva | F66: porážka | H66: Westfield 2
A68: 9 | B68: 44784 | C68: 22.00 | D68: ATESH 6.183 | E68: 7. bitva | G68: Remíza | I68: JohnyFiser | J68: 9621 | K68: =SUM(K60,J68) -> 88111
D69: FIRE_OF_ANATOLIA | E69: 6. bitva
E70: 5. bitva | F70: vítězství | H70: Karelie 1
E71: 4. bitva | F71: vítězství | H71: Doly 2
E72: 3. bitva | F72: porážka | H72: Karelie 2
E73: 2. bitva | F73: porážka | H73: Karelie 2
E74: 1. bitva | F74: remíza | H74: Redshire 1
A76: 10 | B76: 44785 | C76: 22.00 | D76: ON1X 6.237 | E76: 7. bitva | G76: Porážka | I76: JohnyFiser | J76: 1684 | K76: =SUM(K68,J76) -> 89795
D77: PheOn1x_ | E77: 6. bitva
E78: 5. bitva
E79: 4. bitva | F79: porážka | H79: Dálnice 2
E80: 3. bitva | F80: porážka | H80: Prochorovka 1
E81: 2. bitva | F81: porážka | H81: Westfield 2
E82: 1. bitva | F82: remíza | H82: Redshire 2
A84: 11 | B84: 44788 | C84: 23.00 | D84: GOT_B 6.805 | E84: 7. bitva | G84: Remíza | I84: JohnyFiser | J84: 9802 | K84: =SUM(K76,J84) -> 99597
D85: GHOSTS OF THE BALKANS | E85: 6. bitva
E86: 5. bitva | F86: vítězství | H86: Doly 1
E87: 4. bitva | F87: porážka | H87: Útesy 2
E88: 3. bitva | F88: porážka | H88: Dálnice 1
E89: 2. bitva | F89: vítězství | H89: Útesy 2
E90: 1. bitva | F90: vítězství | H90: Doly 2
A92: 12 | B92: 44789 | C92: 20.00 | D92: ZSCST 6.332 | E92: 7. bitva | G92: Vítězství | I92: JohnyFiser | J92: 43518 | K92: =SUM(K84,J92) -> 143115
D93: Železná srdce Československých tankistů | E93: 6. bitva | F93: vítězství | H93: Karelie 2
E94: 5. bitva | F94: vítězství | H94: Útesy 1
E95: 4. bitva | F95: porážka | H95: Karelie 2
E96: 3. bitva | F96: vítězství | H96: Útesy 2
E97: 2. bitva | F97: vítězství | H97: Doly 1
E98: 1. bitva | F98: vítězství | H98: Malinovka 1
A100: 13 | B100: 44790 | C100: 21.00 | D100: UNI- 7.459 | E100: 7. bitva | G100: Vítězství | I100: Kista1 | J100: 24857 | K100: =SUM(K92,J100) -> 167972
D101: UN NOU INCEPUT- | E101: 6. bitva | F101: porážka | H101: Malinovka 1
E102: 5. bitva | F102: vítězství | H102: Klidné pobřeží 2
E103: 4. bitva | F103: vítězství | H103: Doly 1
E104: 3. bitva | F104: vítězství | H104: Prochorovka 1
E105: 2. bitva | F105: porážka | H105: Doly 2
E106: 1. bitva | F106: porážka | H106: Westfield 2
A108: 14 | B108: 44792 | C108: 21.00 | D108: MORUK 7.051 | E108: 7. bitva | G108: Vítězství | I108: JohnyFiser | J108: 39056 | K108: =SUM(K100,J108) -> 207028
D109: ?????????????????? | E109: 6. bitva
E110: 5. bitva
E111: 4. bitva | F111: vítězství | H111: Doly 2
E112: 3. bitva | F112: vítězství | H112: Redshire 1
E113: 2. bitva | F113: vítězství | H113: Prochorovka 2
E114: 1. bitva | F114: vítězství | H114: Ensk 2
...

Sheet Září 2022
A1: Ofenzívy klanu CORMA - Září 2022
A3: P.č. | B3: Datum | C3: Hodina | D3: Soupeř | E3: Ofenzíva | F3: Výsledek | G3: Výsledek celkem | H3: Mapa | I3: Velitel | J3: Celkem krabiček | K3: ∑ krabiček
A4: 1 | B4: 44805 | C4: 20.00 | D4: PRSN 10.635 | E4: 7. bitva | G4: Porážka | I4: kubajzník | J4: 1089 | K4: =SUM(J4) -> 1089
D5: PRISON | E5: 6. bitva
E6: 5. bitva
E7: 4. bitva | F7: porážka | H7: Klidné pobřeží 1
E8: 3. bitva | F8: porážka | H8: Rybářský přístav 2
E9: 2. bitva | F9: porážka | H9: Útesy 2
E10: 1. bitva | F10: porážka | H10: Ensk 1
A12: 2 | B12: 44805 | C12: 21.00 | D12: DAGS 8.318 | E12: 7. bitva | G12: Porážka | I12: JohnyFiser | J12: 8068 | K12: =SUM(K4,J12) -> 9157
D13: Daggers Squad | E13: 6. bitva | F13: vítězství | H13: Rybářský přístav 1
E14: 5. bitva | F14: porážka | H14: Útesy 2
E15: 4. bitva | F15: porážka | H15: Klidné pobřeží 1
E16: 3. bitva | F16: vítězství | H16: Útesy 1
E17: 2. bitva | F17: porážka | H17: Klidné pobřeží 2
E18: 1. bitva | F18: vítězství | H18: Malinovka 1
A20: 3 | B20: 44806 | C20: 20.00 | D20: K-A-P 7.955 | E20: 7. bitva | G20: Vítězství | I20: kocek1 | J20: 33191 | K20: =SUM(K12,J20) -> 42348
D21: Klid a Pohoda | E21: 6. bitva | F21: porážka | H21: Doly 1
E22: 5. bitva | F22: vítězství | H22: Ensk 1
E23: 4. bitva | F23: vítězství | H23: Klidné pobřeží 2
E24: 3. bitva | F24: porážka | H24: Ensk 1
E25: 2. bitva | F25: vítězství | H25: Klidné pobřeží 2
E26: 1. bitva | F26: vítězství | H26: Klidné pobřeží 2
A28: 4 | B28: 44806 | C28: 21.00 | D28: B-E-A 8.997 | E28: 7. bitva | G28: Remíza | I28: kocek1 | J28: 11513 | K28: =SUM(K20,J28) -> 53861
D29: Brigada Espaňola Acorazada | E29: 6. bitva
E30: 5. bitva | F30: vítězství | H30: Pouštní řeka 2
E31: 4. bitva | F31: porážka | H31: Redshire 2
E32: 3. bitva | F32: vítězství | H32: Pouštní řeka 2
E33: 2. bitva | F33: porážka | H33: Redshire 1
E34: 1. bitva | F34: vítězství | H34: Himmelsdorf 2
A36: 5 | B36: 44806 | C36: 22.00 | D36: ACR11 8.768 | E36: 7. bitva | G36: Vítězství | I36: Fine_Ger | J36: 38927 | K36: =SUM(K28,J36) -> 92788
D37: 11th Armored Cavalry Regiment | E37: 6. bitva | F37: vítězství | H37: Útesy 2
E38: 5. bitva | F38: vítězství | H38: Murovanka 2
E39: 4. bitva | F39: porážka | H39: Útesy 1
E40: 3. bitva | F40: vítězství | H40: Murovanka 1
E41: 2. bitva | F41: vítězství | H41: Dálnice 1
E42: 1. bitva | F42: vítězství | H42: Westfield 1
A44: 6 | B44: 44808 | C44: 21.00 | D44: EXLEG 9.252 | E44: 7. bitva | G44: Porážka | I44: kocek1 | J44: 5727 | K44: =SUM(K36,J44) -> 98515
D45: Exiles Legion | E45: 6. bitva | F45: porážka | H45: Pouštní řeka 1
E46: 5. bitva | F46: vítězství | H46: Westfield 1
E47: 4. bitva | F47: porážka | H47: Pouštní řeka 2
E48: 3. bitva | F48: porážka | H48: Murovanka 1
E49: 2. bitva | F49: vítězství | H49: Pouštní řeka 1
E50: 1. bitva | F50: porážka | H50: Redshire 2
A52: 7 | B52: 44809 | C52: 20.00 | D52: B-E-A 8.997 | E52: 7. bitva | G52: Vítězství | I52: JohnyFiser | J52: 44308 | K52: =SUM(K44,J52) -> 142823
D53: Brigada Espaňola Acorazada | E53: 6. bitva
E54: 5. bitva
E55: 4. bitva | F55: vítězství | H55: Dubový lesík 1
E56: 3. bitva | F56: vítězství | H56: Útesy 1
E57: 2. bitva | F57: vítězství | H57: Karélie 2
E58: 1. bitva | F58: vítězství | H58: Redshire 2
A60: 8 | B60: 44809 | C60: 21.00 | D60: HULKS 10.197 | E60: 7. bitva | G60: Vítězství | I60: kocek1 | J60: 29962 | K60: =SUM(K52,J60) -> 172785
D61: =Hungary-Shadow-Killers= | E61: 6. bitva
E62: 5. bitva | F62: vítězství | H62: Prochorovka 1
E63: 4. bitva | F63: vítězství | H63: Murovanka 2
E64: 3. bitva | F64: vítězství | H64: Redshire 1
E65: 2. bitva | F65: vítězství | H65: Prochorovka 1
E66: 1. bitva | F66: porážka | H66: Pouštní řeka 2
A68: 9 | B68: 44809 | C68: 22.00 | D68: -N-N_ 9.974 | E68: 7. bitva | G68: Vítězství | I68: ThrynnNess | J68: 34749 | K68: =SUM(K60,J68) -> 207534
D69: NO_NAME | E69: 6. bitva
E70: 5. bitva | F70: vítězství | H70: Murovanka 2
E71: 4. bitva | F71: porážka | H71: Prochorovka 2
E72: 3. bitva | F72: vítězství | H72: Murovanka 2
E73: 2. bitva | F73: vítězství | H73: Redshire 2
E74: 1. bitva | F74: vítězství | H74: Rybářský přístav 1
A76: 10 | B76: 44809 | C76: 20.00 | D76: CS_JB 9.520 | E76: 7. bitva | G76: Porážka | I76: kocek1 | J76: 5122 | K76: =SUM(K68,J76) -> 212656
D77: Československá Jednotka Bláznů | E77: 6. bitva
E78: 5. bitva | F78: vítězství | H78: Klidné pobřeží 2
E79: 4. bitva | F79: porážka | H79: Westfield 2
E80: 3. bitva | F80: porážka | H80: Pouštní řeka 2
E81: 2. bitva | F81: porážka | H81: Útesy 2
E82: 1. bitva | F82: vítězství | H82: Westfield 2
A84: 11 | B84: 44811 | C84: 19.00 | D84: LTPR 6.772 | E84: 7. bitva | G84: Remíza | I84: JohnyFiser | J84: 12068 | K84: =SUM(K76,J84) -> 224724
D85: Lietuvos tanku pajégos | E85: 6. bitva | F85: porážka | H85: Doly 2
E86: 5. bitva | F86: porážka | H86: Himmelsdorf 2
E87: 4. bitva | F87: vítězství | H87: Doly 1
E88: 3. bitva | F88: porážka | H88: Himmelsdorf 2
E89: 2. bitva | F89: vítězství | H89: Doly 2
E90: 1. bitva | F90: vítězství | H90: Ensk 2
A92: 12 | B92: 44811 | C92: 20.00 | D92: CS-MD 9.522 | E92: 7. bitva | G92: Porážka | I92: kocek1 | J92: 3869 | K92: =SUM(K84,J92) -> 228593
D93: Československá Mechanizovaná Divize | E93: 6. bitva
E94: 5. bitva | F94: porážka | H94: Dubový lesík 1
E95: 4. bitva | F95: porážka | H95: Prochorovka 1
E96: 3. bitva | F96: vítězství | H96: Dubový lesík 2
E97: 2. bitva | F97: porážka | H97: Prochorovka 2
E98: 1. bitva | F98: porážka | H98: Ruinberg 1
A100: 13 | B100: 44812 | C100: 20.00 | D100: PIVE 10.243 | E100: 7. bitva | G100: Porážka | I100: ThrynnNess | J100: 8505 | K100: =SUM(K92,J100) -> 237098
D101: PIRATES VETERANOS | E101: 6. bitva | F101: vítězství | H101: Dubový lesík 1
E102: 5. bitva | F102: porážka | H102: Prochorovka 2
E103: 4. bitva | F103: porážka | H103: Doly 2
E104: 3. bitva | F104: porážka | H104: Klidné pobřeží 1
E105: 2. bitva | F105: vítězství | H105: Doly 1
E106: 1. bitva | F106: vítězství | H106: Karélie 1
A108: 14 | B108: 44812 | C108: 21.00 | D108: RO_KI 10.091 | E108: 7. bitva | F108: vítězství | G108: Vítězství | H108: Klidné pobřeží 2 | I108: ThrynnNess | J108: 26326 | K108: =SUM(K100,J108) -> 263424
D109: kill the last | E109: 6. bitva | F109: vítězství | H109: Útesy 1
E110: 5. bitva | F110: porážka | H110: Klidné pobřeží 1
E111: 4. bitva | F111: vítězství | H111: Útesy 2
E112: 3. bitva | F112: porážka | H112: Klidné pobřeží 2
E113: 2. bitva | F113: vítězství | H113: Útesy 1
E114: 1. bitva | F114: porážka | H114: Klidné pobřeží 1
...

Sheet Říjen 2022
A1: Ofenzívy klanu CORMA - Říjen 2022
A3: P.č. | B3: Datum | C3: Hodina | D3: Soupeř | E3: Ofenzíva | F3: Výsledek | G3: Výsledek celkem | H3: Mapa | I3: Velitel | J3: Celkem krabiček | K3: ∑ krabiček
A4: 1 | B4: 44836 | C4: 20.00 | D4: SOBPL 10.869 | E4: 7. bitva | G4: Vítězství | I4: Kastynho | J4: 33827 | K4: =SUM(J4) -> 33827
D5: SOBIESKI PL | E5: 6. bitva | F5: porážka | H5: Rybářský přístav 1
E6: 5. bitva | F6: vítězství | H6: Útesy 1
E7: 4. bitva | F7: porážka | H7: Rybářský přístav 1
E8: 3. bitva | F8: vítězství | H8: Útesy 2
E9: 2. bitva | F9: vítězství | H9: Pouštní řeka 1
E10: 1. bitva | F10: vítězství | H10: Himmelsdorf 1
A12: 2 | B12: 44847 | C12: 20.00 | D12: UG_UA 9.384 | E12: 7. bitva | G12: Vítězství | I12: Kastynho | J12: 40059 | K12: =SUM(K4,J12) -> 73886
D13: S_OU_TH | E13: 6. bitva
E14: 5. bitva
E15: 4. bitva | F15: vítězství | H15: Karelie 2
E16: 3. bitva | F16: vítězství | H16: Útesy 2
E17: 2. bitva | F17: vítězství | H17: Redshire 2
E18: 1. bitva | F18: vítězství | H18: Himmelsdorf 1
A20: 3 | B20: 44857 | C20: 20.00 | D20: IMB 9.606 | E20: 7. bitva | G20: Vítězství | I20: JohnyFiser | J20: 43767 | K20: =SUM(K12,J20) -> 117653
D21: infanteria mecanizada brunete 1 | E21: 6. bitva
E22: 5. bitva
E23: 4. bitva | F23: vítězství | H23: Klidné pobřeží 2
E24: 3. bitva | F24: vítězství | H24: Ensk 1
E25: 2. bitva | F25: vítězství | H25: Klidné pobřeží 2
E26: 1. bitva | F26: vítězství | H26: Klidné pobřeží 2
A28: 4 | B28: 44859 | C28: 21.00 | D28: ARHEO 10.732 | E28: 7. bitva | G28: Remíza | I28: Kastynho | J28: 11945 | K28: =SUM(K20,J28) -> 129598
D29: Sekcja ARCHEO | E29: 6. bitva | F29: porážka | H29: Rybářský přístav 2
E30: 5. bitva | F30: vítězství | H30: Pouštní řeka 1
E31: 4. bitva | F31: vítězství | H31: Útesy 1
E32: 3. bitva | F32: porážka | H32: Pouštní řeka 1
E33: 2. bitva | F33: porážka | H33: Rybářský přístav 2
E34: 1. bitva | F34: vítězství | H34: Himmelsdorf 2
A36: 5 | B36: 44860 | C36: 20.00 | D36: 3DBFL 11.984 | E36: 7. bitva | G36: Porážka | I36: Kastynho | J36: 2725 | K36: =SUM(K28,J36) -> 132323
D37: 3e Division Blindée Francaise Leclerc | E37: 6. bitva | F37: porážka | H37: Ensk 1
E38: 5. bitva | F38: porážka | H38: Útesy 1
E39: 4. bitva | F39: porážka | H39: Pouštní řeka 1
E40: 3. bitva | F40: porážka | H40: Rybářský přístav 1
E41: 2. bitva | F41: vítězství | H41: Pouštní řeka 2
E42: 1. bitva | F42: porážka | H42: Himmelsdorf 2
A44: 6 | B44: 44861 | C44: 19.00 | D44: QUENS 13.653 | E44: 7. bitva | G44: Porážka | I44: kocek1 | J44: 936 | K44: =SUM(K36,J44) -> 133259
D45: Queens | E45: 6. bitva
E46: 5. bitva | K46: ='Říjen 2022'!#REF! -> #REF!
E47: 4. bitva | F47: porážka | H47: Ensk 1
E48: 3. bitva | F48: porážka | H48: Himmelsdorf 1
E49: 2. bitva | F49: porážka | H49: Doly 1
E50: 1. bitva | F50: porážka | H50: Himmelsdorf 1
A52: 7 | B52: 44861 | C52: 21.00 | D52: RPD1 8.684 | E52: 7. bitva | F52: vítězství | G52: Vítězství | H52: Karélie 2 | I52: kocek1 | J52: 25825 | K52: =SUM(K44,J52) -> 159084
D53: Rota plná darebáku | E53: 6. bitva | F53: porážka | H53: Ensk 2
E54: 5. bitva | F54: vítězství | H54: Karélie 1
E55: 4. bitva | F55: vítězství | H55: Murovanka 1
E56: 3. bitva | F56: porážka | H56: Karélie 2
E57: 2. bitva | F57: vítězství | H57: Murovanka 1
E58: 1. bitva | F58: porážka | H58: Himmelsdorf 1
A60: 8 | B60: 44861 | C60: 22.00 | D60: LOCO- 11.748 | E60: 7. bitva | G60: Remíza | I60: kocek1 | J60: 9515 | K60: =SUM(K52,J60) -> 168599
D61: Lako Oklopljene Crne Ovce | E61: 6. bitva
E62: 5. bitva | F62: porážka | H62: Malinovka 2
E63: 4. bitva | F63: vítězství | H63: Doly 2
E64: 3. bitva | F64: porážka | H64: Malinovka 1
E65: 2. bitva | F65: vítězství | H65: Doly 1
E66: 1. bitva | F66: porážka | H66: Himmelsdorf 1
A68: 9 | B68: 44862 | C68: 21.00 | D68: R1K_O 8.955 | E68: 7. bitva | G68: Vítězství | I68: mewtvo2000 | J68: 36852 | K68: =SUM(K60,J68) -> 205451
D69: Rückzug ist keine Option | E69: 6. bitva
E70: 5. bitva
E71: 4. bitva | F71: vítězství | H71: Předsunutá základna 1
E72: 3. bitva | F72: vítězství | H72: Himmelsdorf 1
E73: 2. bitva | F73: vítězství | H73: Doly 1
E74: 1. bitva | F74: vítězství | H74: Himmelsdorf 2
A76: 10 | B76: 44863 | C76: 23.00 | D76: GOT_B 9.945 | E76: 7. bitva | G76: Porážka | I76: kocek1 | J76: 1505 | K76: =SUM(K68,J76) -> 206956
D77: GHOSTS OF THE BALKANS | E77: 6. bitva
E78: 5. bitva
E79: 4. bitva | F79: porážka | H79: Ensk 2
E80: 3. bitva | F80: porážka | H80: Prochorovka 1
E81: 2. bitva | F81: porážka | H81: Murovanka 2
E82: 1. bitva | F82: porážka | H82: Himmelsdorf 2
A84: 11 | B84: 44864 | C84: 19.00 | D84: ATES 12.386 | E84: 7. bitva | G84: Vítězství | I84: janysek7 | J84: 32756 | K84: =SUM(K76,J84) -> 239712
D85: ATES | E85: 6. bitva | F85: vítězství | H85: Westfield 2
E86: 5. bitva | F86: porážka | H86: Himmelsdorf 1
E87: 4. bitva | F87: vítězství | H87: Westfield 1
E88: 3. bitva | F88: vítězství | H88: Pouštní řeka 2
E89: 2. bitva | F89: vítězství | H89: Doly 2
E90: 1. bitva | F90: porážka | H90: Himmelsdorf 1
A92: 12 | B92: 44864 | C92: 20.00 | D92: 1_UA 12.626 | E92: 7. bitva | G92: Porážka | I92: janysek7 | J92: 5449 | K92: =SUM(K84,J92) -> 245161
D93: PERŠIJ UKRAINSKIJ | E93: 6. bitva | F93: porážka | H93: Himmelsdorf 1
E94: 5. bitva | F94: porážka | H94: Doly 1
E95: 4. bitva | F95: porážka | H95: Prochorovka 2
E96: 3. bitva | F96: vítězství | H96: Doly 2
E97: 2. bitva | F97: porážka | H97: Prochorovka 2
E98: 1. bitva | F98: vítězství | H98: Himmelsdorf 2
A100: 13 | B100: 44864 | C100: 21.00 | D100: TR_UA 11.424 | E100: 7. bitva | G100: Vítězství | I100: hame666 | J100: 39116 | K100: =SUM(K92,J100) -> 284277
D101: KingsUA | E101: 6. bitva
E102: 5. bitva
E103: 4. bitva
E104: 3. bitva
E105: 2. bitva | F105: vítězství | H105: Pouštní řeka 1
E106: 1. bitva | F106: vítězství | H106: Himmelsdorf 2
A110: OFENZÍVY ŘÍJEN 2023 | D110: Počet ofenzív Říjen 2022 | E110: 13 | F110: 1
D111: Vítězné ofenzívy Říjen 2022 | E111: 7 | F111: =AVERAGE(E111*F110)/E110 -> 0.53846154
D112: Prohrané ofenzívy Říjen 2022 | E112: 4 | F112: =AVERAGE(E112*F111)/E111 -> 0.30769231
D113: Remizované ofenzívy Říjen 2022 | E113: 2 | F113: =AVERAGE(E113*F112)/E112 -> 0.15384615
D114: Krabičky za měsíc 2022 | E114: 284277
F117: Velící ofenzívy | G117: Výhra | H117: Prohra | I117: Remíza | J117: Celkem odveleno
F118: JohnyFiser | G118: 1 | H118: 0 | I118: 0 | J118: =SUM(G118:I118) -> 1
...

Sheet Listopad 2022
A1: Ofenzívy klanu CORMA - Listopad 2022
A3: P.č. | B3: Datum | C3: Hodina | D3: Soupeř | E3: Ofenzíva | F3: Výsledek | G3: Výsledek celkem | H3: Mapa | I3: Velitel | J3: Celkem krabiček | K3: ∑ krabiček
A4: 1 | B4: 44868 | C4: 19.00 | D4: VISN 12.936 | G4: Porážka | I4: JohnyFiser | J4: 675 | K4: =SUM(J4) -> 675
D5: We have a Vision
E7: 4. bitva | F7: porážka | H7: Dálnice 2
E8: 3. bitva | F8: porážka | H8: Rybářský přístav 2
E9: 2. bitva | F9: porážka | H9: Útesy 2
E10: 1. bitva | F10: porážka | H10: Himmelsdorf 1
A12: 2 | B12: 44868 | C12: 20.00 | D12: S1NDY 11.551 | E12: 7. bitva | G12: Vítězství | I12: JohnyFiser | J12: 45247 | K12: =SUM(K4,J12) -> 45922
D13: S1NDY | E13: 6. bitva | F13: vítězství | H13: Malinovka 1
E14: 5. bitva | F14: vítězství | H14: Útesy 1
E15: 4. bitva | F15: vítězství | H15: Klidné pobřeží 2
E16: 3. bitva | F16: vítězství | H16: Útesy 1
E17: 2. bitva | F17: porážka | H17: Klidné pobřeží 2
E18: 1. bitva | F18: vítězství | H18: Himmelsdorf 2
A20: 3 | B20: 44868 | C20: 21.00 | D20: _V-M_ 12.968 | E20: 7. bitva | G20: Vítězství | I20: kocek1 | J20: 24847 | K20: =SUM(K12,J20) -> 70769
D21: Ventum Mortis | E21: 6. bitva | F21: porážka | H21: Prochorovka 2
E22: 5. bitva | F22: porážka | H22: Útesy 2
E23: 4. bitva | F23: vítězství | H23: Prochorovka 2
E24: 3. bitva | F24: vítězství | H24: Redshire 2
E25: 2. bitva | F25: vítězství | H25: Redshire 1
E26: 1. bitva | F26: porážka | H26: Himmelsdorf 1
A28: 4 | B28: 44870 | C28: 23.00 | D28: ODLCS 8.564 | E28: 7. bitva | G28: Remíza | I28: Kastynho | J28: 12018 | K28: =SUM(K20,J28) -> 82787
D29: ORLY DEVIATEJ LÉGIE | E29: 6. bitva
E30: 5. bitva | F30: porážka | H30: Himmelsdorf 2
E31: 4. bitva | F31: vítězství | H31: Předsunutá základna 2
E32: 3. bitva | F32: vítězství | H32: Malinovka 2
E33: 2. bitva | F33: porážka | H33: Předsunutá základna 1
E34: 1. bitva | F34: porážka | H34: Himmelsdorf 2
A36: 5 | B36: 44871 | C36: 19.00 | D36: RO-VF 9.457 | E36: 7. bitva | G36: Porážka | I36: Belink | J36: 5760 | K36: =SUM(K28,J36) -> 88547
D37: Romanian Veteran Forces | E37: 6. bitva
E38: 5. bitva | F38: vítězství | H38: Dálnice 1
E39: 4. bitva | F39: porážka | H39: Doly 2
E40: 3. bitva | F40: porážka | H40: Ensk 2
E41: 2. bitva | F41: porážka | H41: Murovanka 1
E42: 1. bitva | F42: vítězství | H42: Himmelsdorf 1
A44: 6 | B44: 44871 | C44: 20.00 | D44: N_3 7.096 | E44: 7. bitva | G44: Remíza | I44: Belink | J44: 10279 | K44: =SUM(K36,J44) -> 98826
D45: Niepokanani 3 | E45: 6. bitva
E46: 5. bitva | F46: porážka | H46: Westfield 2
E47: 4. bitva | F47: vítězství | H47: Ensk 1
E48: 3. bitva | F48: vítězství | H48: Doly 2
E49: 2. bitva | F49: porážka | H49: Ensk 2
E50: 1. bitva | F50: porážka | H50: Himmelsdorf 2
A52: 7 | B52: 44871 | C52: 21.00 | D52: BALEC 12.618 | E52: 7. bitva | G52: Porážka | I52: JohnyFiser | J52: 3952 | K52: =SUM(K44,J52) -> 102778
D53: bataillon anti-char leclerc | E53: 6. bitva
E54: 5. bitva | F54: porážka | H54: Rybářský přístav 2
E55: 4. bitva | F55: porážka | H55: Útesy 1
E56: 3. bitva | F56: vítězství | H56: Rybářský přístav 1
E57: 2. bitva | F57: porážka | H57: Útesy 1
E58: 1. bitva | F58: porážka | H58: Himmelsdorf 2
A60: 8 | B60: 44875 | C60: 19.00 | D60: DAC_R 10.720 | E60: 7. bitva | G60: Remíza | I60: Belink | J60: 9092 | K60: =SUM(K52,J60) -> 111870
D61: DIVIZIA ARMATEI CARPATII ROMANIEI | E61: 6. bitva
E62: 5. bitva
E63: 4. bitva | F63: vítězství | H63: Redshire 2
E64: 3. bitva | F64: porážka | H64: Himmelsdorf 1
E65: 2. bitva | F65: vítězství | H65: Redshire 1
E66: 1. bitva | F66: porážka | H66: Himmelsdorf 1
A68: 9 | B68: 44875 | C68: 20.00 | D68: TUZEX 8.914 | E68: 7. bitva | G68: Vítězství | I68: Kastynho | J68: 42304 | K68: =SUM(K60,J68) -> 154174
D69: ****** | E69: 6. bitva
E70: 5. bitva
E71: 4. bitva | F71: vítězství | H71: Ensk 2
E72: 3. bitva | F72: vítězství | H72: Předsunutá základna 2
E73: 2. bitva | F73: vítězství | H73: Klidné pobřeží 1
E74: 1. bitva | F74: vítězství | H74: Himmelsdorf 2
A76: 10 | B76: 44876 | C76: 19.00 | D76: OMGII 10.619 | E76: 7. bitva | G76: Porážka | I76: Kastynho | J76: 538 | K76: =SUM(K68,J76) -> 154712
D77: Brain ON start-UP | E77: 6. bitva
E78: 5. bitva
E79: 4. bitva | F79: porážka | H79: Dálnice 1
E80: 3. bitva | F80: porážka | H80: Himmlesdorf 1
E81: 2. bitva | F81: porážka | H81: Redshire 2
E82: 1. bitva | F82: porážka | H82: Himmelsdorf 1
A84: 11 | B84: 44876 | C84: 20.00 | D84: ASPR 10.045 | E84: 7. bitva | G84: Porážka | I84: hame666 | J84: 3400 | K84: =SUM(K76,J84) -> 158112
D85: Aspire | E85: 6. bitva
E86: 5. bitva | F86: porážka | H86: Malinovka 1
E87: 4. bitva | F87: porážka | H87: Předsunutá základna 2
E88: 3. bitva | F88: vítězství | H88: Malinovka 2
E89: 2. bitva | F89: porážka | H89: Předsunutá základna 1
E90: 1. bitva | F90: porážka | H90: Himmelsdorf 1
A92: 12 | B92: 44876 | C92: 21.00 | D92: MJW 11.740 | E92: 7. bitva | G92: Porážka | I92: JohnyFiser | J92: 1058 | K92: =SUM(K84,J92) -> 159170
D93: Elitarna Polska | E93: 6. bitva
E94: 5. bitva
E95: 4. bitva | F95: porážka | H95: Dálnice 2
E96: 3. bitva | F96: porážka | H96: Rybářský přístav 1
E97: 2. bitva | F97: porážka | H97: Útesy 1
E98: 1. bitva | F98: porážka | H98: Himmelsdorf 1
A100: 13 | B100: 44877 | C100: 23.00 | D100: -B-U- 12.353 | E100: 7. bitva | G100: Porážka | I100: hame666 | J100: 5478 | K100: =SUM(K92,J100) -> 164648
D101: FANATIKOSI | E101: 6. bitva
E102: 5. bitva | F102: vítězství | H102: Himmelsdorf 1
E103: 4. bitva | F103: vítězství | H103: Dálnice 2
E104: 3. bitva | F104: porážka | H104: Himmelsdorf 2
E105: 2. bitva | F105: porážka | H105: Redshire 2
E106: 1. bitva | F106: porážka | H106: Himmelsdorf 2
A108: 14 | B108: 44878 | C108: 19.00 | D108: KJIAD 7.699 | E108: 7. bitva | G108: Vítězství | I108: hame666 | J108: 31776 | K108: =SUM(K100,J108) -> 196424
D109: UKRAINE_SLAVA_3Cy | E109: 6. bitva
E110: 5. bitva
E111: 4. bitva | F111: vítězství | H111: Dubový lesík 2
E112: 3. bitva | F112: porážka | H112: Dubový lesík 1
E113: 2. bitva | F113: vítězství | H113: Redshire 1
E114: 1. bitva | F114: remíza | H114: Himmelsdorf 2
A116: 15 | B116: 44881 | C116: 20.00 | D116: PL_AK 9.809 | E116: 7. bitva | G116: Vítězství | I116: JohnyFiser | J116: 23072 | K116: =SUM(K108,J116) -> 219496
...

Sheet Prosinec 2022
A1: Ofenzívy klanu CORMA - Prosinec 2022
A3: P.č. | B3: Datum | C3: Hodina | D3: Soupeř | E3: Ofenzíva | F3: Výsledek | G3: Výsledek celkem | H3: Mapa | I3: Velitel | J3: Celkem krabiček | K3: ∑ krabiček
A4: 1 | B4: 44896 | C4: 19.00 | D4: SAYG1 9.183 | G4: Vítězství | I4: Belink | J4: 35498 | K4: =SUM(J4) -> 35498
D5: SAYG1 | E5: 6. bitva | F5: porážka | H5: Karélie 1
E6: 5. bitva | F6: vítězství | H6: Prochorovka 1
E7: 4. bitva | F7: vítězství | H7: Doly 1
E8: 3. bitva | F8: vítězství | H8: Klidné pobřeží 1
E9: 2. bitva | F9: porážka | H9: Doly 1
E10: 1. bitva | F10: vítězství | H10: Himmelsdorf 1
A12: 2 | B12: 44896 | C12: 20.00 | D12: UG_UA 10.384 | E12: 7. bitva | G12: Vítězství | I12: Kastynho | J12: 33961 | K12: =SUM(K4,J12) -> 69459
D13: S_OU_TH | E13: 6. bitva | F13: vítězství | H13: Redshire 2
E14: 5. bitva | F14: vítězství | H14: Ensk 1
E15: 4. bitva | F15: vítězství | H15: Prochorovka 1
E16: 3. bitva | F16: porážka | H16: Ensk 1
E17: 2. bitva | F17: vítězství | H17: Prochorovka 1
E18: 1. bitva | F18: porážka | H18: Himmelsdorf 1
A20: 3 | B20: 44896 | C20: 21.00 | D20: -FMG- 8.806 | E20: 7. bitva | G20: Porážka | I20: Kastynho | J20: 2943 | K20: =SUM(K12,J20) -> 72402
D21: FUMAR MATA | E21: 6. bitva | F21: porážka | H21: Předsunutá základna 1
E22: 5. bitva | F22: porážka | H22: Rybářský přístav 2
E23: 4. bitva | F23: vítězství | H23: Ensk 2
E24: 3. bitva | F24: vítězství | H24: Rybářský přístav 1
E25: 2. bitva | F25: vítězství | H25: Ensk 2
E26: 1. bitva | F26: porážka | H26: Himmelsdorf 2
A28: 4 | B28: 44897 | C28: 19.00 | D28: DESFA 9.577 | E28: 7. bitva | G28: Porážka | I28: Kastynho | J28: 5876 | K28: =SUM(K20,J28) -> 78278
D29: Des Fantomes | E29: 6. bitva | F29: vítězství | H29: Předsunutá základna 1
E30: 5. bitva | F30: porážka | H30: Rybářský přístav 2
E31: 4. bitva | F31: porážka | H31: Ensk 2
E32: 3. bitva | F32: vítězství | H32: Rybářský přístav 2
E33: 2. bitva | F33: porážka | H33: Ensk 2
E34: 1. bitva | F34: porážka | H34: Himmelsdorf 1
A36: 5 | B36: 44897 | C36: 20.00 | D36: ACR11 8.491 | E36: 7. bitva | G36: Vítězství | I36: Belink | J36: 24365 | K36: =SUM(K28,J36) -> 102643
D37: 11th Armored Cavalry Regiment | E37: 6. bitva | F37: porážka | H37: Doly 1
E38: 5. bitva | F38: vítězství | H38: Rybářský přístav 2
E39: 4. bitva | F39: porážka | H39: Doly 2
E40: 3. bitva | F40: vítězství | H40: Rybářský přístav 2
E41: 2. bitva | F41: vítězství | H41: Ensk 1
E42: 1. bitva | F42: porážka | H42: Himmelsdorf 1
A44: 6 | B44: 44897 | C44: 21.00 | D44: VA-HA 12.245 | E44: 7. bitva | G44: Remíza | I44: Belink | J44: 12191 | K44: =SUM(K36,J44) -> 114834
D45: VATAHA | E45: 6. bitva | F45: vítězství | H45: Klidné pobřeží 2
E46: 5. bitva | F46: porážka | H46: Útesy 1
E47: 4. bitva | F47: vítězství | H47: Klidné pobřeží 1
E48: 3. bitva | F48: vítězství | H48: Dubový lesík 1
E49: 2. bitva | F49: porážka | H49: Klidné pobřeží 2
E50: 1. bitva | F50: porážka | H50: Himmelsdorf 1
A52: 7 | B52: 44898 | C52: 23.00 | D52: B_BOY 10.476 | E52: 7. bitva | G52: Vítězství | I52: JohnyFiser | J52: 21786 | K52: =SUM(K44,J52) -> 136620
D53: BAD BOYS BALKAN | E53: 6. bitva
E54: 5. bitva | F54: porážka | H54: Pouštní řeka 2
E55: 4. bitva | F55: vítězství | H55: Redshire 1
E56: 3. bitva | F56: porážka | H56: Pouštní řeka 2
E57: 2. bitva | F57: vítězství | H57: Redshire 1
E58: 1. bitva | F58: vítězství | H58: Himmelsdorf 2
A60: 8 | B60: 44899 | C60: 19.00 | D60: GROM2 9.308 | E60: 7. bitva | G60: Vítězství | I60: Kastynho | J60: 40150 | K60: =SUM(K52,J60) -> 176770
D61: GROM. | E61: 6. bitva | F61: vítězství | H61: Útesy 1
E62: 5. bitva | F62: vítězství | H62: Westfield 1
E63: 4. bitva | F63: vítězství | H63: Malinovka 2
E64: 3. bitva | F64: porážka | H64: Westfield 1
E65: 2. bitva | F65: vítězství | H65: Malinovka 2
E66: 1. bitva | F66: vítězství | H66: Himmelsdorf 2
A68: 9 | B68: 44899 | C68: 19.00 | D68: N112 9.737 | E68: 7. bitva | G68: Remíza | I68: Belink | J68: 9838 | K68: =SUM(K60,J68) -> 186608
D69: NIGHT CLUB 112 | E69: 6. bitva
E70: 5. bitva | F70: vítězství | H70: Doly 2
E71: 4. bitva | F71: porážka | H71: Himmelsdorf 2
E72: 3. bitva | F72: porážka | H72: Murovanka 1
E73: 2. bitva | F73: vítězství | H73: Himmelsdorf 2
E74: 1. bitva | F74: vítězství | H74: Himmelsdorf 1
A76: 10 | B76: 44899 | C76: 20.00 | D76: WEY 9.925 | E76: 7. bitva | G76: Vítězství | I76: Kastynho | J76: 36504 | K76: =SUM(K68,J76) -> 223112
D77: WE EAT YOU | E77: 6. bitva
E78: 5. bitva
E79: 4. bitva
E80: 3. bitva | F80: vítězství | H80: Pouštní řeka 2
E81: 2. bitva | F81: vítězství | H81: Prochorovka 1
E82: 1. bitva | F82: vítězství | H82: Himmelsdorf 1
A84: 11 | B84: 44899 | C84: 21.00 | D84: SLIDE 10.033 | E84: 7. bitva | G84: Porážka | I84: Kastynho | J84: 1116 | K84: =SUM(K76,J84) -> 224228
D85: The world of rum and deth | E85: 6. bitva
E86: 5. bitva
E87: 4. bitva | F87: porážka | H87: Předsunutá základna 2
E88: 3. bitva | F88: porážka | H88: Pouštní řeka 2
E89: 2. bitva | F89: porážka | H89: Prochorovka 1
E90: 1. bitva | F90: porážka | H90: Himmelsdorf 1
A92: 12 | B92: 44900 | C92: 19.00 | D92: -SIS- 10.328 | E92: 7. bitva | G92: Porážka | I92: JohnyFiser | J92: 5891 | K92: =SUM(K84,J92) -> 230119
D93: Spiders | E93: 6. bitva | F93: vítězství | H93: Předsunutá základna 2
E94: 5. bitva | F94: porážka | H94: Dubový lesík 2
E95: 4. bitva | F95: porážka | H95: Klidné pobřeží 2
E96: 3. bitva | F96: porážka | H96: Prochorovka 2
E97: 2. bitva | F97: vítězství | H97: Klidné pobřeží 2
E98: 1. bitva | F98: porážka | H98: Himmelsdorf 1
A100: 13 | B100: 44900 | C100: 20.00 | D100: ARIZA 7.779 | E100: 7. bitva | G100: Vítězství | I100: JohnyFiser | J100: 44208 | K100: =SUM(K92,J100) -> 274327
D101: KAFASI KIRIKLAR - THIS IS TURKEY | E101: 6. bitva
E102: 5. bitva
E103: 4. bitva | F103: vítězství | H103: Westfield 2
E104: 3. bitva | F104: vítězství | H104: Doly 2
E105: 2. bitva | F105: vítězství | H105: Prochorovka 1
E106: 1. bitva | F106: vítězství | H106: Himmelsdorf 1
A108: 14 | B108: 44900 | C108: 21.00 | D108: _EFE_ 6.682 | E108: 7. bitva | G108: Vítězství | I108: Kastynho | J108: 35565 | K108: =SUM(K100,J108) -> 309892
D109: GÖKBÖRÜ TABURU | E109: 6. bitva
E110: 5. bitva | F110: vítězství | H110: Prochorovka 1
E111: 4. bitva | F111: vítězství | H111: Westfield 1
E112: 3. bitva | F112: porážka | H112: Prochorovka 1
E113: 2. bitva | F113: vítězství | H113: Westfield 1
E114: 1. bitva | F114: vítězství | H114: Himmelsdorf 1
...

Sheet Leden 2023
A1: Ofenzívy klanu CORMA - Leden 2023
A3: P.č. | B3: Datum | C3: Hodina | D3: Soupeř | E3: Ofenzíva | F3: Výsledek | G3: Výsledek celkem | H3: Mapa | I3: Velitel | J3: Celkem krabiček | K3: ∑ krabiček
A4: 1 | B4: 44927 | C4: 19.00 | D4: UG_UA 10.523 | G4: Vítězství | I4: __Rainbow__ | J4: 34456 | K4: =SUM(J4) -> 34456
D5: S_OU_TH | E5: 6. bitva | F5: vítězství | H5: Útesy 1
E6: 5. bitva | F6: vítězství | H6: Pouštní řeka 1
E7: 4. bitva | F7: vítězství | H7: Dubový lesík 1
E8: 3. bitva | F8: porážka | H8: Pouštní řeka 2
E9: 2. bitva | F9: vítězství | H9: Dubový lesík 1
E10: 1. bitva | F10: porážka | H10: Himmelsdorf 1
A12: 2 | B12: 44927 | C12: 20.00 | D12: F4RM 7.243 | E12: 7. bitva | G12: Porážka | I12: __Rainbow__ | J12: 2925 | K12: =SUM(K4,J12) -> 37381
D13: F4rm from redLine - Oue speciality… | E13: 6. bitva
E14: 5. bitva | F14: porážka | H14: Prochorovka 1
E15: 4. bitva | F15: porážka | H15: Karélie 1
E16: 3. bitva | F16: porážka | H16: Murovanka 1
E17: 2. bitva | F17: porážka | H17: Malinovka 2
E18: 1. bitva | F18: vítězství | H18: Himmelsdorf 1
A20: 3 | B20: 44927 | C20: 21.00 | D20: UTPXD 10.443 | E20: 7. bitva | G20: Porážka | I20: Kastynho | J20: 2880 | K20: =SUM(K12,J20) -> 40261
D21: ULTIMATE PRO | E21: 6. bitva
E22: 5. bitva | F22: porážka | H22: Prochorovka 2
E23: 4. bitva | F23: porážka | H23: Karélie 1
E24: 3. bitva | F24: porážka | H24: Murovanka 2
E25: 2. bitva | F25: porážka | H25: Prochorovka 1
E26: 1. bitva | F26: vítězství | H26: Himmelsdorf 2
A28: 4 | B28: 44928 | C28: 19.00 | D28: WI5H 10.766 | E28: 7. bitva | G28: Remíza | I28: Belink | J28: 11968 | K28: =SUM(K20,J28) -> 52229
D29: Death Wish! | E29: 6. bitva | F29: vítězství | H29: Murovanka 1
E30: 5. bitva | F30: porážka | H30: Útesy 2
E31: 4. bitva | F31: porážka | H31: Doly 2
E32: 3. bitva | F32: vítězství | H32: Útesy 1
E33: 2. bitva | F33: vítězství | H33: Murovanka 1
E34: 1. bitva | F34: porážka | H34: Himmelsdorf 2
A36: 5 | B36: 44928 | C36: 20.00 | D36: EL_G 10.003 | E36: 7. bitva | F36: porážka | G36: Porážka | H36: Útesy 1 | I36: __Rainbow__ | J36: 6162 | K36: =SUM(K28,J36) -> 58391
D37: ELDING | E37: 6. bitva | F37: porážka | H37: Dubový lesík 1
E38: 5. bitva | F38: porážka | H38: Pouštní řeka 1
E39: 4. bitva | F39: vítězství | H39: Dubový lesík 2
E40: 3. bitva | F40: porážka | H40: Pouštní řeka 1
E41: 2. bitva | F41: vítězství | H41: Dubový lesík 1
E42: 1. bitva | F42: porážka | H42: Himmelsdorf 1
A44: 6 | B44: 44928 | C44: 21.00 | D44: PIVE 9.658 | E44: 7. bitva | G44: Vítězství | I44: KabronCZE | J44: 22955 | K44: =SUM(K36,J44) -> 81346
D45: PIRATES VETERANOS | E45: 6. bitva
E46: 5. bitva | F46: vítězství | H46: Pouštní řeka 1
E47: 4. bitva | F47: vítězství | H47: Dubový lesík 2
E48: 3. bitva | F48: porážka | H48: Pouštní řeka 2
E49: 2. bitva | F49: vítězství | H49: Dubový lesík 2
E50: 1. bitva | F50: porážka | H50: Himmelsdorf 1
A52: 7 | B52: 44929 | C52: 19.00 | D52: PA_RS 9.686 | E52: 7. bitva | G52: Porážka | I52: __Rainbow__ | J52: 7333 | K52: =SUM(K44,J52) -> 88679
D53: -PARS-F54+F58 | E53: 6. bitva
E54: 5. bitva | F54: porážka | H54: Dubový lesík 1
E55: 4. bitva | F55: porážka | H55: Karélie 1
E56: 3. bitva | F56: vítězství | H56: Dubový lesík 2
E57: 2. bitva | F57: porážka | H57: Karélie 1
E58: 1. bitva | F58: vítězství | H58: Himmelsdorf 2
A60: 8 | B60: 44929 | C60: 20.00 | D60: RPD1 8.772 | E60: 7. bitva | G60: Vítězství | I60: KabronCZE | J60: 43834 | K60: =SUM(K52,J60) -> 132513
D61: Rota plná darebáku | E61: 6. bitva
E62: 5. bitva
E63: 4. bitva | F63: vítězství | H63: Rybářský přístav 2
E64: 3. bitva | F64: vítězství | H64: Redshire 1
E65: 2. bitva | F65: vítězství | H65: Murovanka 1
E66: 1. bitva | F66: vítězství | H66: Himmelsdorf 1
A68: 9 | B68: 44930 | C68: 19.00 | D68: CZMAF 10.047 | E68: 7. bitva | G68: Porážka | I68: JohnyFiser | J68: 2834 | K68: =SUM(K60,J68) -> 135347
D69: CzechMafia | E69: 6. bitva
E70: 5. bitva | F70: porážka | H70: Prochorovka 2
E71: 4. bitva | F71: porážka | H71: Mkarélie 1
E72: 3. bitva | F72: porážka | H72: Murovanka 2
E73: 2. bitva | F73: porážka | H73: Doly 2
E74: 1. bitva | F74: vítězství | H74: Himmelsdorf 2
A76: 10 | B76: 44930 | C76: 20.00 | D76: HVDRA 9.951 | E76: 7. bitva | G76: Porážka | I76: JohnyFiser | J76: 1206 | K76: =SUM(K68,J76) -> 136553
D77: HVDRA | E77: 6. bitva
E78: 5. bitva
E79: 4. bitva | F79: porážka | H79: Prochorovka 2
E80: 3. bitva | F80: porážka | H80: Doly 1
E81: 2. bitva | F81: porážka | H81: Předsunutá základna 1
E82: 1. bitva | F82: porážka | H82: Himmelsdorf 1
A84: 11 | B84: 44930 | C84: 21.00 | D84: 1RCB 9.967 | E84: 7. bitva | G84: Remíza | I84: KabronCZE | J84: 12347 | K84: =SUM(K76,J84) -> 148900
D85: 1er Régiment de ********* Bretons | E85: 6. bitva | F85: vítězství | H85: Dubový lesík 2
E86: 5. bitva | F86: vítězství | H86: Útesy 2
E87: 4. bitva | F87: porážka | H87: Dubový lesík 1
E88: 3. bitva | F88: vítězství | H88: Útesy 2
E89: 2. bitva | F89: porážka | H89: Dubový lesík 1
E90: 1. bitva | F90: porážka | H90: Himmelsdorf 1
A92: 12 | B92: 44930 | C92: 22.00 | D92: MUN7E 8.787 | E92: 7. bitva | G92: Porážka | I92: JohnyFiser | J92: 915 | K92: =SUM(K84,J92) -> 149815
D93: -MUNJE- | E93: 6. bitva
E94: 5. bitva
E95: 4. bitva | F95: porážka | H95: Prochorovka 2
E96: 3. bitva | F96: porážka | H96: Útesy 1
E97: 2. bitva | F97: porážka | H97: Dubový lesík 2
E98: 1. bitva | F98: porážka | H98: Himmelsdorf 1
A100: 13 | B100: 44931 | C100: 19.00 | D100: ODLCS 8.916 | E100: 7. bitva | G100: Remíza | I100: Belink | J100: 8988 | K100: =SUM(K92,J100) -> 158803
D101: ORLY DEVIATEJ LÉGIE | E101: 6. bitva
E102: 5. bitva | F102: porážka | H102: Redshire 1
E103: 4. bitva | F103: vítězství | H103: Murovanka 2
E104: 3. bitva | F104: porážka | H104: Redshire 1
E105: 2. bitva | F105: vítězství | H105: Murovanka 2
E106: 1. bitva | F106: porážka | H106: Himmelsdorf 2
A108: 14 | B108: 44931 | C108: 19.00 | D108: SARAY 8.470 | E108: 7. bitva | G108: Vítězství | I108: Kastynho | J108: 24451 | K108: =SUM(K100,J108) -> 183254
D109: SARAY-UL SULTANILOR | E109: 6. bitva
E110: 5. bitva | F110: porážka | H110: Malinovka 1
E111: 4. bitva | F111: vítězství | H111: Westfield 1
E112: 3. bitva | F112: vítězství | H112: Dubový lesík 2
E113: 2. bitva | F113: porážka | H113: Westfield 1
E114: 1. bitva | F114: vítězství | H114: Himmelsdorf 2
...

Sheet Únor 2023
A1: Ofenzívy klanu CORMA - Únor 2023
A3: P.č. | B3: Datum | C3: Hodina | D3: Soupeř | E3: Ofenzíva | F3: Výsledek | G3: Výsledek celkem | H3: Mapa | I3: Velitel | J3: Celkem krabiček | K3: ∑ krabiček
A4: 1 | B4: 44958 | C4: 19.00 | D4: S1NDY 10.318 | G4: Vítězství | I4: _Kista_ | J4: 43863 | K4: =SUM(J4) -> 43863
D5: S1NDY | E5: 6. bitva
E6: 5. bitva
E7: 4. bitva | F7: vítězství | H7: Útesy 1
E8: 3. bitva | F8: vítězství | H8: Himmelsdorf 1
E9: 2. bitva | F9: vítězství | H9: Dálnice 1
E10: 1. bitva | F10: vítězství | H10: Himmelsdorf 1
A12: 2 | B12: 44927 | C12: 20.00 | D12: BOSZ 7.958 | E12: 7. bitva | G12: Vítězství | I12: Kastynho | J12: 29838 | K12: =SUM(K4,J12) -> 73701
D13: BOJOWY ODZIAL SZTURMOWY | E13: 6. bitva
E14: 5. bitva
E15: 4. bitva | F15: vítězství | H15: Útesy 1
E16: 3. bitva | F16: vítězství | H16: Westfield 2
E17: 2. bitva | F17: vítězství | H17: Doly 2
E18: 1. bitva | F18: vítězství | H18: Himmelsdorf 2
A20: 3 | B20: 44927 | C20: 21.00 | D20: CW-RO 9.803 | E20: 7. bitva | G20: Vítězství | I20: Kastynho | J20: 24716 | K20: =SUM(K12,J20) -> 98417
D21: ROMANIAN CARPATHIAN WOLVES | E21: 6. bitva
E22: 5. bitva | F22: vítězství | H22: Murovanka 1
E23: 4. bitva | F23: porážka | H23: Dubový lesík 2
E24: 3. bitva | F24: vítězství | H24: Murovanka 2
E25: 2. bitva | F25: vítězství | H25: Pouštní řeka 2
E26: 1. bitva | F26: porážka | H26: Himmelsdorf 2
A28: 4 | B28: 44959 | C28: 19.00 | D28: N112 9.954 | E28: 7. bitva | G28: Vítězství | I28: __RainBow__ | J28: 32297 | K28: =SUM(K20,J28) -> 130714
D29: NIGHT CLUB 112 | E29: 6. bitva
E30: 5. bitva
E31: 4. bitva | F31: porážka | H31: Westfield 2
E32: 3. bitva | F32: vítězství | H32: Redshire 1
E33: 2. bitva | F33: vítězství | H33: Himmelsdorf 2
E34: 1. bitva | F34: vítězství | H34: Himmelsdorf 2
A36: 5 | B36: 44959 | C36: 20.00 | D36: KIN5S 10.014 | E36: 7. bitva | G36: Vítězství | I36: Kastynho | J36: 42748 | K36: =SUM(K28,J36) -> 173462
D37: KINGS CZ/SK | E37: 6. bitva
E38: 5. bitva | F38: vítězství | H38: Klidné pobřeží 1
E39: 4. bitva | F39: vítězství | H39: Prochorovka 1
E40: 3. bitva | F40: vítězství | H40: Dubový lesík 2
E41: 2. bitva | F41: vítězství | H41: Pouštní řeka 2
E42: 1. bitva | F42: porážka | H42: Himmelsdorf 1
A44: 6 | B44: 44959 | C44: 20.00 | D44: -HDS 9.351 | E44: 7. bitva | G44: Porážka | I44: _Kista_ | J44: 6623 | K44: =SUM(K36,J44) -> 180085
D45: The Hungarian Destroyer Squad | E45: 6. bitva
E46: 5. bitva | F46: porážka | H46: Prochorovka 2
E47: 4. bitva | F47: vítězství | H47: Westfield 2
E48: 3. bitva | F48: porážka | H48: Prochorovka 1
E49: 2. bitva | F49: porážka | H49: Ensk 1
E50: 1. bitva | F50: vítězství | H50: Himmelsdorf 1
A52: 7 | B52: 44959 | C52: 21.00 | D52: -SNOW 10.629 | E52: 7. bitva | G52: Vítězství | I52: Kastynho | J52: 44154 | K52: =SUM(K44,J52) -> 224239
D53: -SNOW | E53: 6. bitva
E54: 5. bitva
E55: 4. bitva | F55: vítězství | H55: Malinovka 1
E56: 3. bitva | F56: vítězství | H56: Doly 1
E57: 2. bitva | F57: vítězství | H57: Rybářský přístav 2
E58: 1. bitva | F58: vítězství | H58: Himmelsdorf 1
A60: 8 | B60: 44962 | C60: 19.00 | D60: -SIS- 10.458 | E60: 7. bitva | G60: Vítězství | I60: __RainBow__ | J60: 43826 | K60: =SUM(K52,J60) -> 268065
D61: Spiders | E61: 6. bitva
E62: 5. bitva
E63: 4. bitva | F63: vítězství | H63: Murovanka 1
E64: 3. bitva | F64: vítězství | H64: Redshire 1
E65: 2. bitva | F65: vítězství | H65: Dubový lesík 1
E66: 1. bitva | F66: vítězství | H66: Himmelsdorf 2
A68: 9 | B68: 44962 | C68: 22.00 | D68: S2NDY 8.840 | E68: 7. bitva | G68: Vítězství | I68: JohnyFiser | J68: 31597 | K68: =SUM(K60,J68) -> 299662
D69: S2NDY | E69: 6. bitva
E70: 5. bitva | F70: vítězství | H70: Westfield 2
E71: 4. bitva | F71: porážka | H71: Himmelsdorf 2
E72: 3. bitva | F72: vítězství | H72: Westfield 2
E73: 2. bitva | F73: vítězství | H73: Redshire 1
E74: 1. bitva | F74: vítězství | H74: Himmelsdorf 2
A76: 10 | B76: 44963 | C76: 19.00 | D76: P-H-S 6.802 | E76: 7. bitva | G76: Vítězství | I76: Belink | J76: 42714 | K76: =SUM(K68,J76) -> 342376
D77: Polska Husaria Szturmowa | E77: 6. bitva
E78: 5. bitva
E79: 4. bitva | F79: vítězství | H79: Dubový lesík 2
E80: 3. bitva | F80: vítězství | H80: Redshire 2
E81: 2. bitva | F81: vítězství | H81: Útesy 2
E82: 1. bitva | F82: vítězství | H82: Himmelsdorf 2
A84: 11 | B84: 44963 | C84: 19.00 | D84: PRSON 9.259 | E84: 7. bitva | G84: Vítězství | I84: JohnyFiser | J84: 41143 | K84: =SUM(K76,J84) -> 383519
D85: PRISON ACADEMY | E85: 6. bitva
E86: 5. bitva | F86: vítězství | H86: Doly 2
E87: 4. bitva | F87: vítězství | H87: Malinovka 1
E88: 3. bitva | F88: vítězství | H88: Prochorovka 1
E89: 2. bitva | F89: vítězství | H89: Klidné pobřeží 1
E90: 1. bitva | F90: porážka | H90: Himmelsdorf 2
A92: 12 | B92: 44963 | C92: 20.00 | D92: SOLWE 9.629 | E92: 7. bitva | G92: Vítězství | I92: Kastynho | J92: 43907 | K92: =SUM(K84,J92) -> 427426
D93: Sons of Lost Wikings | E93: 6. bitva
E94: 5. bitva
E95: 4. bitva | F95: vítězství | H95: Klidné pobřeží 2
E96: 3. bitva | F96: vítězství | H96: Útesy 1
E97: 2. bitva | F97: vítězství | H97: Prochorovka 2
E98: 1. bitva | F98: vítězství | H98: Himmelsdorf 2
A100: 13 | B100: 44963 | C100: 20.00 | D100: ROTAS 9.625 | E100: 7. bitva | G100: Vítězství | I100: JohnyFiser | J100: 42364 | K100: =SUM(K92,J100) -> 469790
D101: ROMANIAN TANKS FROM SHADOW | E101: 6. bitva
E102: 5. bitva
E103: 4. bitva | F103: vítězství | H103: Redshire 1
E104: 3. bitva | F104: vítězství | H104: Malinovka 1
E105: 2. bitva | F105: vítězství | H105: Útesy 2
E106: 1. bitva | F106: vítězství | H106: Himmelsdorf 1
A108: 14 | B108: 44963 | C108: 21.00 | D108: 1_UA 10.540 | E108: 7. bitva | G108: Porážka | I108: Kastynho | J108: 5776 | K108: =SUM(K100,J108) -> 475566
D109: PERVIJ UKRAINSKIJ | E109: 6. bitva | F109: vítězství | H109: Rybářský přístav 1
E110: 5. bitva | F110: porážka | H110: Westfield 2
E111: 4. bitva | F111: porážka | H111: Prochorovka 2
E112: 3. bitva | F112: porážka | H112: Prochorovka 2
E113: 2. bitva | F113: vítězství | H113: Prochorovka 2
E114: 1. bitva | F114: porážka | H114: Himmelsdorf 1
...

Sheet Březen 2023
A1: Ofenzívy klanu CORMA - Březen 2023
A3: P.č. | B3: Datum | C3: Hodina | D3: Soupeř | E3: Ofenzíva | F3: Výsledek | G3: Výsledek celkem | H3: Mapa | I3: Velitel | J3: Celkem krabiček | K3: ∑ krabiček
A4: 1 | B4: 44994 | C4: 19.00 | D4: SAYG1 11.223 | G4: Vítězství | I4: Kastynho | J4: 34298 | K4: =SUM(J4) -> 34298
D5: SAYGI | E5: 6. bitva
E6: 5. bitva | F6: vítězství | H6: Himmelsdorf 2
E7: 4. bitva | F7: vítězství | H7: Murovanka 2
E8: 3. bitva | F8: vítězství | H8: Prochorovka 1
E9: 2. bitva | F9: porážka | H9: Murovanka 1
E10: 1. bitva | F10: vítězství | H10: Himmelsdorf 1
A12: 2 | B12: 44994 | C12: 20.00 | D12: UA-CT 11.228 | E12: 7. bitva | G12: Vítězství | I12: JohnyFiser | J12: 39139 | K12: =SUM(K4,J12) -> 73437
D13: Crown Team | E13: 6. bitva
E14: 5. bitva
E15: 4. bitva
E16: 3. bitva | F16: vítězství | H16: Dálnice 2
E17: 2. bitva | F17: vítězství | H17: Himmelsdorf 2
E18: 1. bitva | F18: vítězství | H18: Himmelsdorf 2
A20: 3 | B20: 44994 | C20: 21.00 | D20: GT_1 12.351 | E20: 7. bitva | F20: vítězství | G20: Vítězství | H20: Rybářský přístav 1 | I20: Kastynho | J20: 32238 | K20: =SUM(K12,J20) -> 105675
D21: Golden Tigers | E21: 6. bitva | F21: vítězství | H21: Doly 1
E22: 5. bitva | F22: porážka | H22: Rybářský přístav 1
E23: 4. bitva | F23: vítězství | H23: Doly 1
E24: 3. bitva | F24: vítězství | H24: Pouštní řeka 1
E25: 2. bitva | F25: porážka | H25: Doly 1
E26: 1. bitva | F26: vítězství | H26: Himmelsdorf 1
A28: 4 | B28: 44994 | C28: 22.00 | D28: NISZA 10.546 | E28: 7. bitva | G28: Vítězství | I28: Kastynho | J28: 36370 | K28: =SUM(K20,J28) -> 142045
D29: Polska Brygada Pancerna Naszej Niszy | E29: 6. bitva
E30: 5. bitva
E31: 4. bitva | F31: vítězství | H31: Dubový lesík 2
E32: 3. bitva | F32: vítězství | H32: Himmelsdorf 1
E33: 2. bitva | F33: vítězství | H33: Rybářský přístav 2
E34: 1. bitva | F34: vítězství | H34: Himmelsdorf 1
A36: 5 | B36: 44995 | C36: 19.00 | D36: WTU09 11.028 | E36: 7. bitva | G36: Vítězství | I36: _RainBow_ | J36: 44239 | K36: =SUM(K28,J36) -> 186284
D37: WELKOME TO UKRAINE | E37: 6. bitva
E38: 5. bitva
E39: 4. bitva | F39: vítězství | H39: Doly 1
E40: 3. bitva | F40: vítězství | H40: Himmelsdorf 1
E41: 2. bitva | F41: vítězství | H41: Westfield 2
E42: 1. bitva | F42: vítězství | H42: Himmelsdorf 2
A44: 6 | B44: 44995 | C44: 20.00 | D44: PANK 12.729 | E44: 7. bitva | G44: Porážka | I44: _RainBow_ | J44: 959 | K44: =SUM(K36,J44) -> 187243
D45: Pancerni Krzyžowcy | E45: 6. bitva
E46: 5. bitva
E47: 4. bitva | F47: porážka | H47: Westfield 2
E48: 3. bitva | F48: porážka | H48: Dubový lesík 1
E49: 2. bitva | F49: porážka | H49: Murovanka 2
E50: 1. bitva | F50: porážka | H50: Himmelsdorf 1
A52: 7 | B52: 44995 | C52: 21.00 | D52: -CLG- 10.249 | E52: 7. bitva | G52: Vítězství | I52: JohnyFiser | J52: 34995 | K52: =SUM(K44,J52) -> 222238
D53: CoLeGaS | E53: 6. bitva
E54: 5. bitva
E55: 4. bitva
E56: 3. bitva | F56: vítězství | H56: Murovanka 2
E57: 2. bitva | F57: vítězství | H57: Malinovka 1
E58: 1. bitva | F58: vítězství | H58: Himmelsdorf 2
A60: 8 | B60: 44995 | C60: 21.00 | D60: KBRG 12.824 | E60: 7. bitva | G60: Vítězství | I60: kocek1 | J60: 22482 | K60: =SUM(K52,J60) -> 244720
D61: Intelegentni kiborgi | E61: 6. bitva | F61: porážka | H61: Ensk 1
E62: 5. bitva | F62: porážka | H62: Dubový lesík 1
E63: 4. bitva | F63: vítězství | H63: Ensk 1
E64: 3. bitva | F64: vítězství | H64: Útesy 2
E65: 2. bitva | F65: vítězství | H65: Prochorovka 2
E66: 1. bitva | F66: porážka | H66: Himmelsdorf 2
A68: 9 | B68: 44995 | C68: 22.00 | D68: PROUA 11.575 | E68: 7. bitva | G68: Vítězství | I68: JohnyFiser | J68: 20971 | K68: =SUM(K60,J68) -> 265691
D69: Čorni Kozaki_UA_ | E69: 6. bitva | F69: vítězství | H69: Prochorovka 2
E70: 5. bitva | F70: vítězství | H70: Redshire 2
E71: 4. bitva | F71: porážka | H71: Prochorovka 1
E72: 3. bitva | F72: vítězství | H72: Redshire 1
E73: 2. bitva | F73: vítězství | H73: Murovanka 2
E74: 1. bitva | F74: porážka | H74: Himmelsdorf 1
A76: 10 | B76: 44997 | C76: 19.00 | D76: WM_TT 11.688 | E76: 7. bitva | G76: Vítězství | I76: JohnyFiser | J76: 40707 | K76: =SUM(K68,J76) -> 306398
D77: Wot_MaDaM_TikTok | E77: 6. bitva
E78: 5. bitva | F78: vítězství | H78: Dálnice 1
E79: 4. bitva | F79: vítězství | H79: Prochorovka 1
E80: 3. bitva | F80: vítězství | H80: Westfield 2
E81: 2. bitva | F81: vítězství | H81: Pouštní řeka 2
E82: 1. bitva | F82: porážka | H82: Himmelsdorf 2
A84: 11 | B84: 44997 | C84: 21.00 | D84: Y-P-S 11.698 | E84: 7. bitva | G84: Remíza | I84: JohnyFiser | J84: 10089 | K84: =SUM(K76,J84) -> 316487
D85: Ypsilon | E85: 6. bitva
E86: 5. bitva | F86: vítězství | H86: Murovanka 1
E87: 4. bitva | F87: vítězství | H87: Dubový lesík 1
E88: 3. bitva | F88: porážka | H88: Murovanka 2
E89: 2. bitva | F89: porážka | H89: Murovanka 1
E90: 1. bitva | F90: vítězství | H90: Himmelsdorf 1
A92: 12 | B92: 44997 | C92: 22.00 | D92: -B-U- 12.062 | E92: 7. bitva | G92: Porážka | I92: JohnyFiser | J92: 4933 | K92: =SUM(K84,J92) -> 321420
D93: FANATIKOSI | E93: 6. bitva
E94: 5. bitva | F94: vítězství | H94: Westfield 1
E95: 4. bitva | F95: porážka | H95: Rybářský přístav 1
E96: 3. bitva | F96: porážka | H96: Prochorovka 1
E97: 2. bitva | F97: porážka | H97: Westfield 1
E98: 1. bitva | F98: vítězství | H98: Himmelsdorf 2
A100: 13 | B100: 44998 | C100: 19.00 | D100: STYK5 12.578 | E100: 7. bitva | G100: Vítězství | I100: Kastynho | J100: 32817 | K100: =SUM(K92,J100) -> 354237
D101: Droga Ku Kóncowi | E101: 6. bitva
E102: 5. bitva | F102: vítězství | H102: Murovanka 1
E103: 4. bitva | F103: vítězství | H103: Pouštní řeka 2
E104: 3. bitva | F104: vítězství | H104: Pouštní řeka 1
E105: 2. bitva | F105: porážka | H105: Pouštní řeka 2
E106: 1. bitva | F106: vítězství | H106: Himmelsdorf 1
A108: 14 | B108: 44998 | C108: 20.00 | D108: DT-ET 12.091 | E108: 7. bitva | G108: Remíza | I108: Belink | J108: 10808 | K108: =SUM(K100,J108) -> 365045
D109: Deutscher Elitetrupp | E109: 6. bitva
E110: 5. bitva | F110: vítězství | H110: Prochorovka 2
E111: 4. bitva | F111: vítězství | H111: Rybářský přístav 2
E112: 3. bitva | F112: vítězství | H112: Prochorovka 1
E113: 2. bitva | F113: porážka | H113: Dubový lesík 1
E114: 1. bitva | F114: vítězství | H114: Himmelsdorf 1
...

Sheet Duben 2023
A1: Ofenzívy klanu CORMA - Duben 2023
A3: P.č. | B3: Datum | C3: Hodina | D3: Soupeř | E3: Ofenzíva | F3: Výsledek | G3: Výsledek celkem | H3: Mapa | I3: Velitel | J3: Celkem krabiček | K3: ∑ krabiček
A4: 1 | B4: 45017 | C4: 22.00 | D4: PETO 11.790 | G4: Vítězství | I4: JohnyFiser | J4: 26436 | K4: =SUM(J4) -> 26436
D5: Pelikenttien Eeppinen Taisteluosasto | E5: 6. bitva | F5: vítězství | H5: Prochorovka 2
E6: 5. bitva | F6: porážka | H6: Dálnice 2
E7: 4. bitva | F7: vítězství | H7: Prochorovka 1
E8: 3. bitva | F8: porážka | H8: Dálnice 1
E9: 2. bitva | F9: vítězství | H9: Prochorovka 1
E10: 1. bitva | F10: vítězství | H10: Himmelsdorf 2
A12: 2 | B12: 45017 | C12: 23.00 | D12: UA-14 11.610 | E12: 7. bitva | G12: Remíza | I12: JohnyFiser | J12: 11576 | K12: =SUM(K4,J12) -> 38012
D13: ULA LVIV | E13: 6. bitva | F13: porážka | H13: Útesy 2
E14: 5. bitva | F14: vítězství | H14: Murovanka 2
E15: 4. bitva | F15: porážka | H15: Útesy 2
E16: 3. bitva | F16: porážka | H16: Dálnice 2
E17: 2. bitva | F17: vítězství | H17: Útesy 2
E18: 1. bitva | F18: vítězství | H18: Himmelsdorf 2
A20: 3 | B20: 45018 | C20: 19.00 | D20: A_A_D 13.323 | E20: 7. bitva | G20: Porážka | I20: Kastynho | J20: 2496 | K20: =SUM(K12,J20) -> 40508
D21: Analiza Atak Domonacja | E21: 6. bitva
E22: 5. bitva | F22: porážka | H22: Pouštní řeka 2
E23: 4. bitva | F23: porážka | H23: Westfield 2
E24: 3. bitva | F24: porážka | H24: Rybářský přístav 2
E25: 2. bitva | F25: porážka | H25: Dubový lesík 1
E26: 1. bitva | F26: vítězství | H26: Himmelsdorf 1
A28: 4 | B28: 45018 | C28: 20.00 | D28: _O-W_ 9.358 | E28: 7. bitva | G28: Porážka | I28: jhonaz2017 | J28: 7738 | K28: =SUM(K20,J28) -> 48246
D29: Old_Wolves_ | E29: 6. bitva | F29: vítězství | H29: Dubový lesík 2
E30: 5. bitva | F30: porážka | H30: Prochorovka 2
E31: 4. bitva | F31: vítězství | H31: Dubový lesík 2
E32: 3. bitva | F32: porážka | H32: Prochorovka 1
E33: 2. bitva | F33: porážka | H33: Himmelsdorf 1
E34: 1. bitva | F34: vítězství | H34: Himmelsdorf 2
A36: 5 | B36: 45018 | C36: 21.00 | D36: GK_UA 7.689 | E36: 7. bitva | G36: Porážka | I36: Kastynho | J36: 4198 | K36: =SUM(K28,J36) -> 52444
D37: UKRAJINSKY KIBORGI | E37: 6. bitva
E38: 5. bitva
E39: 4. bitva | F39: porážka | H39: Murovanka 2
E40: 3. bitva | F40: porážka | H40: Dálnice 2
E41: 2. bitva | F41: vítězství | H41: Murovanka 1
E42: 1. bitva | F42: porážka | H42: Himmelsdorf 1
A44: 6 | B44: 45018 | C44: 22.00 | D44: ASPRE 9.548 | E44: 7. bitva | G44: Vítězství | I44: Kastynho | J44: 36741 | K44: =SUM(K36,J44) -> 89185
D45: ASPIRE EXTENDED | E45: 6. bitva
E46: 5. bitva
E47: 4. bitva | F47: vítězství | H47: Ensk 2
E48: 3. bitva | F48: vítězství | H48: Prochorovka 1
E49: 2. bitva | F49: vítězství | H49: Malinovka 1
E50: 1. bitva | F50: vítězství | H50: Himmelsdorf 2
A52: 7 | B52: 45021 | C52: 21.00 | D52: BMWUA 9.900 | E52: 7. bitva | G52: Porážka | I52: NEPSTER_sk | J52: 1004 | K52: =SUM(K44,J52) -> 90189
D53: Brotherhood of Metal Wolves | E53: 6. bitva
E54: 5. bitva
E55: 4. bitva | F55: porážka | H55: Pouštní řeka 1
E56: 3. bitva | F56: porážka | H56: Westfield 2
E57: 2. bitva | F57: porážka | H57: Rybářský přístav 1
E58: 1. bitva | F58: porážka | H58: Himmelsdorf 2
A60: 8 | B60: 45021 | C60: 22.00 | D60: LGACY 12.358 | E60: 7. bitva | G60: Porážka | I60: Kastynho | J60: 5264 | K60: =SUM(K52,J60) -> 95453
D61: The Legacy Continues | E61: 6. bitva | F61: vítězství | H61: Pouštní řeka 2
E62: 5. bitva | F62: porážka | H62: Ensk 1
E63: 4. bitva | F63: vítězství | H63: Pouštní řeka 1
E64: 3. bitva | F64: porážka | H64: Ensk 2
E65: 2. bitva | F65: porážka | H65: Murovanka 2
E66: 1. bitva | F66: porážka | H66: Himmelsdorf 1
A68: 9 | B68: 45022 | C68: 20.00 | D68: RANOK 11.596 | E68: 7. bitva | G68: Vítězství | I68: Kastynho | J68: 44249 | K68: =SUM(K60,J68) -> 139702
D69: Červona Kalina UA | E69: 6. bitva
E70: 5. bitva | F70: vítězství | H70: Redshire 2
E71: 4. bitva | F71: vítězství | H71: Pouštní řeka 1
E72: 3. bitva | F72: vítězství | H72: Rybářský přístav 2
E73: 2. bitva | F73: vítězství | H73: Rybářský přístav 2
E74: 1. bitva | F74: porážka | H74: Himmelsdorf 1
A76: 10 | B76: 45022 | C76: 21.00 | D76: TALK 10.782 | E76: 7. bitva | G76: Remíza | I76: Kastynho | J76: 11893 | K76: =SUM(K68,J76) -> 151595
D77: TALKING BABES | E77: 6. bitva
E78: 5. bitva | F78: vítězství | H78: Prochorovka 2
E79: 4. bitva | F79: porážka | H79: Klidné pobřeží 2
E80: 3. bitva | F80: vítězství | H80: Prochorovka 1
E81: 2. bitva | F81: porážka | H81: Klidné pobřeží 1
E82: 1. bitva | F82: vítězství | H82: Himmelsdorf 1
A84: 11 | B84: 45023 | C84: 19.00 | D84: PANK 10.544 | E84: 7. bitva | G84: Porážka | I84: _Kista_ | J84: 1057 | K84: =SUM(K76,J84) -> 152652
D85: Pancerni Krzyžowcy | E85: 6. bitva
E86: 5. bitva
E87: 4. bitva | F87: porážka | H87: Pouštní řeka 1
E88: 3. bitva | F88: porážka | H88: Dubový lesík 2
E89: 2. bitva | F89: porážka | H89: Prochorovka 2
E90: 1. bitva | F90: porážka | H90: Himmelsdorf 1
A92: 12 | B92: 45023 | C92: 19.00 | D92: HOROR 10.754 | E92: 7. bitva | G92: Vítězství | I92: Kastynho | J92: 22938 | K92: =SUM(K84,J92) -> 175590
D93: Horror Mortis | E93: 6. bitva | F93: vítězství | H93: Murovanka 2
E94: 5. bitva | F94: vítězství | H94: Rybářský přístav 1
E95: 4. bitva | F95: porážka | H95: Murovanka 1
E96: 3. bitva | F96: vítězství | H96: Rybářský přístav 2
E97: 2. bitva | F97: porážka | H97: Murovanka 1
E98: 1. bitva | F98: vítězství | H98: Himmelsdorf 1
A100: 13 | B100: 45023 | C100: 20.00 | D100: 3DBFL 10.348 | E100: 7. bitva | G100: Porážka | I100: _Kista_ | J100: 2457 | K100: =SUM(K92,J100) -> 178047
D101: 3e Division Blindée Francaise Leclerc | E101: 6. bitva | F101: porážka | H101: Pouštní řeka 1
E102: 5. bitva | F102: porážka | H102: Westfield 1
E103: 4. bitva | F103: porážka | H103: Rybářský přístav 2
E104: 3. bitva | F104: vítězství | H104: Westfield 1
E105: 2. bitva | F105: porážka | H105: Rybářský přístav 1
E106: 1. bitva | F106: porážka | H106: Himmelsdorf 1
A108: 14 | B108: 45023 | C108: 20.00 | D108: HRD- 11.773 | E108: 7. bitva | G108: Vítězství | I108: Kastynho | J108: 24580 | K108: =SUM(K100,J108) -> 202627
D109: HORDA- | E109: 6. bitva | F109: vítězství | H109: Útesy 1
E110: 5. bitva | F110: porážka | H110: Westfield 1
E111: 4. bitva | F111: vítězství | H111: Útesy 1
E112: 3. bitva | F112: porážka | H112: Westfield 1
E113: 2. bitva | F113: vítězství | H113: Útesy 1
E114: 1. bitva | F114: vítězství | H114: Himmelsdorf 2
...

Sheet Květen 2023
A1: Ofenzívy klanu CORMA - Květen 2023
A3: P.č. | B3: Datum | C3: Hodina | D3: Soupeř | E3: Ofenzíva | F3: Výsledek | G3: Výsledek celkem | H3: Mapa | I3: Velitel | J3: Celkem krabiček | K3: ∑ krabiček
A4: 1 | B4: 45049 | C4: 19.00 | D4: DONI 11.099 | G4: Vítězství | I4: JohnyFiser | J4: 40123 | K4: =SUM(J4) -> 40123
D5: Domino | E5: 6. bitva | F5: vítězství | H5: Malinovka 2
E6: 5. bitva | F6: vítězství | H6: Doly 2
E7: 4. bitva | F7: vítězství | H7: Pouštní řeka 2
E8: 3. bitva | F8: vítězství | H8: Murovanka 2
E9: 2. bitva | F9: porážka | H9: Pouštní řeka 2
E10: 1. bitva | F10: vítězství | H10: Himmelsdorf 1
A12: 2 | B12: 45049 | C12: 20.00 | D12: NUPGD 11.741 | E12: 7. bitva | G12: Remíza | I12: JohnyFiser | J12: 9715 | K12: =SUM(K4,J12) -> 49838
D13: Nu pogodi! | E13: 6. bitva
E14: 5. bitva | F14: vítězství | H14: Malinovka 2
E15: 4. bitva | F15: porážka | H15: Rybářský přístav 1
E16: 3. bitva | F16: porážka | H16: Himmelsdorf 1
E17: 2. bitva | F17: vítězství | H17: Rybářský přístav 2
E18: 1. bitva | F18: vítězství | H18: Himmelsdorf 1
A20: 3 | B20: 45051 | C20: 20.00 | D20: A_A_D 11.206 | E20: 7. bitva | G20: Porážka | I20: Kastynho | J20: 2747 | K20: =SUM(K12,J20) -> 52585
D21: Analiza Atak Domonacja | E21: 6. bitva | F21: porážka | H21: Dálnice 2
E22: 5. bitva | F22: porážka | H22: Prochorovka 2
E23: 4. bitva | F23: vítězství | H23: Dálnice 2
E24: 3. bitva | F24: porážka | H24: Prochorovka 2
E25: 2. bitva | F25: porážka | H25: Dubový lesík 2
E26: 1. bitva | F26: porážka | H26: Himmelsdorf 2
E27: 8. bitva | F27: vítězství | H27: Doly 1
A28: 4 | B28: 45052 | C28: 23.00 | D28: BLBS 10.384 | E28: 7. bitva | F28: vítězství | G28: Remíza | H28: Himmelsdorf 1 | I28: Johny_Forever | J28: 12339 | K28: =SUM(K20,J28) -> 64924
D29: BALKAN BIRDS | E29: 6. bitva | F29: porážka | H29: Doly 1
E30: 5. bitva | F30: vítězství | H30: Himmelsdorf 2
E31: 4. bitva | F31: porážka | H31: Doly 1
E32: 3. bitva | F32: vítězství | H32: Himmelsdorf 2
E33: 2. bitva | F33: porážka | H33: Doly 1
E34: 1. bitva | F34: porážka | H34: Himmelsdorf 1
A36: 5 | B36: 45057 | C36: 20.00 | D36: KAPES 13.666 | E36: 7. bitva | G36: Porážka | I36: Kastynho | J36: 2263 | K36: =SUM(K28,J36) -> 67187
D37: King Apes | E37: 6. bitva
E38: 5. bitva | F38: porážka | H38: Dálnice 1
E39: 4. bitva | F39: porážka | H39: Prochorovka 1
E40: 3. bitva | F40: porážka | H40: Dubový lesík 1
E41: 2. bitva | F41: porážka | H41: Malinovka 1
E42: 1. bitva | F42: vítězství | H42: Himmelsdorf 1
A44: 6 | B44: 45060 | C44: 19.00 | D44: GIMP_ 11.035 | E44: 7. bitva | G44: Porážka | I44: Kastynho | J44: 1119 | K44: =SUM(K36,J44) -> 68306
D45: PAINT YOUR WORLD | E45: 6. bitva
E46: 5. bitva
E47: 4. bitva | F47: porážka | H47: Dálnice 2
E48: 3. bitva | F48: porážka | H48: Rybářský přístav 1
E49: 2. bitva | F49: porážka | H49: Malinovka 1
E50: 1. bitva | F50: porážka | H50: Himmelsdorf 1
A52: 7 | B52: 45063 | C52: 19.00 | D52: PANK 12.425 | E52: 7. bitva | G52: Remíza | I52: _Kista_ | J52: 10841 | K52: =SUM(K44,J52) -> 79147
D53: Pancerni Krzyžowcy | E53: 6. bitva | F53: vítězství | H53: Dubový lesík 2
E54: 5. bitva | F54: vítězství | H54: Prochorovka 1
E55: 4. bitva | F55: porážka | H55: Dubový lesík 2
E56: 3. bitva | F56: vítězství | H56: Prochorovka 2
E57: 2. bitva | F57: porážka | H57: Dubový lesík 1
E58: 1. bitva | F58: porážka | H58: Himmelsdorf 1
A60: 8 | B60: 45063 | C60: 20.00 | D60: MYGOD 11.198 | E60: 7. bitva | G60: Porážka | I60: Kastynho | J60: 3596 | K60: =SUM(K52,J60) -> 82743
D61: Brain not OFF! | E61: 6. bitva | F61: porážka | H61: Útesy 1
E62: 5. bitva | F62: porážka | H62: Ensk 1
E63: 4. bitva | F63: vítězství | H63: Útesy 2
E64: 3. bitva | F64: porážka | H64: Ensk 2
E65: 2. bitva | F65: porážka | H65: Rybářský přístav 1
E66: 1. bitva | F66: porážka | H66: Himmelsdorf 2
A68: 9 | B68: 45064 | C68: 19.00 | D68: _V4L_ 9.846 | E68: 7. bitva | G68: Vítězství | I68: Johny_Forever | J68: 42535 | K68: =SUM(K60,J68) -> 125278
D69: _V4LKYRIE_ | E69: 6. bitva | F69: vítězství | H69: Doly 1
E70: 5. bitva | F70: vítězství | H70: Ensk 1
E71: 4. bitva | F71: porážka | H71: Doly 1
E72: 3. bitva | F72: vítězství | H72: Ensk 1
E73: 2. bitva | F73: vítězství | H73: Rybářský přístav 1
E74: 1. bitva | F74: vítězství | H74: Himmelsdorf 1
A76: 10 | B76: 45064 | C76: 20.00 | D76: IMORI 10.658 | E76: 7. bitva | G76: Porážka | I76: Johny_Forever | J76: 4103 | K76: =SUM(K68,J76) -> 129381
D77: I MORITURI | E77: 6. bitva
E78: 5. bitva | F78: porážka | H78: Westfield 2
E79: 4. bitva | F79: vítězství | H79: Útesy 1
E80: 3. bitva | F80: porážka | H80: Westfield 1
E81: 2. bitva | F81: porážka | H81: Himmelsdorf 2
E82: 1. bitva | F82: porážka | H82: Himmelsdorf 1
A84: 11 | B84: 45068 | C84: 20.00 | D84: TREXI 9.218 | E84: 7. bitva | G84: Vítězství | I84: _Kista_ | J84: 34700 | K84: =SUM(K76,J84) -> 164081
D85: Licensed to carry small arms | E85: 6. bitva
E86: 5. bitva | F86: vítězství | H86: Redshire 2
E87: 4. bitva | F87: porážka | H87: Útesy 2
E88: 3. bitva | F88: vítězství | H88: Redshire 2
E89: 2. bitva | F89: vítězství | H89: Prochorovka 2
E90: 1. bitva | F90: vítězství | H90: Himmelsdorf 2
A92: 12 | B92: 45069 | C92: 21.00 | D92: A_A_D 10.957 | E92: 7. bitva | G92: Porážka | I92: _Kista_ | J92: 2966 | K92: =SUM(K84,J92) -> 167047
D93: Analiza Atak Dominacja | E93: 6. bitva | F93: porážka | H93: Útesy 2
E94: 5. bitva | F94: porážka | H94: Prochorovka 1
E95: 4. bitva | F95: vítězství | H95: Útesy 1
E96: 3. bitva | F96: porážka | H96: Prochorovka 1
E97: 2. bitva | F97: porážka | H97: Dubový lesík 2
E98: 1. bitva | F98: porážka | H98: Himmelsdorf 2
A100: 13 | B100: 45070 | C100: 20.00 | D100: -S-H 13.296 | E100: 7. bitva | G100: Porážka | I100: NEPSTER_sk | J100: 1159 | K100: =SUM(K92,J100) -> 168206
D101: Steel Hand | E101: 6. bitva
E102: 5. bitva
E103: 4. bitva | F103: porážka | H103: Útesy 1
E104: 3. bitva | F104: porážka | H104: Prochorovka 1
E105: 2. bitva | F105: porážka | H105: Dubový lesík 1
E106: 1. bitva | F106: porážka | H106: Himmelsdorf 1
A108: 14 | B108: 45071 | C108: 20.00 | D108: 4DBFL 10.774 | E108: 7. bitva | G108: Vítězství | I108: NEPSTER_sk | J108: 32909 | K108: =SUM(K100,J108) -> 201115
D109: 4e Division Blindée Francaise Leclerc | E109: 6. bitva | F109: vítězství | H109: Westfield 1
E110: 5. bitva | F110: vítězství | H110: Prochorovka 2
E111: 4. bitva | F111: vítězství | H111: Dubový lesík 1
E112: 3. bitva | F112: vítězství | H112: Prochorovka 2
E113: 2. bitva | F113: porážka | H113: Dubový lesík 1
...

Sheet Červen 2023
A1: Ofenzívy klanu CORMA - Červen 2023
A3: P.č. | B3: Datum | C3: Hodina | D3: Soupeř | E3: Ofenzíva | F3: Výsledek | G3: Výsledek celkem | H3: Mapa | I3: Velitel | J3: Celkem krabiček | K3: ∑ krabiček
A4: 1 | B4: 45078 | C4: 20.00 | D4: _TRY 10.138 | G4: Vítězství | I4: Kastynho | J4: 24649 | K4: =SUM(J4) -> 24649
D5: NOT UNICUMS JUST TRYHARDS | E5: 6. bitva | F5: porážka | H5: Murovanka 1
E6: 5. bitva | F6: porážka | H6: Doly 2
E7: 4. bitva | F7: vítězství | H7: Murovanka 2
E8: 3. bitva | F8: vítězství | H8: Dubový lesík 2
E9: 2. bitva | F9: vítězství | H9: Klidné pobřeží 2
E10: 1. bitva | F10: porážka | H10: Himmelsdorf 2
A12: 2 | B12: 45078 | C12: 21.00 | D12: EVA- 10.854 | E12: 7. bitva | G12: Porážka | I12: Kastynho | J12: 8856 | K12: =SUM(K4,J12) -> 33505
D13: Team EVA | E13: 6. bitva | F13: vítězství | H13: Westfield 2
E14: 5. bitva | F14: vítězství | H14: Pouštní řeka 2
E15: 4. bitva | F15: porážka | H15: Westfield 2
E16: 3. bitva | F16: porážka | H16: Rybářský přístav 2
E17: 2. bitva | F17: porážka | H17: Dubový lesík 2
E18: 1. bitva | F18: vítězství | H18: Himmelsdorf 2
A20: 3 | B20: 45079 | C20: 20.00 | D20: PODIV 10.242 | E20: 7. bitva | G20: Vítězství | I20: Kastynho | J20: 45922 | K20: =SUM(K12,J20) -> 79427
D21: POVSTALECKÁ DIVIZE | E21: 6. bitva | F21: vítězství | H21: Himmelsdorf 2
E22: 5. bitva | F22: vítězství | H22: Malinovka 2
E23: 4. bitva | F23: vítězství | H23: Rybářský přístav 2
E24: 3. bitva | F24: vítězství | H24: Rybářský přístav 2
E25: 2. bitva | F25: porážka | H25: Rybářský přístav 1
E26: 1. bitva | F26: vítězství | H26: Himmelsdorf 2
A28: 4 | B28: 45079 | C28: 21.00 | D28: CRIS 12.281 | E28: 7. bitva | G28: porážka | I28: Kastynho | J28: 855 | K28: =SUM(K20,J28) -> 80282
D29: Crystalnoir | E29: 6. bitva | F29: vítězství | H29: Redshire 2
E30: 5. bitva | F30: porážka | H30: Dálnice 1
E31: 4. bitva | F31: vítězství | H31: Redshire 1
E32: 3. bitva | F32: porážka | H32: Dálnice 2
E33: 2. bitva | F33: porážka | H33: Dubový lesík 1
E34: 1. bitva | F34: vítězství | H34: Himmelsdorf 2
A36: 5 | B36: 45081 | C36: 19.00 | D36: SEKTA 8.026 | E36: 7. bitva | G36: Vítězství | I36: Johny_Forever | J36: 36566 | K36: =SUM(K28,J36) -> 116848
D37: SEKTA | E37: 6. bitva
E38: 5. bitva
E39: 4. bitva | F39: vítězství | H39: Útesy 1
E40: 3. bitva | F40: vítězství | H40: Ensk 1
E41: 2. bitva | F41: vítězství | H41: Dubový lesík 1
E42: 1. bitva | F42: vítězství | H42: Himmelsdorf 2
A44: 6 | B44: 45081 | C44: 20.00 | D44: PODIV 10.318 | E44: 7. bitva | G44: Vítězství | I44: Johny_Forever | J44: 21913 | K44: =SUM(K36,J44) -> 138761
D45: POVSTALECKÁ DIVIZE | E45: 6. bitva
E46: 5. bitva | F46: vítězství | H46: Rybářský přístav 2
E47: 4. bitva | F47: porážka | H47: Malinovka 2
E48: 3. bitva | F48: vítězství | H48: Rybářský přístav 2
E49: 2. bitva | F49: vítězství | H49: Murovanka 1
E50: 1. bitva | F50: porážka | H50: Himmelsdorf 2
A52: 7 | B52: 45081 | C52: 21.00 | D52: PIVE2 9.213 | E52: 7. bitva | G52: Vítězství | I52: Kastynho | J52: 31876 | K52: =SUM(K44,J52) -> 170637
D53: PIVE 2. | E53: 6. bitva | F53: porážka | H53: Klidné pobřeží 1
E54: 5. bitva | F54: vítězství | H54: Útesy 1
E55: 4. bitva | F55: porážka | H55: Klidné pobřeží 1
E56: 3. bitva | F56: vítězství | H56: Útesy 2
E57: 2. bitva | F57: vítězství | H57: Dubový lesík 1
E58: 1. bitva | F58: vítězství | H58: Himmelsdorf 2
A60: 8 | B60: 45082 | C60: 19.00 | D60: DONI 11.740 | E60: 7. bitva | G60: Remíza | I60: Johny_Forever | J60: 12285 | K60: =SUM(K52,J60) -> 182922
D61: Domino | E61: 6. bitva | F61: porážka | H61: Pouštní řeka 1
E62: 5. bitva | F62: vítězství | H62: Rybářský přístav 1
E63: 4. bitva | F63: porážka | H63: Pouštní řeka 2
E64: 3. bitva | F64: vítězství | H64: Rybářský přístav 2
E65: 2. bitva | F65: porážka | H65: Pouštní řeka 2
E66: 1. bitva | F66: vítězství | H66: Himmelsdorf 2
A68: 9 | B68: 45082 | C68: 20.00 | D68: R1K_0 9.539 | E68: 7. bitva | G68: Vítězství | I68: Johny_Forever | J68: 43938 | K68: =SUM(K60,J68) -> 226860
D69: Rückzug ist keine Option | E69: 6. bitva
E70: 5. bitva
E71: 4. bitva | F71: vítězství | H71: Dálnice 1
E72: 3. bitva | F72: vítězství | H72: Dubový lesík 2
E73: 2. bitva | F73: vítězství | H73: Himmelsdorf 1
E74: 1. bitva | F74: vítězství | H74: Himmelsdorf 2
A76: 10 | B76: 45083 | C76: 20.00 | D76: _TRY 10.100 | E76: 7. bitva | G76: porážka | I76: Kastynho | J76: 1155 | K76: =SUM(K68,J76) -> 228015
D77: NOT UNICUMS JUST TRYHARDS | E77: 6. bitva
E78: 5. bitva
E79: 4. bitva | F79: porážka | H79: Pouštní řeka 2
E80: 3. bitva | F80: porážka | H80: Westfield 2
E81: 2. bitva | F81: porážka | H81: Rybářský přístav 1
E82: 1. bitva | F82: porážka | H82: Himmelsdorf 2
A84: 11 | B84: 45084 | C84: 19.00 | D84: ESPA 11.817 | E84: 7. bitva | G84: porážka | I84: Johny_Forever | J84: 2965 | K84: =SUM(K76,J84) -> 230980
D85: Soldados de Espaňa | E85: 6. bitva
E86: 5. bitva | F86: porážka | H86: Pouštní řeka 2
E87: 4. bitva | F87: porážka | H87: Doly 1
E88: 3. bitva | F88: porážka | H88: Murovanka 1
E89: 2. bitva | F89: porážka | H89: Útesy 1
E90: 1. bitva | F90: vítězství | H90: Himmelsdorf 2
A92: 12 | B92: 45084 | C92: 20.00 | D92: IM-OP 11.769 | E92: 7. bitva | G92: porážka | I92: Johny_Forever | J92: 6761 | K92: =SUM(K84,J92) -> 237741
D93: ImmortalPlayers | E93: 6. bitva
E94: 5. bitva | F94: vítězství | H94: Westfield 2
E95: 4. bitva | F95: porážka | H95: Rybářský přístav 1
E96: 3. bitva | F96: vítězství | H96: Westfield 1
E97: 2. bitva | F97: porážka | H97: Rybářský přístav 1
E98: 1. bitva | F98: porážka | H98: Himmelsdorf 1
A100: 13 | B100: 45084 | C100: 21.00 | D100: P-ACE 6.301 | E100: 7. bitva | G100: Vítězství | I100: Kastynho | J100: 44170 | K100: =SUM(K92,J100) -> 281911
D101: PICK Ászok | E101: 6. bitva | F101: vítězství | H101: Dálnice 1
E102: 5. bitva | F102: vítězství | H102: Malinovka 2
E103: 4. bitva | F103: vítězství | H103: Ensk 1
E104: 3. bitva | F104: vítězství | H104: Rybářský přístav 2
E105: 2. bitva | F105: porážka | H105: Ensk 2
E106: 1. bitva | F106: vítězství | H106: Himmelsdorf 1
A108: 14 | B108: 45085 | C108: 19.00 | D108: GGHUN 7.389 | E108: 7. bitva | G108: Vítězství | I108: Kastynho | J108: 41420 | K108: =SUM(K100,J108) -> 323331
D109: Halhatatlanok-Elveszett Légiója | E109: 6. bitva
E110: 5. bitva
E111: 4. bitva | F111: vítězství | H111: Ensk 1
E112: 3. bitva | F112: vítězství | H112: Westfield 2
E113: 2. bitva | F113: vítězství | H113: Doly 2
E114: 1. bitva | F114: vítězství | H114: Himmelsdorf 2
...

Sheet Červenec 2023
A1: Ofenzívy klanu CORMA - Červenec 2023
A3: P.č. | B3: Datum | C3: Hodina | D3: Soupeř | E3: Ofenzíva | F3: Výsledek | G3: Výsledek celkem | H3: Mapa | I3: Velitel | J3: Celkem krabiček | K3: ∑ krabiček
A4: 1 | B4: 45109 | C4: 19.00 | D4: A131 7.008 | G4: Vítězství | I4: Johny_Forever | J4: 40150 | K4: =SUM(J4) -> 40150
D5: A_SESINOS131 | E5: 6. bitva
E6: 5. bitva
E7: 4. bitva | F7: vítězství | H7: Murovanka 2
E8: 3. bitva | F8: vítězství | H8: Klidné pobřeží 1
E9: 2. bitva | F9: vítězství | H9: Doly 1
E10: 1. bitva | F10: vítězství | H10: Himmelsdorf 2
A12: 2 | B12: 45109 | C12: 20.00 | D12: MJW 10.091 | E12: 7. bitva | G12: Porážka | I12: Johny_Forever | J12: 5357 | K12: =SUM(K4,J12) -> 45507
D13: Elitarna Polska | E13: 6. bitva | F13: vítězství | H13: Westfield 2
E14: 5. bitva | F14: porážka | H14: Klidné pobřeží 2
E15: 4. bitva | F15: porážka | H15: Prochorovka 1
E16: 3. bitva | F16: porážka | H16: Redshire 2
E17: 2. bitva | F17: vítězství | H17: Prochorovka 1
E18: 1. bitva | F18: porážka | H18: Himmelsdorf 1
A20: 3 | B20: 45110 | C20: 19.00 | D20: HEIST 9.966 | E20: 7. bitva | G20: Porážka | I20: Johny_Forever | J20: 918 | K20: =SUM(K12,J20) -> 46425
D21: HEIST | E21: 6. bitva
E22: 5. bitva
E23: 4. bitva | F23: porážka | H23: Westfield 1
E24: 3. bitva | F24: porážka | H24: Ensk 2
E25: 2. bitva | F25: porážka | H25: Rybářský přístav 2
E26: 1. bitva | F26: porážka | H26: Himmelsdorf 2
A28: 4 | B28: 45110 | C28: 20.00 | D28: _TRY 10.159 | E28: 7. bitva | G28: porážka | I28: NEPSTER_sk | J28: 6274 | K28: =SUM(K20,J28) -> 52699
D29: NOT UNICUMS JUST TRYHARDS | E29: 6. bitva | F29: porážka | H29: Dubový lesík 1
E30: 5. bitva | F30: porážka | H30: Malinovka 1
E31: 4. bitva | F31: porážka | H31: Rybářský přístav 2
E32: 3. bitva | F32: vítězství | H32: Malinovka 2
E33: 2. bitva | F33: vítězství | H33: Dubový lesík 1
E34: 1. bitva | F34: porážka | H34: Himmelsdorf 1
A36: 5 | B36: 45111 | C36: 19.00 | D36: CBIT 10.680 | E36: 7. bitva | G36: porážka | I36: Johny_Forever | J36: 1252 | K36: =SUM(K28,J36) -> 53951
D37: Ukrajina zminjúe Svit! | E37: 6. bitva
E38: 5. bitva
E39: 4. bitva | F39: porážka | H39: Westfield 2
E40: 3. bitva | F40: porážka | H40: Útesy 1
E41: 2. bitva | F41: porážka | H41: Malinovka 2
E42: 1. bitva | F42: porážka | H42: Himmelsdorf 1
A44: 6 | B44: 45111 | C44: 20.00 | D44: GIMP_ 9.795 | E44: 7. bitva | G44: porážka | I44: Mkentaur | J44: 2925 | K44: =SUM(K36,J44) -> 56876
D45: PAINT YOUR WORLD | E45: 6. bitva | F45: porážka | H45: Westfield 2
E46: 5. bitva | F46: porážka | H46: Útesy 1
E47: 4. bitva | F47: porážka | H47: Malinovka 2
E48: 3. bitva | F48: porážka | H48: Malinovka 1
E49: 2. bitva | F49: vítězství | H49: Malinovka 2
E50: 1. bitva | F50: porážka | H50: Himmelsdorf 1
A52: 7 | B52: 45112 | C52: 19.00 | D52: _TBC_ 7.623 | E52: 7. bitva | F52: porážka | G52: Remíza | H52: Doly 2 | I52: Mkentaur | J52: 11221 | K52: =SUM(K44,J52) -> 68097
D53: The Black Company! | E53: 6. bitva | F53: vítězství | H53: Malinovka 2
E54: 5. bitva | F54: vítězství | H54: Útesy 1
E55: 4. bitva | F55: porážka | H55: Malinovka 1
E56: 3. bitva | F56: porážka | H56: Doly 2
E57: 2. bitva | F57: vítězství | H57: Malinovka 2
E58: 1. bitva | F58: porážka | H58: Himmelsdorf 1
A60: 8 | B60: 45112 | C60: 20.00 | D60: BD_CR 10.657 | E60: 7. bitva | G60: Vítězství | I60: _coje_Spajk_ | J60: 25988 | K60: =SUM(K52,J60) -> 94085
D61: Black_Dogs | E61: 6. bitva | F61: vítězství | H61: Westfield 2
E62: 5. bitva | F62: vítězství | H62: Prochorovka 2
E63: 4. bitva | F63: porážka | H63: Westfield 1
E64: 3. bitva | F64: vítězství | H64: Prochorovka 1
E65: 2. bitva | F65: porážka | H65: Westfield 2
E66: 1. bitva | F66: vítězství | H66: Himmelsdorf 2
A68: 9 | B68: 45113 | C68: 19.00 | D68: A_A_D 11.208 | E68: 7. bitva | G68: porážka | I68: Johny_Forever | J68: 896 | K68: =SUM(K60,J68) -> 94981
D69: Analiza Atak Dominacja | E69: 6. bitva
E70: 5. bitva
E71: 4. bitva | F71: porážka | H71: Westfield 2
E72: 3. bitva | F72: porážka | H72: Pouštní řeka 1
E73: 2. bitva | F73: porážka | H73: Dubový lesík 1
E74: 1. bitva | F74: porážka | H74: Himmelsdorf 2
A76: 10 | B76: 45113 | C76: 20.00 | D76: KIN5S 10.083 | E76: 7. bitva | G76: Vítězství | I76: _coje_Spajk_ | J76: 32840 | K76: =SUM(K68,J76) -> 127821
D77: KINGS CZ/SK | E77: 6. bitva
E78: 5. bitva | F78: vítězství | H78: Dubový lesík 1
E79: 4. bitva | F79: vítězství | H79: Útesy 1
E80: 3. bitva | F80: vítězství | H80: Prochorovka 2
E81: 2. bitva | F81: porážka | H81: Útesy 2
E82: 1. bitva | F82: vítězství | H82: Himmelsdorf 1
A84: 11 | B84: 45114 | C84: 21.00 | D84: LGACY 10.216 | E84: 7. bitva | G84: Vítězství | I84: Johny_Forever | J84: 30144 | K84: =SUM(K76,J84) -> 157965
D85: The Legacy Continues | E85: 6. bitva | F85: porážka | H85: Murovanka 1
E86: 5. bitva | F86: vítězství | H86: Malinovka 1
E87: 4. bitva | F87: vítězství | H87: Redshire 2
E88: 3. bitva | F88: porážka | H88: Malinovka 2
E89: 2. bitva | F89: vítězství | H89: Redshire 2
E90: 1. bitva | F90: vítězství | H90: Himmelsdorf 2
A92: 12 | B92: 45114 | C92: 22.00 | D92: THUDY 8.840 | E92: 7. bitva | G92: Vítězství | I92: Johny_Forever | J92: 39842 | K92: =SUM(K84,J92) -> 197807
D93: THUNDERER | E93: 6. bitva
E94: 5. bitva
E95: 4. bitva | F95: vítězství | H95: Himmelsdorf 1
E96: 3. bitva | F96: vítězství | H96: Redshire 1
E97: 2. bitva | F97: vítězství | H97: Útesy 2
E98: 1. bitva | F98: vítězství | H98: Himmelsdorf 1
A100: 13 | B100: 45116 | C100: 20.00 | D100: HAPPY 11.159 | E100: 7. bitva | G100: porážka | I100: Johny_Forever | J100: 622 | K100: =SUM(K92,J100) -> 198429
D101: We are HAPPY to farm you! | E101: 6. bitva
E102: 5. bitva
E103: 4. bitva | F103: porážka | H103: Westfield 1
E104: 3. bitva | F104: porážka | H104: Pouštní řeka 2
E105: 2. bitva | F105: porážka | H105: Dubový lesík 1
E106: 1. bitva | F106: porážka | H106: Himmelsdorf 2
A108: 14 | B108: 45116 | C108: 21.00 | D108: U-BP 9.323 | E108: 7. bitva | G108: Vítězství | I108: Johny_Forever | J108: 44242 | K108: =SUM(K100,J108) -> 242671
D109: Ukrainske braterstvo patriotiv | E109: 6. bitva
E110: 5. bitva | F110: vítězství | H110: Pouštní řeka 1
E111: 4. bitva | F111: vítězství | H111: Prochorovka 2
E112: 3. bitva | F112: vítězství | H112: Útesy 1
E113: 2. bitva | F113: vítězství | H113: Prochorovka 2
E114: 1. bitva | F114: porážka | H114: Himmelsdorf 1
...

Sheet Srpen 2023
A1: Ofenzívy klanu CORMA - Srpen 2023
A3: P.č. | B3: Datum | C3: Hodina | D3: Soupeř | E3: Ofenzíva | F3: Výsledek | G3: Výsledek celkem | H3: Mapa | I3: Velitel | J3: Celkem krabiček | K3: ∑ krabiček
A4: 1 | D4: A131 7.008 | G4: Vítězství | I4: Johny_Forever | J4: 40150 | K4: =SUM(J4) -> 40150
D5: A_SESINOS131 | E5: 6. bitva
E6: 5. bitva
E7: 4. bitva | F7: vítězství | H7: Murovanka 2
E8: 3. bitva | F8: vítězství | H8: Klidné pobřeží 1
E9: 2. bitva | F9: vítězství | H9: Doly 1
E10: 1. bitva | F10: vítězství | H10: Himmelsdorf 2
A12: 2 | D12: MJW 10.091 | E12: 7. bitva | G12: Porážka | I12: Johny_Forever | J12: 5357 | K12: =SUM(K4,J12) -> 45507
D13: Elitarna Polska | E13: 6. bitva | F13: vítězství | H13: Westfield 2
E14: 5. bitva | F14: porážka | H14: Klidné pobřeží 2
E15: 4. bitva | F15: porážka | H15: Prochorovka 1
E16: 3. bitva | F16: porážka | H16: Redshire 2
E17: 2. bitva | F17: vítězství | H17: Prochorovka 1
E18: 1. bitva | F18: porážka | H18: Himmelsdorf 1
A20: 3 | D20: HEIST 9.966 | E20: 7. bitva | G20: Porážka | I20: Johny_Forever | J20: 918 | K20: =SUM(K12,J20) -> 46425
D21: HEIST | E21: 6. bitva
E22: 5. bitva
E23: 4. bitva | F23: porážka | H23: Westfield 1
E24: 3. bitva | F24: porážka | H24: Ensk 2
E25: 2. bitva | F25: porážka | H25: Rybářský přístav 2
E26: 1. bitva | F26: porážka | H26: Himmelsdorf 2
A28: 4 | D28: _TRY 10.159 | E28: 7. bitva | G28: porážka | I28: NEPSTER_sk | J28: 6274 | K28: =SUM(K20,J28) -> 52699
D29: NOT UNICUMS JUST TRYHARDS | E29: 6. bitva | F29: porážka | H29: Dubový lesík 1
E30: 5. bitva | F30: porážka | H30: Malinovka 1
E31: 4. bitva | F31: porážka | H31: Rybářský přístav 2
E32: 3. bitva | F32: vítězství | H32: Malinovka 2
E33: 2. bitva | F33: vítězství | H33: Dubový lesík 1
E34: 1. bitva | F34: porážka | H34: Himmelsdorf 1
A46: OFENZÍVY SRPEN 2023 | D46: Počet ofenzív za měsíc | E46: =I60 -> 0 | F46: 1
D47: Vítězné ofenzívy za měsíc | E47: =F60 -> 0 | F47: =AVERAGE(E47*F46)/E46 -> #DIV/0!
D48: Prohrané ofenzívy za měsíc | E48: =G60 -> 0 | F48: =AVERAGE(E48*F47)/E47 -> #DIV/0!
D49: Remizované ofenzívy za měsíc | E49: =H60 -> 0 | F49: =AVERAGE(E49*F48)/E48 -> #DIV/0!
D50: Krabičky za měsíc | E50: =SUM(J1:J910) -> 52699 | G50: k 1.8.2023 (0 ofek)
E53: Velitel | F53: Výhra | G53: Prohra | H53: Remíza | I53: Celkem odveleno
E54: Johny_Forever | F54: 0 | G54: 0 | H54: 0 | I54: =SUM(F54:H54) -> 0
E55: NEPSTER_sk | F55: 0 | G55: 0 | H55: 0 | I55: =SUM(F55:H55) -> 0
E56: Mkentaur | F56: 0 | G56: 0 | H56: 0 | I56: =SUM(F56:H56) -> 0
E57: _coje_Spajk_ | F57: 0 | G57: 0 | H57: 0 | I57: =SUM(F57:H57) -> 0
E58: Kista1_/_Kista_ | F58: 0 | G58: 0 | H58: 0 | I58: 0
E60: ∑ ofenzív | F60: =SUM(F54:F59) -> 0 | G60: =SUM(G54:G59) -> 0 | H60: =SUM(H54:H59) -> 0 | I60: =SUM(I54:I59) -> 0

Sheet Celkové měsíční výsledky
A1: BILANCE OFENZÍV CORMA
A3: Měsíc + rok | B3: Vítězství | C3: Porážka | D3: Remíza | E3: Krabičky | F3: Počet ofenzív
A4: Říjen 2021 | B4: 10 | C4: 26 | D4: 4 | E4: 485939 | F4: =SUM(B4:C4,D4) -> 40
A5: Listopad 2021 | B5: 6 | C5: 12 | D5: 5 | E5: 320085 | F5: =SUM(B5:C5,D5) -> 23
A6: Prosinec 2021 | B6: 20 | C6: 22 | D6: 8 | E6: 862279 | F6: =SUM(B6:C6,D6) -> 50
A7: Celkem 2021 | B7: =SUM(B4:B6) -> 36 | C7: =SUM(C4:C6) -> 60 | D7: =SUM(D4:D6) -> 17 | E7: =SUM(E4:E6) -> 1668303 | F7: =SUM(F4:F6) -> 113
A8: Leden 2022 | B8: 28 | C8: 16 | D8: 9 | E8: 1203952 | F8: =SUM(B8:C8,D8) -> 53
A9: Únor 2022 | B9: 2 | C9: 4 | D9: 5 | E9: 152191 | F9: =SUM(B9:C9,D9) -> 11
A10: Březen 2022 | B10: 5 | C10: 11 | D10: 1 | E10: 233683 | F10: =SUM(B10:C10,D10) -> 17
A11: Duben 2022 | B11: 3 | C11: 5 | D11: 2 | E11: 158784 | F11: =SUM(B11:C11,D11) -> 10
A12: Květen 2022 | B12: 12 | C12: 11 | D12: 4 | E12: 514909 | F12: =SUM(B12:C12,D12) -> 27
A13: Červen 2022 | B13: 10 | C13: 13 | D13: 1 | E13: 415624 | F13: =SUM(B13:C13,D13) -> 24
A14: Červenec 2022 | B14: 8 | C14: 8 | D14: 3 | E14: 343906 | F14: =SUM(B14:C14,D14) -> 19
A15: Srpen 2022 | B15: 17 | C15: 9 | D15: 7 | E15: 677245 | F15: =SUM(B15:C15,D15) -> 33
A16: Září 2022 | B16: 9 | C16: 12 | D16: 4 | E16: 409676 | F16: =SUM(B16:C16,D16) -> 25
A17: Říjen 2022 | B17: 7 | C17: 4 | D17: 2 | E17: 284277 | F17: =SUM(B17:C17,D17) -> 13
A18: Listopad2022 | B18: ='Listopad 2022'!E327 -> 18 | C18: ='Listopad 2022'!E328 -> 16 | D18: ='Listopad 2022'!E329 -> 6 | E18: ='Listopad 2022'!K316 -> 700357 | F18: =SUM(B18:C18,D18) -> 40
A19: Prosinec 2022 | B19: ='Prosinec 2022'!E639 -> 44 | C19: ='Prosinec 2022'!E640 -> 23 | D19: ='Prosinec 2022'!E641 -> 12 | E19: ='Prosinec 2022'!E642 -> 1715295 | F19: =SUM(B19:C19,D19) -> 79
A20: Celkem 2022 | B20: =SUM(B8:B19) -> 163 | C20: =SUM(C8:C19) -> 132 | D20: =SUM(D8:D19) -> 56 | E20: =SUM(E8:E19) -> 6809899 | F20: =SUM(F8:F19) -> 351
A21: Leden 2023 | B21: ='Leden 2023'!E759 -> 43 | C21: ='Leden 2023'!E760 -> 37 | D21: ='Leden 2023'!E761 -> 14 | E21: ='Leden 2023'!E762 -> 1895250 | F21: =SUM(B21:D21) -> 94
A22: Únor 2023 | B22: ='Únor 2023'!E304 -> 29 | C22: ='Únor 2023'!E305 -> 4 | D22: ='Únor 2023'!E306 -> 4 | E22: ='Únor 2023'!E307 -> 1137636 | F22: =SUM(B22:D22) -> 37
A23: Březen 2023 | B23: ='Březen 2023'!E423 -> 33 | C23: ='Březen 2023'!E424 -> 15 | D23: ='Březen 2023'!E425 -> 4 | E23: ='Březen 2023'!E426 -> 1214767 | F23: =SUM(B23:D23) -> 52
A24: Duben 2023 | B24: ='Duben 2023'!E320 -> 22 | C24: ='Duben 2023'!E321 -> 14 | D24: ='Duben 2023'!E322 -> 3 | E24: ='Duben 2023'!E323 -> 847823 | F24: =SUM(B24:D24) -> 39
A25: Květen 2023 | B25: ='Květen 2023'!E216 -> 13 | C25: ='Květen 2023'!E217 -> 8 | D25: ='Květen 2023'!E218 -> 5 | E25: ='Květen 2023'!E219 -> 570906 | F25: =SUM(B25:D25) -> 26
A26: Červen 2023 | B26: ='Červen 2023'!E320 -> 21 | C26: ='Červen 2023'!E321 -> 14 | D26: ='Červen 2023'!E322 -> 4 | E26: ='Červen 2023'!E323 -> 805810 | F26: ='Červen 2023'!E319 -> 39
A27: Červenec 2023 | B27: ='Červenec 2023'!E376 -> 18 | C27: ='Červenec 2023'!E377 -> 21 | D27: ='Červenec 2023'!E378 -> 7 | E27: ='Červenec 2023'!E379 -> 711131 | F27: ='Červenec 2023'!E375 -> 46
A28: Srpen 2023
A29: Září 2023
A30: Říjen 2023
A31: Listopad 2023
A32: Prosinec 2023
A33: Celkem 2023 | B33: =SUM(B21:B32) -> 179 | C33: =SUM(C21:C32) -> 113 | D33: =SUM(D21:D32) -> 41 | E33: =SUM(E21:E32) -> 7183323 | F33: =SUM(F21:F32) -> 333
A35: Suma celkem | B35: =SUM(B4:B6)+ SUM(B8:B19)+ SUM(B22:B33) -> 514 | C35: =SUM(C4:C6)+ SUM(C8:C19)+ SUM(C22:C33) -> 381 | D35: =SUM(D4:D6)+ SUM(D8:D19)+ SUM(D22:D33) -> 141 | E35: =SUM(E4:E6)+ SUM(E8:E19)+ SUM(E22:E33) -> 20949598 | F35: =SUM(F4:F6)+ SUM(F8:F19)+ SUM(F22:F33) -> 1036
A36: Suma v procentech | B36: =AVERAGE(B35*F36)/F35 -> 0.496139 | C36: =AVERAGE(C35*F36)/F35 -> 0.36776062 | D36: =AVERAGE(D35*F36)/F35 -> 0.13610039 | F36: 1

Sheet Mapy úspěšnost
A1: ÚSPĚŠNOST NA MAPÁCH
A3: Mapa | B3: Vítězství | C3: Porážka | D3: Remíza | E3: Celkem | F3: Nejčastěji hráno | G3: =_xlfn.XLOOKUP((MAX(E:E)),E:E,A:A) -> #NAME?
F4: Vítezství | G4: =_xlfn.XLOOKUP(G3,A:A,B:B) -> #NAME?
A5: Dálnice 1 | B5: =COUNTIFS('Říjen 2021'!H:H,A5,'Říjen 2021'!F:F,$B$3)+COUNTIFS('Listopad 2021'!H:H,A5,'Listopad 2021'!F:F,$B$3)+COUNTIFS('Prosinec 2021'!H:H,A5,'Prosinec 2021'!F:F,$B$3)+COUNTIFS('Leden 2022'!H:H,A5,'Leden 2022'!F:F,$B$3)+COUNTIFS('Únor 2022'!H:H,A5,'Únor 2022'!F:F,$B$3)+COUNTIFS('Březen 2022'!H:H,A5,'Březen 2022'!F:F,$B$3)+COUNTIFS('Duben 2022'!H:H,A5,'Duben 2022'!F:F,$B$3)+COUNTIFS('Květen 2022'!H:H,A5,'Květen 2022'!F:F,$B$3)+COUNTIFS('Červen 2022'!H:H,A5,'Červen 2022'!F:F,$B$3)+COUNTIFS('Červenec 2022'!H:H,A5,'Červenec 2022'!F:F,$B$3)+COUNTIFS('Srpen 2022'!H:H,A5,'Srpen 2022'!F:F,$B$3)+COUNTIFS('Září 2022'!H:H,A5,'Září 2022'!F:F,$B$3)+COUNTIFS('Říjen 2022'!H:H,A5,'Říjen 2022'!F:F,$B$3)+COUNTIFS('Listopad 2022'!H:H,A5,'Listopad 2022'!F:F,$B$3)+COUNTIFS('Prosinec 2022'!H:H,A5,'Prosinec 2022'!F:F,$B$3)+COUNTIFS('Leden 2023'!H:H,A5,'Leden 2023'!F:F,$B$3)+COUNTIFS('Únor 2023'!H:H,A5,'Únor 2023'!F:F,$B$3)+COUNTIFS('Březen 2023'!H:H,A5,'Březen 2023'!F:F,$B$3) -> 28 | C5: =COUNTIFS('Říjen 2021'!H:H,A5,'Říjen 2021'!F:F,$C$3)+COUNTIFS('Listopad 2021'!H:H,A5,'Listopad 2021'!F:F,$C$3)+COUNTIFS('Prosinec 2021'!H:H,A5,'Prosinec 2021'!F:F,$C$3)+COUNTIFS('Leden 2022'!H:H,A5,'Leden 2022'!F:F,$C$3)+COUNTIFS('Únor 2022'!H:H,A5,'Únor 2022'!F:F,$C$3)+COUNTIFS('Březen 2022'!H:H,A5,'Březen 2022'!F:F,$C$3)+COUNTIFS('Duben 2022'!H:H,A5,'Duben 2022'!F:F,$C$3)+COUNTIFS('Květen 2022'!H:H,A5,'Květen 2022'!F:F,$C$3)+COUNTIFS('Červen 2022'!H:H,A5,'Červen 2022'!F:F,$C$3)+COUNTIFS('Červenec 2022'!H:H,A5,'Červenec 2022'!F:F,$C$3)+COUNTIFS('Srpen 2022'!H:H,A5,'Srpen 2022'!F:F,$C$3)+COUNTIFS('Září 2022'!H:H,A5,'Září 2022'!F:F,$C$3)+COUNTIFS('Říjen 2022'!H:H,A5,'Říjen 2022'!F:F,$C$3)+COUNTIFS('Listopad 2022'!H:H,A5,'Listopad 2022'!F:F,$C$3)+COUNTIFS('Prosinec 2022'!H:H,A5,'Prosinec 2022'!F:F,$C$3)+COUNTIFS('Leden 2023'!H:H,A5,'Leden 2023'!F:F,$C$3)+COUNTIFS('Únor 2023'!H:H,A5,'Únor 2023'!F:F,$C$3)+COUNTIFS('Březen 2023'!H:H,A5,'Březen 2023'!F:F,$C$3) -> 20 | D5: =COUNTIFS('Říjen 2021'!H:H,A5,'Říjen 2021'!F:F,$D$3)+COUNTIFS('Listopad 2021'!H:H,A5,'Listopad 2021'!F:F,$D$3)+COUNTIFS('Prosinec 2021'!H:H,A5,'Prosinec 2021'!F:F,$D$3)+COUNTIFS('Leden 2022'!H:H,A5,'Leden 2022'!F:F,$D$3)+COUNTIFS('Únor 2022'!H:H,A5,'Únor 2022'!F:F,$D$3)+COUNTIFS('Březen 2022'!H:H,A5,'Březen 2022'!F:F,$D$3)+COUNTIFS('Duben 2022'!H:H,A5,'Duben 2022'!F:F,$D$3)+COUNTIFS('Květen 2022'!H:H,A5,'Květen 2022'!F:F,$D$3)+COUNTIFS('Červen 2022'!H:H,A5,'Červen 2022'!F:F,$D$3)+COUNTIFS('Červenec 2022'!H:H,A5,'Červenec 2022'!F:F,$D$3)+COUNTIFS('Srpen 2022'!H:H,A5,'Srpen 2022'!F:F,$D$3)+COUNTIFS('Září 2022'!H:H,A5,'Září 2022'!F:F,$D$3)+COUNTIFS('Říjen 2022'!H:H,A5,'Říjen 2022'!F:F,$D$3)+COUNTIFS('Listopad 2022'!H:H,A5,'Listopad 2022'!F:F,$D$3)+COUNTIFS('Prosinec 2022'!H:H,A5,'Prosinec 2022'!F:F,$D$3)+COUNTIFS('Leden 2023'!H:H,A5,'Leden 2023'!F:F,$D$3)+COUNTIFS('Únor 2023'!H:H,A5,'Únor 2023'!F:F,$D$3)+COUNTIFS('Březen 2023'!H:H,A5,'Březen 2023'!F:F,$D$3) -> 0 | E5: =COUNTIF('Říjen 2021'!H:H,A5)+COUNTIF('Listopad 2021'!H:H,A5)+COUNTIF('Prosinec 2021'!H:H,A5)+COUNTIF('Leden 2022'!H:H,A5)+COUNTIF('Únor 2022'!H:H,A5)+COUNTIF('Březen 2022'!H:H,A5)+COUNTIF('Duben 2022'!H:H,A5)+COUNTIF('Květen 2022'!H:H,A5)+COUNTIF('Červen 2022'!H:H,A5)+COUNTIF('Červenec 2022'!H:H,A5)+COUNTIF('Srpen 2022'!H:H,A5)+COUNTIF('Září 2022'!H:H,A5)+COUNTIF('Říjen 2022'!H:H,A5)+COUNTIF('Listopad 2022'!H:H,A5)+COUNTIF('Prosinec 2022'!H:H,A5)+COUNTIF('Leden 2023'!H:H,A5)+COUNTIF('Únor 2023'!H:H,A5)+COUNTIF('Březen 2023'!H:H,A5) -> 48 | F5: Prohra | G5: =_xlfn.XLOOKUP(G3,A:A,C:C) -> #NAME?
A6: Dálnice 2 | B6: =COUNTIFS('Říjen 2021'!H:H,A6,'Říjen 2021'!F:F,$B$3)+COUNTIFS('Listopad 2021'!H:H,A6,'Listopad 2021'!F:F,$B$3)+COUNTIFS('Prosinec 2021'!H:H,A6,'Prosinec 2021'!F:F,$B$3)+COUNTIFS('Leden 2022'!H:H,A6,'Leden 2022'!F:F,$B$3)+COUNTIFS('Únor 2022'!H:H,A6,'Únor 2022'!F:F,$B$3)+COUNTIFS('Březen 2022'!H:H,A6,'Březen 2022'!F:F,$B$3)+COUNTIFS('Duben 2022'!H:H,A6,'Duben 2022'!F:F,$B$3)+COUNTIFS('Květen 2022'!H:H,A6,'Květen 2022'!F:F,$B$3)+COUNTIFS('Červen 2022'!H:H,A6,'Červen 2022'!F:F,$B$3)+COUNTIFS('Červenec 2022'!H:H,A6,'Červenec 2022'!F:F,$B$3)+COUNTIFS('Srpen 2022'!H:H,A6,'Srpen 2022'!F:F,$B$3)+COUNTIFS('Září 2022'!H:H,A6,'Září 2022'!F:F,$B$3)+COUNTIFS('Říjen 2022'!H:H,A6,'Říjen 2022'!F:F,$B$3)+COUNTIFS('Listopad 2022'!H:H,A6,'Listopad 2022'!F:F,$B$3)+COUNTIFS('Prosinec 2022'!H:H,A6,'Prosinec 2022'!F:F,$B$3)+COUNTIFS('Leden 2023'!H:H,A6,'Leden 2023'!F:F,$B$3)+COUNTIFS('Únor 2023'!H:H,A6,'Únor 2023'!F:F,$B$3)+COUNTIFS('Březen 2023'!H:H,A6,'Březen 2023'!F:F,$B$3) -> 28 | C6: =COUNTIFS('Říjen 2021'!H:H,A6,'Říjen 2021'!F:F,$C$3)+COUNTIFS('Listopad 2021'!H:H,A6,'Listopad 2021'!F:F,$C$3)+COUNTIFS('Prosinec 2021'!H:H,A6,'Prosinec 2021'!F:F,$C$3)+COUNTIFS('Leden 2022'!H:H,A6,'Leden 2022'!F:F,$C$3)+COUNTIFS('Únor 2022'!H:H,A6,'Únor 2022'!F:F,$C$3)+COUNTIFS('Březen 2022'!H:H,A6,'Březen 2022'!F:F,$C$3)+COUNTIFS('Duben 2022'!H:H,A6,'Duben 2022'!F:F,$C$3)+COUNTIFS('Květen 2022'!H:H,A6,'Květen 2022'!F:F,$C$3)+COUNTIFS('Červen 2022'!H:H,A6,'Červen 2022'!F:F,$C$3)+COUNTIFS('Červenec 2022'!H:H,A6,'Červenec 2022'!F:F,$C$3)+COUNTIFS('Srpen 2022'!H:H,A6,'Srpen 2022'!F:F,$C$3)+COUNTIFS('Září 2022'!H:H,A6,'Září 2022'!F:F,$C$3)+COUNTIFS('Říjen 2022'!H:H,A6,'Říjen 2022'!F:F,$C$3)+COUNTIFS('Listopad 2022'!H:H,A6,'Listopad 2022'!F:F,$C$3)+COUNTIFS('Prosinec 2022'!H:H,A6,'Prosinec 2022'!F:F,$C$3)+COUNTIFS('Leden 2023'!H:H,A6,'Leden 2023'!F:F,$C$3)+COUNTIFS('Únor 2023'!H:H,A6,'Únor 2023'!F:F,$C$3)+COUNTIFS('Březen 2023'!H:H,A6,'Březen 2023'!F:F,$C$3) -> 23 | D6: =COUNTIFS('Říjen 2021'!H:H,A6,'Říjen 2021'!F:F,$D$3)+COUNTIFS('Listopad 2021'!H:H,A6,'Listopad 2021'!F:F,$D$3)+COUNTIFS('Prosinec 2021'!H:H,A6,'Prosinec 2021'!F:F,$D$3)+COUNTIFS('Leden 2022'!H:H,A6,'Leden 2022'!F:F,$D$3)+COUNTIFS('Únor 2022'!H:H,A6,'Únor 2022'!F:F,$D$3)+COUNTIFS('Březen 2022'!H:H,A6,'Březen 2022'!F:F,$D$3)+COUNTIFS('Duben 2022'!H:H,A6,'Duben 2022'!F:F,$D$3)+COUNTIFS('Květen 2022'!H:H,A6,'Květen 2022'!F:F,$D$3)+COUNTIFS('Červen 2022'!H:H,A6,'Červen 2022'!F:F,$D$3)+COUNTIFS('Červenec 2022'!H:H,A6,'Červenec 2022'!F:F,$D$3)+COUNTIFS('Srpen 2022'!H:H,A6,'Srpen 2022'!F:F,$D$3)+COUNTIFS('Září 2022'!H:H,A6,'Září 2022'!F:F,$D$3)+COUNTIFS('Říjen 2022'!H:H,A6,'Říjen 2022'!F:F,$D$3)+COUNTIFS('Listopad 2022'!H:H,A6,'Listopad 2022'!F:F,$D$3)+COUNTIFS('Prosinec 2022'!H:H,A6,'Prosinec 2022'!F:F,$D$3)+COUNTIFS('Leden 2023'!H:H,A6,'Leden 2023'!F:F,$D$3)+COUNTIFS('Únor 2023'!H:H,A6,'Únor 2023'!F:F,$D$3)+COUNTIFS('Březen 2023'!H:H,A6,'Březen 2023'!F:F,$D$3) -> 0 | E6: =COUNTIF('Říjen 2021'!H:H,A6)+COUNTIF('Listopad 2021'!H:H,A6)+COUNTIF('Prosinec 2021'!H:H,A6)+COUNTIF('Leden 2022'!H:H,A6)+COUNTIF('Únor 2022'!H:H,A6)+COUNTIF('Březen 2022'!H:H,A6)+COUNTIF('Duben 2022'!H:H,A6)+COUNTIF('Květen 2022'!H:H,A6)+COUNTIF('Červen 2022'!H:H,A6)+COUNTIF('Červenec 2022'!H:H,A6)+COUNTIF('Srpen 2022'!H:H,A6)+COUNTIF('Září 2022'!H:H,A6)+COUNTIF('Říjen 2022'!H:H,A6)+COUNTIF('Listopad 2022'!H:H,A6)+COUNTIF('Prosinec 2022'!H:H,A6)+COUNTIF('Leden 2023'!H:H,A6)+COUNTIF('Únor 2023'!H:H,A6)+COUNTIF('Březen 2023'!H:H,A6) -> 51 | F6: Remíza | G6: =_xlfn.XLOOKUP(G3,A:A,D:D) -> #NAME?
A7: Doly 1 | B7: =COUNTIFS('Říjen 2021'!H:H,A7,'Říjen 2021'!F:F,$B$3)+COUNTIFS('Listopad 2021'!H:H,A7,'Listopad 2021'!F:F,$B$3)+COUNTIFS('Prosinec 2021'!H:H,A7,'Prosinec 2021'!F:F,$B$3)+COUNTIFS('Leden 2022'!H:H,A7,'Leden 2022'!F:F,$B$3)+COUNTIFS('Únor 2022'!H:H,A7,'Únor 2022'!F:F,$B$3)+COUNTIFS('Březen 2022'!H:H,A7,'Březen 2022'!F:F,$B$3)+COUNTIFS('Duben 2022'!H:H,A7,'Duben 2022'!F:F,$B$3)+COUNTIFS('Květen 2022'!H:H,A7,'Květen 2022'!F:F,$B$3)+COUNTIFS('Červen 2022'!H:H,A7,'Červen 2022'!F:F,$B$3)+COUNTIFS('Červenec 2022'!H:H,A7,'Červenec 2022'!F:F,$B$3)+COUNTIFS('Srpen 2022'!H:H,A7,'Srpen 2022'!F:F,$B$3)+COUNTIFS('Září 2022'!H:H,A7,'Září 2022'!F:F,$B$3)+COUNTIFS('Říjen 2022'!H:H,A7,'Říjen 2022'!F:F,$B$3)+COUNTIFS('Listopad 2022'!H:H,A7,'Listopad 2022'!F:F,$B$3)+COUNTIFS('Prosinec 2022'!H:H,A7,'Prosinec 2022'!F:F,$B$3)+COUNTIFS('Leden 2023'!H:H,A7,'Leden 2023'!F:F,$B$3)+COUNTIFS('Únor 2023'!H:H,A7,'Únor 2023'!F:F,$B$3)+COUNTIFS('Březen 2023'!H:H,A7,'Březen 2023'!F:F,$B$3) -> 68 | C7: =COUNTIFS('Říjen 2021'!H:H,A7,'Říjen 2021'!F:F,$C$3)+COUNTIFS('Listopad 2021'!H:H,A7,'Listopad 2021'!F:F,$C$3)+COUNTIFS('Prosinec 2021'!H:H,A7,'Prosinec 2021'!F:F,$C$3)+COUNTIFS('Leden 2022'!H:H,A7,'Leden 2022'!F:F,$C$3)+COUNTIFS('Únor 2022'!H:H,A7,'Únor 2022'!F:F,$C$3)+COUNTIFS('Březen 2022'!H:H,A7,'Březen 2022'!F:F,$C$3)+COUNTIFS('Duben 2022'!H:H,A7,'Duben 2022'!F:F,$C$3)+COUNTIFS('Květen 2022'!H:H,A7,'Květen 2022'!F:F,$C$3)+COUNTIFS('Červen 2022'!H:H,A7,'Červen 2022'!F:F,$C$3)+COUNTIFS('Červenec 2022'!H:H,A7,'Červenec 2022'!F:F,$C$3)+COUNTIFS('Srpen 2022'!H:H,A7,'Srpen 2022'!F:F,$C$3)+COUNTIFS('Září 2022'!H:H,A7,'Září 2022'!F:F,$C$3)+COUNTIFS('Říjen 2022'!H:H,A7,'Říjen 2022'!F:F,$C$3)+COUNTIFS('Listopad 2022'!H:H,A7,'Listopad 2022'!F:F,$C$3)+COUNTIFS('Prosinec 2022'!H:H,A7,'Prosinec 2022'!F:F,$C$3)+COUNTIFS('Leden 2023'!H:H,A7,'Leden 2023'!F:F,$C$3)+COUNTIFS('Únor 2023'!H:H,A7,'Únor 2023'!F:F,$C$3)+COUNTIFS('Březen 2023'!H:H,A7,'Březen 2023'!F:F,$C$3) -> 62 | D7: =COUNTIFS('Říjen 2021'!H:H,A7,'Říjen 2021'!F:F,$D$3)+COUNTIFS('Listopad 2021'!H:H,A7,'Listopad 2021'!F:F,$D$3)+COUNTIFS('Prosinec 2021'!H:H,A7,'Prosinec 2021'!F:F,$D$3)+COUNTIFS('Leden 2022'!H:H,A7,'Leden 2022'!F:F,$D$3)+COUNTIFS('Únor 2022'!H:H,A7,'Únor 2022'!F:F,$D$3)+COUNTIFS('Březen 2022'!H:H,A7,'Březen 2022'!F:F,$D$3)+COUNTIFS('Duben 2022'!H:H,A7,'Duben 2022'!F:F,$D$3)+COUNTIFS('Květen 2022'!H:H,A7,'Květen 2022'!F:F,$D$3)+COUNTIFS('Červen 2022'!H:H,A7,'Červen 2022'!F:F,$D$3)+COUNTIFS('Červenec 2022'!H:H,A7,'Červenec 2022'!F:F,$D$3)+COUNTIFS('Srpen 2022'!H:H,A7,'Srpen 2022'!F:F,$D$3)+COUNTIFS('Září 2022'!H:H,A7,'Září 2022'!F:F,$D$3)+COUNTIFS('Říjen 2022'!H:H,A7,'Říjen 2022'!F:F,$D$3)+COUNTIFS('Listopad 2022'!H:H,A7,'Listopad 2022'!F:F,$D$3)+COUNTIFS('Prosinec 2022'!H:H,A7,'Prosinec 2022'!F:F,$D$3)+COUNTIFS('Leden 2023'!H:H,A7,'Leden 2023'!F:F,$D$3)+COUNTIFS('Únor 2023'!H:H,A7,'Únor 2023'!F:F,$D$3)+COUNTIFS('Březen 2023'!H:H,A7,'Březen 2023'!F:F,$D$3) -> 0 | E7: =COUNTIF('Říjen 2021'!H:H,A7)+COUNTIF('Listopad 2021'!H:H,A7)+COUNTIF('Prosinec 2021'!H:H,A7)+COUNTIF('Leden 2022'!H:H,A7)+COUNTIF('Únor 2022'!H:H,A7)+COUNTIF('Březen 2022'!H:H,A7)+COUNTIF('Duben 2022'!H:H,A7)+COUNTIF('Květen 2022'!H:H,A7)+COUNTIF('Červen 2022'!H:H,A7)+COUNTIF('Červenec 2022'!H:H,A7)+COUNTIF('Srpen 2022'!H:H,A7)+COUNTIF('Září 2022'!H:H,A7)+COUNTIF('Říjen 2022'!H:H,A7)+COUNTIF('Listopad 2022'!H:H,A7)+COUNTIF('Prosinec 2022'!H:H,A7)+COUNTIF('Leden 2023'!H:H,A7)+COUNTIF('Únor 2023'!H:H,A7)+COUNTIF('Březen 2023'!H:H,A7) -> 130
A8: Doly 2 | B8: =COUNTIFS('Říjen 2021'!H:H,A8,'Říjen 2021'!F:F,$B$3)+COUNTIFS('Listopad 2021'!H:H,A8,'Listopad 2021'!F:F,$B$3)+COUNTIFS('Prosinec 2021'!H:H,A8,'Prosinec 2021'!F:F,$B$3)+COUNTIFS('Leden 2022'!H:H,A8,'Leden 2022'!F:F,$B$3)+COUNTIFS('Únor 2022'!H:H,A8,'Únor 2022'!F:F,$B$3)+COUNTIFS('Březen 2022'!H:H,A8,'Březen 2022'!F:F,$B$3)+COUNTIFS('Duben 2022'!H:H,A8,'Duben 2022'!F:F,$B$3)+COUNTIFS('Květen 2022'!H:H,A8,'Květen 2022'!F:F,$B$3)+COUNTIFS('Červen 2022'!H:H,A8,'Červen 2022'!F:F,$B$3)+COUNTIFS('Červenec 2022'!H:H,A8,'Červenec 2022'!F:F,$B$3)+COUNTIFS('Srpen 2022'!H:H,A8,'Srpen 2022'!F:F,$B$3)+COUNTIFS('Září 2022'!H:H,A8,'Září 2022'!F:F,$B$3)+COUNTIFS('Říjen 2022'!H:H,A8,'Říjen 2022'!F:F,$B$3)+COUNTIFS('Listopad 2022'!H:H,A8,'Listopad 2022'!F:F,$B$3)+COUNTIFS('Prosinec 2022'!H:H,A8,'Prosinec 2022'!F:F,$B$3)+COUNTIFS('Leden 2023'!H:H,A8,'Leden 2023'!F:F,$B$3)+COUNTIFS('Únor 2023'!H:H,A8,'Únor 2023'!F:F,$B$3)+COUNTIFS('Březen 2023'!H:H,A8,'Březen 2023'!F:F,$B$3) -> 69 | C8: =COUNTIFS('Říjen 2021'!H:H,A8,'Říjen 2021'!F:F,$C$3)+COUNTIFS('Listopad 2021'!H:H,A8,'Listopad 2021'!F:F,$C$3)+COUNTIFS('Prosinec 2021'!H:H,A8,'Prosinec 2021'!F:F,$C$3)+COUNTIFS('Leden 2022'!H:H,A8,'Leden 2022'!F:F,$C$3)+COUNTIFS('Únor 2022'!H:H,A8,'Únor 2022'!F:F,$C$3)+COUNTIFS('Březen 2022'!H:H,A8,'Březen 2022'!F:F,$C$3)+COUNTIFS('Duben 2022'!H:H,A8,'Duben 2022'!F:F,$C$3)+COUNTIFS('Květen 2022'!H:H,A8,'Květen 2022'!F:F,$C$3)+COUNTIFS('Červen 2022'!H:H,A8,'Červen 2022'!F:F,$C$3)+COUNTIFS('Červenec 2022'!H:H,A8,'Červenec 2022'!F:F,$C$3)+COUNTIFS('Srpen 2022'!H:H,A8,'Srpen 2022'!F:F,$C$3)+COUNTIFS('Září 2022'!H:H,A8,'Září 2022'!F:F,$C$3)+COUNTIFS('Říjen 2022'!H:H,A8,'Říjen 2022'!F:F,$C$3)+COUNTIFS('Listopad 2022'!H:H,A8,'Listopad 2022'!F:F,$C$3)+COUNTIFS('Prosinec 2022'!H:H,A8,'Prosinec 2022'!F:F,$C$3)+COUNTIFS('Leden 2023'!H:H,A8,'Leden 2023'!F:F,$C$3)+COUNTIFS('Únor 2023'!H:H,A8,'Únor 2023'!F:F,$C$3)+COUNTIFS('Březen 2023'!H:H,A8,'Březen 2023'!F:F,$C$3) -> 63 | D8: =COUNTIFS('Říjen 2021'!H:H,A8,'Říjen 2021'!F:F,$D$3)+COUNTIFS('Listopad 2021'!H:H,A8,'Listopad 2021'!F:F,$D$3)+COUNTIFS('Prosinec 2021'!H:H,A8,'Prosinec 2021'!F:F,$D$3)+COUNTIFS('Leden 2022'!H:H,A8,'Leden 2022'!F:F,$D$3)+COUNTIFS('Únor 2022'!H:H,A8,'Únor 2022'!F:F,$D$3)+COUNTIFS('Březen 2022'!H:H,A8,'Březen 2022'!F:F,$D$3)+COUNTIFS('Duben 2022'!H:H,A8,'Duben 2022'!F:F,$D$3)+COUNTIFS('Květen 2022'!H:H,A8,'Květen 2022'!F:F,$D$3)+COUNTIFS('Červen 2022'!H:H,A8,'Červen 2022'!F:F,$D$3)+COUNTIFS('Červenec 2022'!H:H,A8,'Červenec 2022'!F:F,$D$3)+COUNTIFS('Srpen 2022'!H:H,A8,'Srpen 2022'!F:F,$D$3)+COUNTIFS('Září 2022'!H:H,A8,'Září 2022'!F:F,$D$3)+COUNTIFS('Říjen 2022'!H:H,A8,'Říjen 2022'!F:F,$D$3)+COUNTIFS('Listopad 2022'!H:H,A8,'Listopad 2022'!F:F,$D$3)+COUNTIFS('Prosinec 2022'!H:H,A8,'Prosinec 2022'!F:F,$D$3)+COUNTIFS('Leden 2023'!H:H,A8,'Leden 2023'!F:F,$D$3)+COUNTIFS('Únor 2023'!H:H,A8,'Únor 2023'!F:F,$D$3)+COUNTIFS('Březen 2023'!H:H,A8,'Březen 2023'!F:F,$D$3) -> 0 | E8: =COUNTIF('Říjen 2021'!H:H,A8)+COUNTIF('Listopad 2021'!H:H,A8)+COUNTIF('Prosinec 2021'!H:H,A8)+COUNTIF('Leden 2022'!H:H,A8)+COUNTIF('Únor 2022'!H:H,A8)+COUNTIF('Březen 2022'!H:H,A8)+COUNTIF('Duben 2022'!H:H,A8)+COUNTIF('Květen 2022'!H:H,A8)+COUNTIF('Červen 2022'!H:H,A8)+COUNTIF('Červenec 2022'!H:H,A8)+COUNTIF('Srpen 2022'!H:H,A8)+COUNTIF('Září 2022'!H:H,A8)+COUNTIF('Říjen 2022'!H:H,A8)+COUNTIF('Listopad 2022'!H:H,A8)+COUNTIF('Prosinec 2022'!H:H,A8)+COUNTIF('Leden 2023'!H:H,A8)+COUNTIF('Únor 2023'!H:H,A8)+COUNTIF('Březen 2023'!H:H,A8) -> 132
A9: Dubový lesík 1 | B9: =COUNTIFS('Říjen 2021'!H:H,A9,'Říjen 2021'!F:F,$B$3)+COUNTIFS('Listopad 2021'!H:H,A9,'Listopad 2021'!F:F,$B$3)+COUNTIFS('Prosinec 2021'!H:H,A9,'Prosinec 2021'!F:F,$B$3)+COUNTIFS('Leden 2022'!H:H,A9,'Leden 2022'!F:F,$B$3)+COUNTIFS('Únor 2022'!H:H,A9,'Únor 2022'!F:F,$B$3)+COUNTIFS('Březen 2022'!H:H,A9,'Březen 2022'!F:F,$B$3)+COUNTIFS('Duben 2022'!H:H,A9,'Duben 2022'!F:F,$B$3)+COUNTIFS('Květen 2022'!H:H,A9,'Květen 2022'!F:F,$B$3)+COUNTIFS('Červen 2022'!H:H,A9,'Červen 2022'!F:F,$B$3)+COUNTIFS('Červenec 2022'!H:H,A9,'Červenec 2022'!F:F,$B$3)+COUNTIFS('Srpen 2022'!H:H,A9,'Srpen 2022'!F:F,$B$3)+COUNTIFS('Září 2022'!H:H,A9,'Září 2022'!F:F,$B$3)+COUNTIFS('Říjen 2022'!H:H,A9,'Říjen 2022'!F:F,$B$3)+COUNTIFS('Listopad 2022'!H:H,A9,'Listopad 2022'!F:F,$B$3)+COUNTIFS('Prosinec 2022'!H:H,A9,'Prosinec 2022'!F:F,$B$3)+COUNTIFS('Leden 2023'!H:H,A9,'Leden 2023'!F:F,$B$3)+COUNTIFS('Únor 2023'!H:H,A9,'Únor 2023'!F:F,$B$3)+COUNTIFS('Březen 2023'!H:H,A9,'Březen 2023'!F:F,$B$3) -> 51 | C9: =COUNTIFS('Říjen 2021'!H:H,A9,'Říjen 2021'!F:F,$C$3)+COUNTIFS('Listopad 2021'!H:H,A9,'Listopad 2021'!F:F,$C$3)+COUNTIFS('Prosinec 2021'!H:H,A9,'Prosinec 2021'!F:F,$C$3)+COUNTIFS('Leden 2022'!H:H,A9,'Leden 2022'!F:F,$C$3)+COUNTIFS('Únor 2022'!H:H,A9,'Únor 2022'!F:F,$C$3)+COUNTIFS('Březen 2022'!H:H,A9,'Březen 2022'!F:F,$C$3)+COUNTIFS('Duben 2022'!H:H,A9,'Duben 2022'!F:F,$C$3)+COUNTIFS('Květen 2022'!H:H,A9,'Květen 2022'!F:F,$C$3)+COUNTIFS('Červen 2022'!H:H,A9,'Červen 2022'!F:F,$C$3)+COUNTIFS('Červenec 2022'!H:H,A9,'Červenec 2022'!F:F,$C$3)+COUNTIFS('Srpen 2022'!H:H,A9,'Srpen 2022'!F:F,$C$3)+COUNTIFS('Září 2022'!H:H,A9,'Září 2022'!F:F,$C$3)+COUNTIFS('Říjen 2022'!H:H,A9,'Říjen 2022'!F:F,$C$3)+COUNTIFS('Listopad 2022'!H:H,A9,'Listopad 2022'!F:F,$C$3)+COUNTIFS('Prosinec 2022'!H:H,A9,'Prosinec 2022'!F:F,$C$3)+COUNTIFS('Leden 2023'!H:H,A9,'Leden 2023'!F:F,$C$3)+COUNTIFS('Únor 2023'!H:H,A9,'Únor 2023'!F:F,$C$3)+COUNTIFS('Březen 2023'!H:H,A9,'Březen 2023'!F:F,$C$3) -> 42 | D9: =COUNTIFS('Říjen 2021'!H:H,A9,'Říjen 2021'!F:F,$D$3)+COUNTIFS('Listopad 2021'!H:H,A9,'Listopad 2021'!F:F,$D$3)+COUNTIFS('Prosinec 2021'!H:H,A9,'Prosinec 2021'!F:F,$D$3)+COUNTIFS('Leden 2022'!H:H,A9,'Leden 2022'!F:F,$D$3)+COUNTIFS('Únor 2022'!H:H,A9,'Únor 2022'!F:F,$D$3)+COUNTIFS('Březen 2022'!H:H,A9,'Březen 2022'!F:F,$D$3)+COUNTIFS('Duben 2022'!H:H,A9,'Duben 2022'!F:F,$D$3)+COUNTIFS('Květen 2022'!H:H,A9,'Květen 2022'!F:F,$D$3)+COUNTIFS('Červen 2022'!H:H,A9,'Červen 2022'!F:F,$D$3)+COUNTIFS('Červenec 2022'!H:H,A9,'Červenec 2022'!F:F,$D$3)+COUNTIFS('Srpen 2022'!H:H,A9,'Srpen 2022'!F:F,$D$3)+COUNTIFS('Září 2022'!H:H,A9,'Září 2022'!F:F,$D$3)+COUNTIFS('Říjen 2022'!H:H,A9,'Říjen 2022'!F:F,$D$3)+COUNTIFS('Listopad 2022'!H:H,A9,'Listopad 2022'!F:F,$D$3)+COUNTIFS('Prosinec 2022'!H:H,A9,'Prosinec 2022'!F:F,$D$3)+COUNTIFS('Leden 2023'!H:H,A9,'Leden 2023'!F:F,$D$3)+COUNTIFS('Únor 2023'!H:H,A9,'Únor 2023'!F:F,$D$3)+COUNTIFS('Březen 2023'!H:H,A9,'Březen 2023'!F:F,$D$3) -> 2 | E9: =COUNTIF('Říjen 2021'!H:H,A9)+COUNTIF('Listopad 2021'!H:H,A9)+COUNTIF('Prosinec 2021'!H:H,A9)+COUNTIF('Leden 2022'!H:H,A9)+COUNTIF('Únor 2022'!H:H,A9)+COUNTIF('Březen 2022'!H:H,A9)+COUNTIF('Duben 2022'!H:H,A9)+COUNTIF('Květen 2022'!H:H,A9)+COUNTIF('Červen 2022'!H:H,A9)+COUNTIF('Červenec 2022'!H:H,A9)+COUNTIF('Srpen 2022'!H:H,A9)+COUNTIF('Září 2022'!H:H,A9)+COUNTIF('Říjen 2022'!H:H,A9)+COUNTIF('Listopad 2022'!H:H,A9)+COUNTIF('Prosinec 2022'!H:H,A9)+COUNTIF('Leden 2023'!H:H,A9)+COUNTIF('Únor 2023'!H:H,A9)+COUNTIF('Březen 2023'!H:H,A9) -> 95
A10: Dubový lesík 2 | B10: =COUNTIFS('Říjen 2021'!H:H,A10,'Říjen 2021'!F:F,$B$3)+COUNTIFS('Listopad 2021'!H:H,A10,'Listopad 2021'!F:F,$B$3)+COUNTIFS('Prosinec 2021'!H:H,A10,'Prosinec 2021'!F:F,$B$3)+COUNTIFS('Leden 2022'!H:H,A10,'Leden 2022'!F:F,$B$3)+COUNTIFS('Únor 2022'!H:H,A10,'Únor 2022'!F:F,$B$3)+COUNTIFS('Březen 2022'!H:H,A10,'Březen 2022'!F:F,$B$3)+COUNTIFS('Duben 2022'!H:H,A10,'Duben 2022'!F:F,$B$3)+COUNTIFS('Květen 2022'!H:H,A10,'Květen 2022'!F:F,$B$3)+COUNTIFS('Červen 2022'!H:H,A10,'Červen 2022'!F:F,$B$3)+COUNTIFS('Červenec 2022'!H:H,A10,'Červenec 2022'!F:F,$B$3)+COUNTIFS('Srpen 2022'!H:H,A10,'Srpen 2022'!F:F,$B$3)+COUNTIFS('Září 2022'!H:H,A10,'Září 2022'!F:F,$B$3)+COUNTIFS('Říjen 2022'!H:H,A10,'Říjen 2022'!F:F,$B$3)+COUNTIFS('Listopad 2022'!H:H,A10,'Listopad 2022'!F:F,$B$3)+COUNTIFS('Prosinec 2022'!H:H,A10,'Prosinec 2022'!F:F,$B$3)+COUNTIFS('Leden 2023'!H:H,A10,'Leden 2023'!F:F,$B$3)+COUNTIFS('Únor 2023'!H:H,A10,'Únor 2023'!F:F,$B$3)+COUNTIFS('Březen 2023'!H:H,A10,'Březen 2023'!F:F,$B$3) -> 50 | C10: =COUNTIFS('Říjen 2021'!H:H,A10,'Říjen 2021'!F:F,$C$3)+COUNTIFS('Listopad 2021'!H:H,A10,'Listopad 2021'!F:F,$C$3)+COUNTIFS('Prosinec 2021'!H:H,A10,'Prosinec 2021'!F:F,$C$3)+COUNTIFS('Leden 2022'!H:H,A10,'Leden 2022'!F:F,$C$3)+COUNTIFS('Únor 2022'!H:H,A10,'Únor 2022'!F:F,$C$3)+COUNTIFS('Březen 2022'!H:H,A10,'Březen 2022'!F:F,$C$3)+COUNTIFS('Duben 2022'!H:H,A10,'Duben 2022'!F:F,$C$3)+COUNTIFS('Květen 2022'!H:H,A10,'Květen 2022'!F:F,$C$3)+COUNTIFS('Červen 2022'!H:H,A10,'Červen 2022'!F:F,$C$3)+COUNTIFS('Červenec 2022'!H:H,A10,'Červenec 2022'!F:F,$C$3)+COUNTIFS('Srpen 2022'!H:H,A10,'Srpen 2022'!F:F,$C$3)+COUNTIFS('Září 2022'!H:H,A10,'Září 2022'!F:F,$C$3)+COUNTIFS('Říjen 2022'!H:H,A10,'Říjen 2022'!F:F,$C$3)+COUNTIFS('Listopad 2022'!H:H,A10,'Listopad 2022'!F:F,$C$3)+COUNTIFS('Prosinec 2022'!H:H,A10,'Prosinec 2022'!F:F,$C$3)+COUNTIFS('Leden 2023'!H:H,A10,'Leden 2023'!F:F,$C$3)+COUNTIFS('Únor 2023'!H:H,A10,'Únor 2023'!F:F,$C$3)+COUNTIFS('Březen 2023'!H:H,A10,'Březen 2023'!F:F,$C$3) -> 44 | D10: =COUNTIFS('Říjen 2021'!H:H,A10,'Říjen 2021'!F:F,$D$3)+COUNTIFS('Listopad 2021'!H:H,A10,'Listopad 2021'!F:F,$D$3)+COUNTIFS('Prosinec 2021'!H:H,A10,'Prosinec 2021'!F:F,$D$3)+COUNTIFS('Leden 2022'!H:H,A10,'Leden 2022'!F:F,$D$3)+COUNTIFS('Únor 2022'!H:H,A10,'Únor 2022'!F:F,$D$3)+COUNTIFS('Březen 2022'!H:H,A10,'Březen 2022'!F:F,$D$3)+COUNTIFS('Duben 2022'!H:H,A10,'Duben 2022'!F:F,$D$3)+COUNTIFS('Květen 2022'!H:H,A10,'Květen 2022'!F:F,$D$3)+COUNTIFS('Červen 2022'!H:H,A10,'Červen 2022'!F:F,$D$3)+COUNTIFS('Červenec 2022'!H:H,A10,'Červenec 2022'!F:F,$D$3)+COUNTIFS('Srpen 2022'!H:H,A10,'Srpen 2022'!F:F,$D$3)+COUNTIFS('Září 2022'!H:H,A10,'Září 2022'!F:F,$D$3)+COUNTIFS('Říjen 2022'!H:H,A10,'Říjen 2022'!F:F,$D$3)+COUNTIFS('Listopad 2022'!H:H,A10,'Listopad 2022'!F:F,$D$3)+COUNTIFS('Prosinec 2022'!H:H,A10,'Prosinec 2022'!F:F,$D$3)+COUNTIFS('Leden 2023'!H:H,A10,'Leden 2023'!F:F,$D$3)+COUNTIFS('Únor 2023'!H:H,A10,'Únor 2023'!F:F,$D$3)+COUNTIFS('Březen 2023'!H:H,A10,'Březen 2023'!F:F,$D$3) -> 2 | E10: =COUNTIF('Říjen 2021'!H:H,A10)+COUNTIF('Listopad 2021'!H:H,A10)+COUNTIF('Prosinec 2021'!H:H,A10)+COUNTIF('Leden 2022'!H:H,A10)+COUNTIF('Únor 2022'!H:H,A10)+COUNTIF('Březen 2022'!H:H,A10)+COUNTIF('Duben 2022'!H:H,A10)+COUNTIF('Květen 2022'!H:H,A10)+COUNTIF('Červen 2022'!H:H,A10)+COUNTIF('Červenec 2022'!H:H,A10)+COUNTIF('Srpen 2022'!H:H,A10)+COUNTIF('Září 2022'!H:H,A10)+COUNTIF('Říjen 2022'!H:H,A10)+COUNTIF('Listopad 2022'!H:H,A10)+COUNTIF('Prosinec 2022'!H:H,A10)+COUNTIF('Leden 2023'!H:H,A10)+COUNTIF('Únor 2023'!H:H,A10)+COUNTIF('Březen 2023'!H:H,A10) -> 96
A11: Ensk 1 | B11: =COUNTIFS('Říjen 2021'!H:H,A11,'Říjen 2021'!F:F,$B$3)+COUNTIFS('Listopad 2021'!H:H,A11,'Listopad 2021'!F:F,$B$3)+COUNTIFS('Prosinec 2021'!H:H,A11,'Prosinec 2021'!F:F,$B$3)+COUNTIFS('Leden 2022'!H:H,A11,'Leden 2022'!F:F,$B$3)+COUNTIFS('Únor 2022'!H:H,A11,'Únor 2022'!F:F,$B$3)+COUNTIFS('Březen 2022'!H:H,A11,'Březen 2022'!F:F,$B$3)+COUNTIFS('Duben 2022'!H:H,A11,'Duben 2022'!F:F,$B$3)+COUNTIFS('Květen 2022'!H:H,A11,'Květen 2022'!F:F,$B$3)+COUNTIFS('Červen 2022'!H:H,A11,'Červen 2022'!F:F,$B$3)+COUNTIFS('Červenec 2022'!H:H,A11,'Červenec 2022'!F:F,$B$3)+COUNTIFS('Srpen 2022'!H:H,A11,'Srpen 2022'!F:F,$B$3)+COUNTIFS('Září 2022'!H:H,A11,'Září 2022'!F:F,$B$3)+COUNTIFS('Říjen 2022'!H:H,A11,'Říjen 2022'!F:F,$B$3)+COUNTIFS('Listopad 2022'!H:H,A11,'Listopad 2022'!F:F,$B$3)+COUNTIFS('Prosinec 2022'!H:H,A11,'Prosinec 2022'!F:F,$B$3)+COUNTIFS('Leden 2023'!H:H,A11,'Leden 2023'!F:F,$B$3)+COUNTIFS('Únor 2023'!H:H,A11,'Únor 2023'!F:F,$B$3)+COUNTIFS('Březen 2023'!H:H,A11,'Březen 2023'!F:F,$B$3) -> 37 | C11: =COUNTIFS('Říjen 2021'!H:H,A11,'Říjen 2021'!F:F,$C$3)+COUNTIFS('Listopad 2021'!H:H,A11,'Listopad 2021'!F:F,$C$3)+COUNTIFS('Prosinec 2021'!H:H,A11,'Prosinec 2021'!F:F,$C$3)+COUNTIFS('Leden 2022'!H:H,A11,'Leden 2022'!F:F,$C$3)+COUNTIFS('Únor 2022'!H:H,A11,'Únor 2022'!F:F,$C$3)+COUNTIFS('Březen 2022'!H:H,A11,'Březen 2022'!F:F,$C$3)+COUNTIFS('Duben 2022'!H:H,A11,'Duben 2022'!F:F,$C$3)+COUNTIFS('Květen 2022'!H:H,A11,'Květen 2022'!F:F,$C$3)+COUNTIFS('Červen 2022'!H:H,A11,'Červen 2022'!F:F,$C$3)+COUNTIFS('Červenec 2022'!H:H,A11,'Červenec 2022'!F:F,$C$3)+COUNTIFS('Srpen 2022'!H:H,A11,'Srpen 2022'!F:F,$C$3)+COUNTIFS('Září 2022'!H:H,A11,'Září 2022'!F:F,$C$3)+COUNTIFS('Říjen 2022'!H:H,A11,'Říjen 2022'!F:F,$C$3)+COUNTIFS('Listopad 2022'!H:H,A11,'Listopad 2022'!F:F,$C$3)+COUNTIFS('Prosinec 2022'!H:H,A11,'Prosinec 2022'!F:F,$C$3)+COUNTIFS('Leden 2023'!H:H,A11,'Leden 2023'!F:F,$C$3)+COUNTIFS('Únor 2023'!H:H,A11,'Únor 2023'!F:F,$C$3)+COUNTIFS('Březen 2023'!H:H,A11,'Březen 2023'!F:F,$C$3) -> 47 | D11: =COUNTIFS('Říjen 2021'!H:H,A11,'Říjen 2021'!F:F,$D$3)+COUNTIFS('Listopad 2021'!H:H,A11,'Listopad 2021'!F:F,$D$3)+COUNTIFS('Prosinec 2021'!H:H,A11,'Prosinec 2021'!F:F,$D$3)+COUNTIFS('Leden 2022'!H:H,A11,'Leden 2022'!F:F,$D$3)+COUNTIFS('Únor 2022'!H:H,A11,'Únor 2022'!F:F,$D$3)+COUNTIFS('Březen 2022'!H:H,A11,'Březen 2022'!F:F,$D$3)+COUNTIFS('Duben 2022'!H:H,A11,'Duben 2022'!F:F,$D$3)+COUNTIFS('Květen 2022'!H:H,A11,'Květen 2022'!F:F,$D$3)+COUNTIFS('Červen 2022'!H:H,A11,'Červen 2022'!F:F,$D$3)+COUNTIFS('Červenec 2022'!H:H,A11,'Červenec 2022'!F:F,$D$3)+COUNTIFS('Srpen 2022'!H:H,A11,'Srpen 2022'!F:F,$D$3)+COUNTIFS('Září 2022'!H:H,A11,'Září 2022'!F:F,$D$3)+COUNTIFS('Říjen 2022'!H:H,A11,'Říjen 2022'!F:F,$D$3)+COUNTIFS('Listopad 2022'!H:H,A11,'Listopad 2022'!F:F,$D$3)+COUNTIFS('Prosinec 2022'!H:H,A11,'Prosinec 2022'!F:F,$D$3)+COUNTIFS('Leden 2023'!H:H,A11,'Leden 2023'!F:F,$D$3)+COUNTIFS('Únor 2023'!H:H,A11,'Únor 2023'!F:F,$D$3)+COUNTIFS('Březen 2023'!H:H,A11,'Březen 2023'!F:F,$D$3) -> 1 | E11: =COUNTIF('Říjen 2021'!H:H,A11)+COUNTIF('Listopad 2021'!H:H,A11)+COUNTIF('Prosinec 2021'!H:H,A11)+COUNTIF('Leden 2022'!H:H,A11)+COUNTIF('Únor 2022'!H:H,A11)+COUNTIF('Březen 2022'!H:H,A11)+COUNTIF('Duben 2022'!H:H,A11)+COUNTIF('Květen 2022'!H:H,A11)+COUNTIF('Červen 2022'!H:H,A11)+COUNTIF('Červenec 2022'!H:H,A11)+COUNTIF('Srpen 2022'!H:H,A11)+COUNTIF('Září 2022'!H:H,A11)+COUNTIF('Říjen 2022'!H:H,A11)+COUNTIF('Listopad 2022'!H:H,A11)+COUNTIF('Prosinec 2022'!H:H,A11)+COUNTIF('Leden 2023'!H:H,A11)+COUNTIF('Únor 2023'!H:H,A11)+COUNTIF('Březen 2023'!H:H,A11) -> 85
A12: Ensk 2 | B12: =COUNTIFS('Říjen 2021'!H:H,A12,'Říjen 2021'!F:F,$B$3)+COUNTIFS('Listopad 2021'!H:H,A12,'Listopad 2021'!F:F,$B$3)+COUNTIFS('Prosinec 2021'!H:H,A12,'Prosinec 2021'!F:F,$B$3)+COUNTIFS('Leden 2022'!H:H,A12,'Leden 2022'!F:F,$B$3)+COUNTIFS('Únor 2022'!H:H,A12,'Únor 2022'!F:F,$B$3)+COUNTIFS('Březen 2022'!H:H,A12,'Březen 2022'!F:F,$B$3)+COUNTIFS('Duben 2022'!H:H,A12,'Duben 2022'!F:F,$B$3)+COUNTIFS('Květen 2022'!H:H,A12,'Květen 2022'!F:F,$B$3)+COUNTIFS('Červen 2022'!H:H,A12,'Červen 2022'!F:F,$B$3)+COUNTIFS('Červenec 2022'!H:H,A12,'Červenec 2022'!F:F,$B$3)+COUNTIFS('Srpen 2022'!H:H,A12,'Srpen 2022'!F:F,$B$3)+COUNTIFS('Září 2022'!H:H,A12,'Září 2022'!F:F,$B$3)+COUNTIFS('Říjen 2022'!H:H,A12,'Říjen 2022'!F:F,$B$3)+COUNTIFS('Listopad 2022'!H:H,A12,'Listopad 2022'!F:F,$B$3)+COUNTIFS('Prosinec 2022'!H:H,A12,'Prosinec 2022'!F:F,$B$3)+COUNTIFS('Leden 2023'!H:H,A12,'Leden 2023'!F:F,$B$3)+COUNTIFS('Únor 2023'!H:H,A12,'Únor 2023'!F:F,$B$3)+COUNTIFS('Březen 2023'!H:H,A12,'Březen 2023'!F:F,$B$3) -> 38 | C12: =COUNTIFS('Říjen 2021'!H:H,A12,'Říjen 2021'!F:F,$C$3)+COUNTIFS('Listopad 2021'!H:H,A12,'Listopad 2021'!F:F,$C$3)+COUNTIFS('Prosinec 2021'!H:H,A12,'Prosinec 2021'!F:F,$C$3)+COUNTIFS('Leden 2022'!H:H,A12,'Leden 2022'!F:F,$C$3)+COUNTIFS('Únor 2022'!H:H,A12,'Únor 2022'!F:F,$C$3)+COUNTIFS('Březen 2022'!H:H,A12,'Březen 2022'!F:F,$C$3)+COUNTIFS('Duben 2022'!H:H,A12,'Duben 2022'!F:F,$C$3)+COUNTIFS('Květen 2022'!H:H,A12,'Květen 2022'!F:F,$C$3)+COUNTIFS('Červen 2022'!H:H,A12,'Červen 2022'!F:F,$C$3)+COUNTIFS('Červenec 2022'!H:H,A12,'Červenec 2022'!F:F,$C$3)+COUNTIFS('Srpen 2022'!H:H,A12,'Srpen 2022'!F:F,$C$3)+COUNTIFS('Září 2022'!H:H,A12,'Září 2022'!F:F,$C$3)+COUNTIFS('Říjen 2022'!H:H,A12,'Říjen 2022'!F:F,$C$3)+COUNTIFS('Listopad 2022'!H:H,A12,'Listopad 2022'!F:F,$C$3)+COUNTIFS('Prosinec 2022'!H:H,A12,'Prosinec 2022'!F:F,$C$3)+COUNTIFS('Leden 2023'!H:H,A12,'Leden 2023'!F:F,$C$3)+COUNTIFS('Únor 2023'!H:H,A12,'Únor 2023'!F:F,$C$3)+COUNTIFS('Březen 2023'!H:H,A12,'Březen 2023'!F:F,$C$3) -> 46 | D12: =COUNTIFS('Říjen 2021'!H:H,A12,'Říjen 2021'!F:F,$D$3)+COUNTIFS('Listopad 2021'!H:H,A12,'Listopad 2021'!F:F,$D$3)+COUNTIFS('Prosinec 2021'!H:H,A12,'Prosinec 2021'!F:F,$D$3)+COUNTIFS('Leden 2022'!H:H,A12,'Leden 2022'!F:F,$D$3)+COUNTIFS('Únor 2022'!H:H,A12,'Únor 2022'!F:F,$D$3)+COUNTIFS('Březen 2022'!H:H,A12,'Březen 2022'!F:F,$D$3)+COUNTIFS('Duben 2022'!H:H,A12,'Duben 2022'!F:F,$D$3)+COUNTIFS('Květen 2022'!H:H,A12,'Květen 2022'!F:F,$D$3)+COUNTIFS('Červen 2022'!H:H,A12,'Červen 2022'!F:F,$D$3)+COUNTIFS('Červenec 2022'!H:H,A12,'Červenec 2022'!F:F,$D$3)+COUNTIFS('Srpen 2022'!H:H,A12,'Srpen 2022'!F:F,$D$3)+COUNTIFS('Září 2022'!H:H,A12,'Září 2022'!F:F,$D$3)+COUNTIFS('Říjen 2022'!H:H,A12,'Říjen 2022'!F:F,$D$3)+COUNTIFS('Listopad 2022'!H:H,A12,'Listopad 2022'!F:F,$D$3)+COUNTIFS('Prosinec 2022'!H:H,A12,'Prosinec 2022'!F:F,$D$3)+COUNTIFS('Leden 2023'!H:H,A12,'Leden 2023'!F:F,$D$3)+COUNTIFS('Únor 2023'!H:H,A12,'Únor 2023'!F:F,$D$3)+COUNTIFS('Březen 2023'!H:H,A12,'Březen 2023'!F:F,$D$3) -> 0 | E12: =COUNTIF('Říjen 2021'!H:H,A12)+COUNTIF('Listopad 2021'!H:H,A12)+COUNTIF('Prosinec 2021'!H:H,A12)+COUNTIF('Leden 2022'!H:H,A12)+COUNTIF('Únor 2022'!H:H,A12)+COUNTIF('Březen 2022'!H:H,A12)+COUNTIF('Duben 2022'!H:H,A12)+COUNTIF('Květen 2022'!H:H,A12)+COUNTIF('Červen 2022'!H:H,A12)+COUNTIF('Červenec 2022'!H:H,A12)+COUNTIF('Srpen 2022'!H:H,A12)+COUNTIF('Září 2022'!H:H,A12)+COUNTIF('Říjen 2022'!H:H,A12)+COUNTIF('Listopad 2022'!H:H,A12)+COUNTIF('Prosinec 2022'!H:H,A12)+COUNTIF('Leden 2023'!H:H,A12)+COUNTIF('Únor 2023'!H:H,A12)+COUNTIF('Březen 2023'!H:H,A12) -> 84
A13: Himmelsdorf 1 | B13: =COUNTIFS('Říjen 2021'!H:H,A13,'Říjen 2021'!F:F,$B$3)+COUNTIFS('Listopad 2021'!H:H,A13,'Listopad 2021'!F:F,$B$3)+COUNTIFS('Prosinec 2021'!H:H,A13,'Prosinec 2021'!F:F,$B$3)+COUNTIFS('Leden 2022'!H:H,A13,'Leden 2022'!F:F,$B$3)+COUNTIFS('Únor 2022'!H:H,A13,'Únor 2022'!F:F,$B$3)+COUNTIFS('Březen 2022'!H:H,A13,'Březen 2022'!F:F,$B$3)+COUNTIFS('Duben 2022'!H:H,A13,'Duben 2022'!F:F,$B$3)+COUNTIFS('Květen 2022'!H:H,A13,'Květen 2022'!F:F,$B$3)+COUNTIFS('Červen 2022'!H:H,A13,'Červen 2022'!F:F,$B$3)+COUNTIFS('Červenec 2022'!H:H,A13,'Červenec 2022'!F:F,$B$3)+COUNTIFS('Srpen 2022'!H:H,A13,'Srpen 2022'!F:F,$B$3)+COUNTIFS('Září 2022'!H:H,A13,'Září 2022'!F:F,$B$3)+COUNTIFS('Říjen 2022'!H:H,A13,'Říjen 2022'!F:F,$B$3)+COUNTIFS('Listopad 2022'!H:H,A13,'Listopad 2022'!F:F,$B$3)+COUNTIFS('Prosinec 2022'!H:H,A13,'Prosinec 2022'!F:F,$B$3)+COUNTIFS('Leden 2023'!H:H,A13,'Leden 2023'!F:F,$B$3)+COUNTIFS('Únor 2023'!H:H,A13,'Únor 2023'!F:F,$B$3)+COUNTIFS('Březen 2023'!H:H,A13,'Březen 2023'!F:F,$B$3) -> 129 | C13: =COUNTIFS('Říjen 2021'!H:H,A13,'Říjen 2021'!F:F,$C$3)+COUNTIFS('Listopad 2021'!H:H,A13,'Listopad 2021'!F:F,$C$3)+COUNTIFS('Prosinec 2021'!H:H,A13,'Prosinec 2021'!F:F,$C$3)+COUNTIFS('Leden 2022'!H:H,A13,'Leden 2022'!F:F,$C$3)+COUNTIFS('Únor 2022'!H:H,A13,'Únor 2022'!F:F,$C$3)+COUNTIFS('Březen 2022'!H:H,A13,'Březen 2022'!F:F,$C$3)+COUNTIFS('Duben 2022'!H:H,A13,'Duben 2022'!F:F,$C$3)+COUNTIFS('Květen 2022'!H:H,A13,'Květen 2022'!F:F,$C$3)+COUNTIFS('Červen 2022'!H:H,A13,'Červen 2022'!F:F,$C$3)+COUNTIFS('Červenec 2022'!H:H,A13,'Červenec 2022'!F:F,$C$3)+COUNTIFS('Srpen 2022'!H:H,A13,'Srpen 2022'!F:F,$C$3)+COUNTIFS('Září 2022'!H:H,A13,'Září 2022'!F:F,$C$3)+COUNTIFS('Říjen 2022'!H:H,A13,'Říjen 2022'!F:F,$C$3)+COUNTIFS('Listopad 2022'!H:H,A13,'Listopad 2022'!F:F,$C$3)+COUNTIFS('Prosinec 2022'!H:H,A13,'Prosinec 2022'!F:F,$C$3)+COUNTIFS('Leden 2023'!H:H,A13,'Leden 2023'!F:F,$C$3)+COUNTIFS('Únor 2023'!H:H,A13,'Únor 2023'!F:F,$C$3)+COUNTIFS('Březen 2023'!H:H,A13,'Březen 2023'!F:F,$C$3) -> 120 | D13: =COUNTIFS('Říjen 2021'!H:H,A13,'Říjen 2021'!F:F,$D$3)+COUNTIFS('Listopad 2021'!H:H,A13,'Listopad 2021'!F:F,$D$3)+COUNTIFS('Prosinec 2021'!H:H,A13,'Prosinec 2021'!F:F,$D$3)+COUNTIFS('Leden 2022'!H:H,A13,'Leden 2022'!F:F,$D$3)+COUNTIFS('Únor 2022'!H:H,A13,'Únor 2022'!F:F,$D$3)+COUNTIFS('Březen 2022'!H:H,A13,'Březen 2022'!F:F,$D$3)+COUNTIFS('Duben 2022'!H:H,A13,'Duben 2022'!F:F,$D$3)+COUNTIFS('Květen 2022'!H:H,A13,'Květen 2022'!F:F,$D$3)+COUNTIFS('Červen 2022'!H:H,A13,'Červen 2022'!F:F,$D$3)+COUNTIFS('Červenec 2022'!H:H,A13,'Červenec 2022'!F:F,$D$3)+COUNTIFS('Srpen 2022'!H:H,A13,'Srpen 2022'!F:F,$D$3)+COUNTIFS('Září 2022'!H:H,A13,'Září 2022'!F:F,$D$3)+COUNTIFS('Říjen 2022'!H:H,A13,'Říjen 2022'!F:F,$D$3)+COUNTIFS('Listopad 2022'!H:H,A13,'Listopad 2022'!F:F,$D$3)+COUNTIFS('Prosinec 2022'!H:H,A13,'Prosinec 2022'!F:F,$D$3)+COUNTIFS('Leden 2023'!H:H,A13,'Leden 2023'!F:F,$D$3)+COUNTIFS('Únor 2023'!H:H,A13,'Únor 2023'!F:F,$D$3)+COUNTIFS('Březen 2023'!H:H,A13,'Březen 2023'!F:F,$D$3) -> 1 | E13: =COUNTIF('Říjen 2021'!H:H,A13)+COUNTIF('Listopad 2021'!H:H,A13)+COUNTIF('Prosinec 2021'!H:H,A13)+COUNTIF('Leden 2022'!H:H,A13)+COUNTIF('Únor 2022'!H:H,A13)+COUNTIF('Březen 2022'!H:H,A13)+COUNTIF('Duben 2022'!H:H,A13)+COUNTIF('Květen 2022'!H:H,A13)+COUNTIF('Červen 2022'!H:H,A13)+COUNTIF('Červenec 2022'!H:H,A13)+COUNTIF('Srpen 2022'!H:H,A13)+COUNTIF('Září 2022'!H:H,A13)+COUNTIF('Říjen 2022'!H:H,A13)+COUNTIF('Listopad 2022'!H:H,A13)+COUNTIF('Prosinec 2022'!H:H,A13)+COUNTIF('Leden 2023'!H:H,A13)+COUNTIF('Únor 2023'!H:H,A13)+COUNTIF('Březen 2023'!H:H,A13) -> 250
A14: Himmelsdorf 2 | B14: =COUNTIFS('Říjen 2021'!H:H,A14,'Říjen 2021'!F:F,$B$3)+COUNTIFS('Listopad 2021'!H:H,A14,'Listopad 2021'!F:F,$B$3)+COUNTIFS('Prosinec 2021'!H:H,A14,'Prosinec 2021'!F:F,$B$3)+COUNTIFS('Leden 2022'!H:H,A14,'Leden 2022'!F:F,$B$3)+COUNTIFS('Únor 2022'!H:H,A14,'Únor 2022'!F:F,$B$3)+COUNTIFS('Březen 2022'!H:H,A14,'Březen 2022'!F:F,$B$3)+COUNTIFS('Duben 2022'!H:H,A14,'Duben 2022'!F:F,$B$3)+COUNTIFS('Květen 2022'!H:H,A14,'Květen 2022'!F:F,$B$3)+COUNTIFS('Červen 2022'!H:H,A14,'Červen 2022'!F:F,$B$3)+COUNTIFS('Červenec 2022'!H:H,A14,'Červenec 2022'!F:F,$B$3)+COUNTIFS('Srpen 2022'!H:H,A14,'Srpen 2022'!F:F,$B$3)+COUNTIFS('Září 2022'!H:H,A14,'Září 2022'!F:F,$B$3)+COUNTIFS('Říjen 2022'!H:H,A14,'Říjen 2022'!F:F,$B$3)+COUNTIFS('Listopad 2022'!H:H,A14,'Listopad 2022'!F:F,$B$3)+COUNTIFS('Prosinec 2022'!H:H,A14,'Prosinec 2022'!F:F,$B$3)+COUNTIFS('Leden 2023'!H:H,A14,'Leden 2023'!F:F,$B$3)+COUNTIFS('Únor 2023'!H:H,A14,'Únor 2023'!F:F,$B$3)+COUNTIFS('Březen 2023'!H:H,A14,'Březen 2023'!F:F,$B$3) -> 130 | C14: =COUNTIFS('Říjen 2021'!H:H,A14,'Říjen 2021'!F:F,$C$3)+COUNTIFS('Listopad 2021'!H:H,A14,'Listopad 2021'!F:F,$C$3)+COUNTIFS('Prosinec 2021'!H:H,A14,'Prosinec 2021'!F:F,$C$3)+COUNTIFS('Leden 2022'!H:H,A14,'Leden 2022'!F:F,$C$3)+COUNTIFS('Únor 2022'!H:H,A14,'Únor 2022'!F:F,$C$3)+COUNTIFS('Březen 2022'!H:H,A14,'Březen 2022'!F:F,$C$3)+COUNTIFS('Duben 2022'!H:H,A14,'Duben 2022'!F:F,$C$3)+COUNTIFS('Květen 2022'!H:H,A14,'Květen 2022'!F:F,$C$3)+COUNTIFS('Červen 2022'!H:H,A14,'Červen 2022'!F:F,$C$3)+COUNTIFS('Červenec 2022'!H:H,A14,'Červenec 2022'!F:F,$C$3)+COUNTIFS('Srpen 2022'!H:H,A14,'Srpen 2022'!F:F,$C$3)+COUNTIFS('Září 2022'!H:H,A14,'Září 2022'!F:F,$C$3)+COUNTIFS('Říjen 2022'!H:H,A14,'Říjen 2022'!F:F,$C$3)+COUNTIFS('Listopad 2022'!H:H,A14,'Listopad 2022'!F:F,$C$3)+COUNTIFS('Prosinec 2022'!H:H,A14,'Prosinec 2022'!F:F,$C$3)+COUNTIFS('Leden 2023'!H:H,A14,'Leden 2023'!F:F,$C$3)+COUNTIFS('Únor 2023'!H:H,A14,'Únor 2023'!F:F,$C$3)+COUNTIFS('Březen 2023'!H:H,A14,'Březen 2023'!F:F,$C$3) -> 108 | D14: =COUNTIFS('Říjen 2021'!H:H,A14,'Říjen 2021'!F:F,$D$3)+COUNTIFS('Listopad 2021'!H:H,A14,'Listopad 2021'!F:F,$D$3)+COUNTIFS('Prosinec 2021'!H:H,A14,'Prosinec 2021'!F:F,$D$3)+COUNTIFS('Leden 2022'!H:H,A14,'Leden 2022'!F:F,$D$3)+COUNTIFS('Únor 2022'!H:H,A14,'Únor 2022'!F:F,$D$3)+COUNTIFS('Březen 2022'!H:H,A14,'Březen 2022'!F:F,$D$3)+COUNTIFS('Duben 2022'!H:H,A14,'Duben 2022'!F:F,$D$3)+COUNTIFS('Květen 2022'!H:H,A14,'Květen 2022'!F:F,$D$3)+COUNTIFS('Červen 2022'!H:H,A14,'Červen 2022'!F:F,$D$3)+COUNTIFS('Červenec 2022'!H:H,A14,'Červenec 2022'!F:F,$D$3)+COUNTIFS('Srpen 2022'!H:H,A14,'Srpen 2022'!F:F,$D$3)+COUNTIFS('Září 2022'!H:H,A14,'Září 2022'!F:F,$D$3)+COUNTIFS('Říjen 2022'!H:H,A14,'Říjen 2022'!F:F,$D$3)+COUNTIFS('Listopad 2022'!H:H,A14,'Listopad 2022'!F:F,$D$3)+COUNTIFS('Prosinec 2022'!H:H,A14,'Prosinec 2022'!F:F,$D$3)+COUNTIFS('Leden 2023'!H:H,A14,'Leden 2023'!F:F,$D$3)+COUNTIFS('Únor 2023'!H:H,A14,'Únor 2023'!F:F,$D$3)+COUNTIFS('Březen 2023'!H:H,A14,'Březen 2023'!F:F,$D$3) -> 4 | E14: =COUNTIF('Říjen 2021'!H:H,A14)+COUNTIF('Listopad 2021'!H:H,A14)+COUNTIF('Prosinec 2021'!H:H,A14)+COUNTIF('Leden 2022'!H:H,A14)+COUNTIF('Únor 2022'!H:H,A14)+COUNTIF('Březen 2022'!H:H,A14)+COUNTIF('Duben 2022'!H:H,A14)+COUNTIF('Květen 2022'!H:H,A14)+COUNTIF('Červen 2022'!H:H,A14)+COUNTIF('Červenec 2022'!H:H,A14)+COUNTIF('Srpen 2022'!H:H,A14)+COUNTIF('Září 2022'!H:H,A14)+COUNTIF('Říjen 2022'!H:H,A14)+COUNTIF('Listopad 2022'!H:H,A14)+COUNTIF('Prosinec 2022'!H:H,A14)+COUNTIF('Leden 2023'!H:H,A14)+COUNTIF('Únor 2023'!H:H,A14)+COUNTIF('Březen 2023'!H:H,A14) -> 242
A15: Karélie 1 | B15: =COUNTIFS('Říjen 2021'!H:H,A15,'Říjen 2021'!F:F,$B$3)+COUNTIFS('Listopad 2021'!H:H,A15,'Listopad 2021'!F:F,$B$3)+COUNTIFS('Prosinec 2021'!H:H,A15,'Prosinec 2021'!F:F,$B$3)+COUNTIFS('Leden 2022'!H:H,A15,'Leden 2022'!F:F,$B$3)+COUNTIFS('Únor 2022'!H:H,A15,'Únor 2022'!F:F,$B$3)+COUNTIFS('Březen 2022'!H:H,A15,'Březen 2022'!F:F,$B$3)+COUNTIFS('Duben 2022'!H:H,A15,'Duben 2022'!F:F,$B$3)+COUNTIFS('Květen 2022'!H:H,A15,'Květen 2022'!F:F,$B$3)+COUNTIFS('Červen 2022'!H:H,A15,'Červen 2022'!F:F,$B$3)+COUNTIFS('Červenec 2022'!H:H,A15,'Červenec 2022'!F:F,$B$3)+COUNTIFS('Srpen 2022'!H:H,A15,'Srpen 2022'!F:F,$B$3)+COUNTIFS('Září 2022'!H:H,A15,'Září 2022'!F:F,$B$3)+COUNTIFS('Říjen 2022'!H:H,A15,'Říjen 2022'!F:F,$B$3)+COUNTIFS('Listopad 2022'!H:H,A15,'Listopad 2022'!F:F,$B$3)+COUNTIFS('Prosinec 2022'!H:H,A15,'Prosinec 2022'!F:F,$B$3)+COUNTIFS('Leden 2023'!H:H,A15,'Leden 2023'!F:F,$B$3)+COUNTIFS('Únor 2023'!H:H,A15,'Únor 2023'!F:F,$B$3)+COUNTIFS('Březen 2023'!H:H,A15,'Březen 2023'!F:F,$B$3) -> 13 | C15: =COUNTIFS('Říjen 2021'!H:H,A15,'Říjen 2021'!F:F,$C$3)+COUNTIFS('Listopad 2021'!H:H,A15,'Listopad 2021'!F:F,$C$3)+COUNTIFS('Prosinec 2021'!H:H,A15,'Prosinec 2021'!F:F,$C$3)+COUNTIFS('Leden 2022'!H:H,A15,'Leden 2022'!F:F,$C$3)+COUNTIFS('Únor 2022'!H:H,A15,'Únor 2022'!F:F,$C$3)+COUNTIFS('Březen 2022'!H:H,A15,'Březen 2022'!F:F,$C$3)+COUNTIFS('Duben 2022'!H:H,A15,'Duben 2022'!F:F,$C$3)+COUNTIFS('Květen 2022'!H:H,A15,'Květen 2022'!F:F,$C$3)+COUNTIFS('Červen 2022'!H:H,A15,'Červen 2022'!F:F,$C$3)+COUNTIFS('Červenec 2022'!H:H,A15,'Červenec 2022'!F:F,$C$3)+COUNTIFS('Srpen 2022'!H:H,A15,'Srpen 2022'!F:F,$C$3)+COUNTIFS('Září 2022'!H:H,A15,'Září 2022'!F:F,$C$3)+COUNTIFS('Říjen 2022'!H:H,A15,'Říjen 2022'!F:F,$C$3)+COUNTIFS('Listopad 2022'!H:H,A15,'Listopad 2022'!F:F,$C$3)+COUNTIFS('Prosinec 2022'!H:H,A15,'Prosinec 2022'!F:F,$C$3)+COUNTIFS('Leden 2023'!H:H,A15,'Leden 2023'!F:F,$C$3)+COUNTIFS('Únor 2023'!H:H,A15,'Únor 2023'!F:F,$C$3)+COUNTIFS('Březen 2023'!H:H,A15,'Březen 2023'!F:F,$C$3) -> 14 | D15: =COUNTIFS('Říjen 2021'!H:H,A15,'Říjen 2021'!F:F,$D$3)+COUNTIFS('Listopad 2021'!H:H,A15,'Listopad 2021'!F:F,$D$3)+COUNTIFS('Prosinec 2021'!H:H,A15,'Prosinec 2021'!F:F,$D$3)+COUNTIFS('Leden 2022'!H:H,A15,'Leden 2022'!F:F,$D$3)+COUNTIFS('Únor 2022'!H:H,A15,'Únor 2022'!F:F,$D$3)+COUNTIFS('Březen 2022'!H:H,A15,'Březen 2022'!F:F,$D$3)+COUNTIFS('Duben 2022'!H:H,A15,'Duben 2022'!F:F,$D$3)+COUNTIFS('Květen 2022'!H:H,A15,'Květen 2022'!F:F,$D$3)+COUNTIFS('Červen 2022'!H:H,A15,'Červen 2022'!F:F,$D$3)+COUNTIFS('Červenec 2022'!H:H,A15,'Červenec 2022'!F:F,$D$3)+COUNTIFS('Srpen 2022'!H:H,A15,'Srpen 2022'!F:F,$D$3)+COUNTIFS('Září 2022'!H:H,A15,'Září 2022'!F:F,$D$3)+COUNTIFS('Říjen 2022'!H:H,A15,'Říjen 2022'!F:F,$D$3)+COUNTIFS('Listopad 2022'!H:H,A15,'Listopad 2022'!F:F,$D$3)+COUNTIFS('Prosinec 2022'!H:H,A15,'Prosinec 2022'!F:F,$D$3)+COUNTIFS('Leden 2023'!H:H,A15,'Leden 2023'!F:F,$D$3)+COUNTIFS('Únor 2023'!H:H,A15,'Únor 2023'!F:F,$D$3)+COUNTIFS('Březen 2023'!H:H,A15,'Březen 2023'!F:F,$D$3) -> 0 | E15: =COUNTIF('Říjen 2021'!H:H,A15)+COUNTIF('Listopad 2021'!H:H,A15)+COUNTIF('Prosinec 2021'!H:H,A15)+COUNTIF('Leden 2022'!H:H,A15)+COUNTIF('Únor 2022'!H:H,A15)+COUNTIF('Březen 2022'!H:H,A15)+COUNTIF('Duben 2022'!H:H,A15)+COUNTIF('Květen 2022'!H:H,A15)+COUNTIF('Červen 2022'!H:H,A15)+COUNTIF('Červenec 2022'!H:H,A15)+COUNTIF('Srpen 2022'!H:H,A15)+COUNTIF('Září 2022'!H:H,A15)+COUNTIF('Říjen 2022'!H:H,A15)+COUNTIF('Listopad 2022'!H:H,A15)+COUNTIF('Prosinec 2022'!H:H,A15)+COUNTIF('Leden 2023'!H:H,A15)+COUNTIF('Únor 2023'!H:H,A15)+COUNTIF('Březen 2023'!H:H,A15) -> 27
A16: Karélie 2 | B16: =COUNTIFS('Říjen 2021'!H:H,A16,'Říjen 2021'!F:F,$B$3)+COUNTIFS('Listopad 2021'!H:H,A16,'Listopad 2021'!F:F,$B$3)+COUNTIFS('Prosinec 2021'!H:H,A16,'Prosinec 2021'!F:F,$B$3)+COUNTIFS('Leden 2022'!H:H,A16,'Leden 2022'!F:F,$B$3)+COUNTIFS('Únor 2022'!H:H,A16,'Únor 2022'!F:F,$B$3)+COUNTIFS('Březen 2022'!H:H,A16,'Březen 2022'!F:F,$B$3)+COUNTIFS('Duben 2022'!H:H,A16,'Duben 2022'!F:F,$B$3)+COUNTIFS('Květen 2022'!H:H,A16,'Květen 2022'!F:F,$B$3)+COUNTIFS('Červen 2022'!H:H,A16,'Červen 2022'!F:F,$B$3)+COUNTIFS('Červenec 2022'!H:H,A16,'Červenec 2022'!F:F,$B$3)+COUNTIFS('Srpen 2022'!H:H,A16,'Srpen 2022'!F:F,$B$3)+COUNTIFS('Září 2022'!H:H,A16,'Září 2022'!F:F,$B$3)+COUNTIFS('Říjen 2022'!H:H,A16,'Říjen 2022'!F:F,$B$3)+COUNTIFS('Listopad 2022'!H:H,A16,'Listopad 2022'!F:F,$B$3)+COUNTIFS('Prosinec 2022'!H:H,A16,'Prosinec 2022'!F:F,$B$3)+COUNTIFS('Leden 2023'!H:H,A16,'Leden 2023'!F:F,$B$3)+COUNTIFS('Únor 2023'!H:H,A16,'Únor 2023'!F:F,$B$3)+COUNTIFS('Březen 2023'!H:H,A16,'Březen 2023'!F:F,$B$3) -> 13 | C16: =COUNTIFS('Říjen 2021'!H:H,A16,'Říjen 2021'!F:F,$C$3)+COUNTIFS('Listopad 2021'!H:H,A16,'Listopad 2021'!F:F,$C$3)+COUNTIFS('Prosinec 2021'!H:H,A16,'Prosinec 2021'!F:F,$C$3)+COUNTIFS('Leden 2022'!H:H,A16,'Leden 2022'!F:F,$C$3)+COUNTIFS('Únor 2022'!H:H,A16,'Únor 2022'!F:F,$C$3)+COUNTIFS('Březen 2022'!H:H,A16,'Březen 2022'!F:F,$C$3)+COUNTIFS('Duben 2022'!H:H,A16,'Duben 2022'!F:F,$C$3)+COUNTIFS('Květen 2022'!H:H,A16,'Květen 2022'!F:F,$C$3)+COUNTIFS('Červen 2022'!H:H,A16,'Červen 2022'!F:F,$C$3)+COUNTIFS('Červenec 2022'!H:H,A16,'Červenec 2022'!F:F,$C$3)+COUNTIFS('Srpen 2022'!H:H,A16,'Srpen 2022'!F:F,$C$3)+COUNTIFS('Září 2022'!H:H,A16,'Září 2022'!F:F,$C$3)+COUNTIFS('Říjen 2022'!H:H,A16,'Říjen 2022'!F:F,$C$3)+COUNTIFS('Listopad 2022'!H:H,A16,'Listopad 2022'!F:F,$C$3)+COUNTIFS('Prosinec 2022'!H:H,A16,'Prosinec 2022'!F:F,$C$3)+COUNTIFS('Leden 2023'!H:H,A16,'Leden 2023'!F:F,$C$3)+COUNTIFS('Únor 2023'!H:H,A16,'Únor 2023'!F:F,$C$3)+COUNTIFS('Březen 2023'!H:H,A16,'Březen 2023'!F:F,$C$3) -> 13 | D16: =COUNTIFS('Říjen 2021'!H:H,A16,'Říjen 2021'!F:F,$D$3)+COUNTIFS('Listopad 2021'!H:H,A16,'Listopad 2021'!F:F,$D$3)+COUNTIFS('Prosinec 2021'!H:H,A16,'Prosinec 2021'!F:F,$D$3)+COUNTIFS('Leden 2022'!H:H,A16,'Leden 2022'!F:F,$D$3)+COUNTIFS('Únor 2022'!H:H,A16,'Únor 2022'!F:F,$D$3)+COUNTIFS('Březen 2022'!H:H,A16,'Březen 2022'!F:F,$D$3)+COUNTIFS('Duben 2022'!H:H,A16,'Duben 2022'!F:F,$D$3)+COUNTIFS('Květen 2022'!H:H,A16,'Květen 2022'!F:F,$D$3)+COUNTIFS('Červen 2022'!H:H,A16,'Červen 2022'!F:F,$D$3)+COUNTIFS('Červenec 2022'!H:H,A16,'Červenec 2022'!F:F,$D$3)+COUNTIFS('Srpen 2022'!H:H,A16,'Srpen 2022'!F:F,$D$3)+COUNTIFS('Září 2022'!H:H,A16,'Září 2022'!F:F,$D$3)+COUNTIFS('Říjen 2022'!H:H,A16,'Říjen 2022'!F:F,$D$3)+COUNTIFS('Listopad 2022'!H:H,A16,'Listopad 2022'!F:F,$D$3)+COUNTIFS('Prosinec 2022'!H:H,A16,'Prosinec 2022'!F:F,$D$3)+COUNTIFS('Leden 2023'!H:H,A16,'Leden 2023'!F:F,$D$3)+COUNTIFS('Únor 2023'!H:H,A16,'Únor 2023'!F:F,$D$3)+COUNTIFS('Březen 2023'!H:H,A16,'Březen 2023'!F:F,$D$3) -> 1 | E16: =COUNTIF('Říjen 2021'!H:H,A16)+COUNTIF('Listopad 2021'!H:H,A16)+COUNTIF('Prosinec 2021'!H:H,A16)+COUNTIF('Leden 2022'!H:H,A16)+COUNTIF('Únor 2022'!H:H,A16)+COUNTIF('Březen 2022'!H:H,A16)+COUNTIF('Duben 2022'!H:H,A16)+COUNTIF('Květen 2022'!H:H,A16)+COUNTIF('Červen 2022'!H:H,A16)+COUNTIF('Červenec 2022'!H:H,A16)+COUNTIF('Srpen 2022'!H:H,A16)+COUNTIF('Září 2022'!H:H,A16)+COUNTIF('Říjen 2022'!H:H,A16)+COUNTIF('Listopad 2022'!H:H,A16)+COUNTIF('Prosinec 2022'!H:H,A16)+COUNTIF('Leden 2023'!H:H,A16)+COUNTIF('Únor 2023'!H:H,A16)+COUNTIF('Březen 2023'!H:H,A16) -> 27
A17: Klidné pobřeží 1 | B17: =COUNTIFS('Říjen 2021'!H:H,A17,'Říjen 2021'!F:F,$B$3)+COUNTIFS('Listopad 2021'!H:H,A17,'Listopad 2021'!F:F,$B$3)+COUNTIFS('Prosinec 2021'!H:H,A17,'Prosinec 2021'!F:F,$B$3)+COUNTIFS('Leden 2022'!H:H,A17,'Leden 2022'!F:F,$B$3)+COUNTIFS('Únor 2022'!H:H,A17,'Únor 2022'!F:F,$B$3)+COUNTIFS('Březen 2022'!H:H,A17,'Březen 2022'!F:F,$B$3)+COUNTIFS('Duben 2022'!H:H,A17,'Duben 2022'!F:F,$B$3)+COUNTIFS('Květen 2022'!H:H,A17,'Květen 2022'!F:F,$B$3)+COUNTIFS('Červen 2022'!H:H,A17,'Červen 2022'!F:F,$B$3)+COUNTIFS('Červenec 2022'!H:H,A17,'Červenec 2022'!F:F,$B$3)+COUNTIFS('Srpen 2022'!H:H,A17,'Srpen 2022'!F:F,$B$3)+COUNTIFS('Září 2022'!H:H,A17,'Září 2022'!F:F,$B$3)+COUNTIFS('Říjen 2022'!H:H,A17,'Říjen 2022'!F:F,$B$3)+COUNTIFS('Listopad 2022'!H:H,A17,'Listopad 2022'!F:F,$B$3)+COUNTIFS('Prosinec 2022'!H:H,A17,'Prosinec 2022'!F:F,$B$3)+COUNTIFS('Leden 2023'!H:H,A17,'Leden 2023'!F:F,$B$3)+COUNTIFS('Únor 2023'!H:H,A17,'Únor 2023'!F:F,$B$3)+COUNTIFS('Březen 2023'!H:H,A17,'Březen 2023'!F:F,$B$3) -> 29 | C17: =COUNTIFS('Říjen 2021'!H:H,A17,'Říjen 2021'!F:F,$C$3)+COUNTIFS('Listopad 2021'!H:H,A17,'Listopad 2021'!F:F,$C$3)+COUNTIFS('Prosinec 2021'!H:H,A17,'Prosinec 2021'!F:F,$C$3)+COUNTIFS('Leden 2022'!H:H,A17,'Leden 2022'!F:F,$C$3)+COUNTIFS('Únor 2022'!H:H,A17,'Únor 2022'!F:F,$C$3)+COUNTIFS('Březen 2022'!H:H,A17,'Březen 2022'!F:F,$C$3)+COUNTIFS('Duben 2022'!H:H,A17,'Duben 2022'!F:F,$C$3)+COUNTIFS('Květen 2022'!H:H,A17,'Květen 2022'!F:F,$C$3)+COUNTIFS('Červen 2022'!H:H,A17,'Červen 2022'!F:F,$C$3)+COUNTIFS('Červenec 2022'!H:H,A17,'Červenec 2022'!F:F,$C$3)+COUNTIFS('Srpen 2022'!H:H,A17,'Srpen 2022'!F:F,$C$3)+COUNTIFS('Září 2022'!H:H,A17,'Září 2022'!F:F,$C$3)+COUNTIFS('Říjen 2022'!H:H,A17,'Říjen 2022'!F:F,$C$3)+COUNTIFS('Listopad 2022'!H:H,A17,'Listopad 2022'!F:F,$C$3)+COUNTIFS('Prosinec 2022'!H:H,A17,'Prosinec 2022'!F:F,$C$3)+COUNTIFS('Leden 2023'!H:H,A17,'Leden 2023'!F:F,$C$3)+COUNTIFS('Únor 2023'!H:H,A17,'Únor 2023'!F:F,$C$3)+COUNTIFS('Březen 2023'!H:H,A17,'Březen 2023'!F:F,$C$3) -> 25 | D17: =COUNTIFS('Říjen 2021'!H:H,A17,'Říjen 2021'!F:F,$D$3)+COUNTIFS('Listopad 2021'!H:H,A17,'Listopad 2021'!F:F,$D$3)+COUNTIFS('Prosinec 2021'!H:H,A17,'Prosinec 2021'!F:F,$D$3)+COUNTIFS('Leden 2022'!H:H,A17,'Leden 2022'!F:F,$D$3)+COUNTIFS('Únor 2022'!H:H,A17,'Únor 2022'!F:F,$D$3)+COUNTIFS('Březen 2022'!H:H,A17,'Březen 2022'!F:F,$D$3)+COUNTIFS('Duben 2022'!H:H,A17,'Duben 2022'!F:F,$D$3)+COUNTIFS('Květen 2022'!H:H,A17,'Květen 2022'!F:F,$D$3)+COUNTIFS('Červen 2022'!H:H,A17,'Červen 2022'!F:F,$D$3)+COUNTIFS('Červenec 2022'!H:H,A17,'Červenec 2022'!F:F,$D$3)+COUNTIFS('Srpen 2022'!H:H,A17,'Srpen 2022'!F:F,$D$3)+COUNTIFS('Září 2022'!H:H,A17,'Září 2022'!F:F,$D$3)+COUNTIFS('Říjen 2022'!H:H,A17,'Říjen 2022'!F:F,$D$3)+COUNTIFS('Listopad 2022'!H:H,A17,'Listopad 2022'!F:F,$D$3)+COUNTIFS('Prosinec 2022'!H:H,A17,'Prosinec 2022'!F:F,$D$3)+COUNTIFS('Leden 2023'!H:H,A17,'Leden 2023'!F:F,$D$3)+COUNTIFS('Únor 2023'!H:H,A17,'Únor 2023'!F:F,$D$3)+COUNTIFS('Březen 2023'!H:H,A17,'Březen 2023'!F:F,$D$3) -> 0 | E17: =COUNTIF('Říjen 2021'!H:H,A17)+COUNTIF('Listopad 2021'!H:H,A17)+COUNTIF('Prosinec 2021'!H:H,A17)+COUNTIF('Leden 2022'!H:H,A17)+COUNTIF('Únor 2022'!H:H,A17)+COUNTIF('Březen 2022'!H:H,A17)+COUNTIF('Duben 2022'!H:H,A17)+COUNTIF('Květen 2022'!H:H,A17)+COUNTIF('Červen 2022'!H:H,A17)+COUNTIF('Červenec 2022'!H:H,A17)+COUNTIF('Srpen 2022'!H:H,A17)+COUNTIF('Září 2022'!H:H,A17)+COUNTIF('Říjen 2022'!H:H,A17)+COUNTIF('Listopad 2022'!H:H,A17)+COUNTIF('Prosinec 2022'!H:H,A17)+COUNTIF('Leden 2023'!H:H,A17)+COUNTIF('Únor 2023'!H:H,A17)+COUNTIF('Březen 2023'!H:H,A17) -> 54
A18: Klidné pobřeží 2 | B18: =COUNTIFS('Říjen 2021'!H:H,A18,'Říjen 2021'!F:F,$B$3)+COUNTIFS('Listopad 2021'!H:H,A18,'Listopad 2021'!F:F,$B$3)+COUNTIFS('Prosinec 2021'!H:H,A18,'Prosinec 2021'!F:F,$B$3)+COUNTIFS('Leden 2022'!H:H,A18,'Leden 2022'!F:F,$B$3)+COUNTIFS('Únor 2022'!H:H,A18,'Únor 2022'!F:F,$B$3)+COUNTIFS('Březen 2022'!H:H,A18,'Březen 2022'!F:F,$B$3)+COUNTIFS('Duben 2022'!H:H,A18,'Duben 2022'!F:F,$B$3)+COUNTIFS('Květen 2022'!H:H,A18,'Květen 2022'!F:F,$B$3)+COUNTIFS('Červen 2022'!H:H,A18,'Červen 2022'!F:F,$B$3)+COUNTIFS('Červenec 2022'!H:H,A18,'Červenec 2022'!F:F,$B$3)+COUNTIFS('Srpen 2022'!H:H,A18,'Srpen 2022'!F:F,$B$3)+COUNTIFS('Září 2022'!H:H,A18,'Září 2022'!F:F,$B$3)+COUNTIFS('Říjen 2022'!H:H,A18,'Říjen 2022'!F:F,$B$3)+COUNTIFS('Listopad 2022'!H:H,A18,'Listopad 2022'!F:F,$B$3)+COUNTIFS('Prosinec 2022'!H:H,A18,'Prosinec 2022'!F:F,$B$3)+COUNTIFS('Leden 2023'!H:H,A18,'Leden 2023'!F:F,$B$3)+COUNTIFS('Únor 2023'!H:H,A18,'Únor 2023'!F:F,$B$3)+COUNTIFS('Březen 2023'!H:H,A18,'Březen 2023'!F:F,$B$3) -> 28 | C18: =COUNTIFS('Říjen 2021'!H:H,A18,'Říjen 2021'!F:F,$C$3)+COUNTIFS('Listopad 2021'!H:H,A18,'Listopad 2021'!F:F,$C$3)+COUNTIFS('Prosinec 2021'!H:H,A18,'Prosinec 2021'!F:F,$C$3)+COUNTIFS('Leden 2022'!H:H,A18,'Leden 2022'!F:F,$C$3)+COUNTIFS('Únor 2022'!H:H,A18,'Únor 2022'!F:F,$C$3)+COUNTIFS('Březen 2022'!H:H,A18,'Březen 2022'!F:F,$C$3)+COUNTIFS('Duben 2022'!H:H,A18,'Duben 2022'!F:F,$C$3)+COUNTIFS('Květen 2022'!H:H,A18,'Květen 2022'!F:F,$C$3)+COUNTIFS('Červen 2022'!H:H,A18,'Červen 2022'!F:F,$C$3)+COUNTIFS('Červenec 2022'!H:H,A18,'Červenec 2022'!F:F,$C$3)+COUNTIFS('Srpen 2022'!H:H,A18,'Srpen 2022'!F:F,$C$3)+COUNTIFS('Září 2022'!H:H,A18,'Září 2022'!F:F,$C$3)+COUNTIFS('Říjen 2022'!H:H,A18,'Říjen 2022'!F:F,$C$3)+COUNTIFS('Listopad 2022'!H:H,A18,'Listopad 2022'!F:F,$C$3)+COUNTIFS('Prosinec 2022'!H:H,A18,'Prosinec 2022'!F:F,$C$3)+COUNTIFS('Leden 2023'!H:H,A18,'Leden 2023'!F:F,$C$3)+COUNTIFS('Únor 2023'!H:H,A18,'Únor 2023'!F:F,$C$3)+COUNTIFS('Březen 2023'!H:H,A18,'Březen 2023'!F:F,$C$3) -> 29 | D18: =COUNTIFS('Říjen 2021'!H:H,A18,'Říjen 2021'!F:F,$D$3)+COUNTIFS('Listopad 2021'!H:H,A18,'Listopad 2021'!F:F,$D$3)+COUNTIFS('Prosinec 2021'!H:H,A18,'Prosinec 2021'!F:F,$D$3)+COUNTIFS('Leden 2022'!H:H,A18,'Leden 2022'!F:F,$D$3)+COUNTIFS('Únor 2022'!H:H,A18,'Únor 2022'!F:F,$D$3)+COUNTIFS('Březen 2022'!H:H,A18,'Březen 2022'!F:F,$D$3)+COUNTIFS('Duben 2022'!H:H,A18,'Duben 2022'!F:F,$D$3)+COUNTIFS('Květen 2022'!H:H,A18,'Květen 2022'!F:F,$D$3)+COUNTIFS('Červen 2022'!H:H,A18,'Červen 2022'!F:F,$D$3)+COUNTIFS('Červenec 2022'!H:H,A18,'Červenec 2022'!F:F,$D$3)+COUNTIFS('Srpen 2022'!H:H,A18,'Srpen 2022'!F:F,$D$3)+COUNTIFS('Září 2022'!H:H,A18,'Září 2022'!F:F,$D$3)+COUNTIFS('Říjen 2022'!H:H,A18,'Říjen 2022'!F:F,$D$3)+COUNTIFS('Listopad 2022'!H:H,A18,'Listopad 2022'!F:F,$D$3)+COUNTIFS('Prosinec 2022'!H:H,A18,'Prosinec 2022'!F:F,$D$3)+COUNTIFS('Leden 2023'!H:H,A18,'Leden 2023'!F:F,$D$3)+COUNTIFS('Únor 2023'!H:H,A18,'Únor 2023'!F:F,$D$3)+COUNTIFS('Březen 2023'!H:H,A18,'Březen 2023'!F:F,$D$3) -> 0 | E18: =COUNTIF('Říjen 2021'!H:H,A18)+COUNTIF('Listopad 2021'!H:H,A18)+COUNTIF('Prosinec 2021'!H:H,A18)+COUNTIF('Leden 2022'!H:H,A18)+COUNTIF('Únor 2022'!H:H,A18)+COUNTIF('Březen 2022'!H:H,A18)+COUNTIF('Duben 2022'!H:H,A18)+COUNTIF('Květen 2022'!H:H,A18)+COUNTIF('Červen 2022'!H:H,A18)+COUNTIF('Červenec 2022'!H:H,A18)+COUNTIF('Srpen 2022'!H:H,A18)+COUNTIF('Září 2022'!H:H,A18)+COUNTIF('Říjen 2022'!H:H,A18)+COUNTIF('Listopad 2022'!H:H,A18)+COUNTIF('Prosinec 2022'!H:H,A18)+COUNTIF('Leden 2023'!H:H,A18)+COUNTIF('Únor 2023'!H:H,A18)+COUNTIF('Březen 2023'!H:H,A18) -> 57
